{"text_format":"1","workbook":"xlsx","n_sheets":20,"sheets":["data","chart_titles","Monthly_pcp_cht","Monthly_temp_cht","WY_pcp_cht","WY_temp_cht ","Oct-Mar_pcp_cht ","Oct-Mar_temp_cht","O-M pcp v SOI cht","O-M temp v SOI cht","O-M pcp v PDO cht ","O-M temp v PDO cht","Winter_pcp_cht","Winter_temp_cht ","Spring_pcp_cht ","Spring_temp_cht ","Summer pcp_cht","Summer_temp_cht ","Fall pcp_cht","Fall_temp_cht"],"not_rendered":{"charts":36,"images":0,"macros":1,"external_links":0,"defined_names":0,"comments":0,"pivot_tables":0},"unopened":[{"sheet":"Monthly_pcp_cht","index":2,"reason":"not_a_worksheet"},{"sheet":"Monthly_temp_cht","index":3,"reason":"not_a_worksheet"},{"sheet":"WY_pcp_cht","index":4,"reason":"not_a_worksheet"},{"sheet":"WY_temp_cht ","index":5,"reason":"not_a_worksheet"},{"sheet":"Oct-Mar_pcp_cht ","index":6,"reason":"not_a_worksheet"},{"sheet":"Oct-Mar_temp_cht","index":7,"reason":"not_a_worksheet"},{"sheet":"O-M pcp v SOI cht","index":8,"reason":"not_a_worksheet"},{"sheet":"O-M temp v SOI cht","index":9,"reason":"not_a_worksheet"},{"sheet":"O-M pcp v PDO cht ","index":10,"reason":"not_a_worksheet"},{"sheet":"O-M temp v PDO cht","index":11,"reason":"not_a_worksheet"},{"sheet":"Winter_pcp_cht","index":12,"reason":"not_a_worksheet"},{"sheet":"Winter_temp_cht ","index":13,"reason":"not_a_worksheet"},{"sheet":"Spring_pcp_cht ","index":14,"reason":"not_a_worksheet"},{"sheet":"Spring_temp_cht ","index":15,"reason":"not_a_worksheet"},{"sheet":"Summer pcp_cht","index":16,"reason":"not_a_worksheet"},{"sheet":"Summer_temp_cht ","index":17,"reason":"not_a_worksheet"},{"sheet":"Fall pcp_cht","index":18,"reason":"not_a_worksheet"},{"sheet":"Fall_temp_cht","index":19,"reason":"not_a_worksheet"}],"bounds":{"document_bytes":16777216,"sheet_cells":100000,"rows_first":2000,"rows_last":500,"rows_between":2000,"halvings":0,"cell_chars":16384,"cell_head_chars":4096},"cells_cut":0,"cells_raw":0,"read":"whole","date_system":"1900"}

{"sheet":"data","index":0,"n_rows":1052,"n_cols":104,"rows_kept":1052,"cut":false,"hidden":false,"merged":[]}
["Inset chart title here in cell G4 (format station number and name)",null,null,null,null,null,"USHCN STATION: WINTHROP 1 WSW, WA (459376)",null,null,null,null,null,null,null,null,null,null,null,null,null,null,null,null,null,null,null,null,null,null,null,null,null,null,null,null,null,null,null,null,null,null,null,null,"1981-2010 slope",{"$f":"SLOPE(AS61:AS90,$AR$61:$AR$90)","v":3.8703239346559389E-5},null,{"$f":"SLOPE(AU61:AU90,$AR$61:$AR$90)","v":1.3876536357971091E-4},{"$f":"SLOPE(AV61:AV90,$AR$61:$AR$90)","v":1.8096989473243973E-4},{"$f":"SLOPE(AW61:AW90,$AR$61:$AR$90)","v":2.2481889793223361E-4},{"$f":"SLOPE(AX61:AX90,$AR$61:$AR$90)","v":-2.9740842046634117E-5},null,{"$f":"SLOPE(AZ61:AZ90,$AR$61:$AR$90)","v":-1.3193340359117346E-4},{"$f":"SLOPE(BA61:BA90,$AR$61:$AR$90)","v":-2.4227004823626504E-5},{"$f":"SLOPE(BB61:BB90,$AR$61:$AR$90)","v":8.3824657513003912E-5},{"$f":"SLOPE(BC61:BC90,$AR$61:$AR$90)","v":-4.4011740929413082E-5},null,{"$f":"SLOPE(BE61:BE90,$AR$61:$AR$90)","v":6.0701136831316982E-5},{"$f":"SLOPE(BF61:BF90,$AR$61:$AR$90)","v":1.2861529873514581E-4},{"$f":"SLOPE(BG61:BG90,$AR$61:$AR$90)","v":2.0195031990849775E-4},{"$f":"SLOPE(BH61:BH90,$AR$61:$AR$90)","v":-2.3320223713525319E-5},null,{"$f":"SLOPE(BJ61:BJ90,$AR$61:$AR$90)","v":7.3051114159702635E-5},{"$f":"SLOPE(BK61:BK90,$AR$61:$AR$90)","v":1.5146166432949978E-4},{"$f":"SLOPE(BL61:BL90,$AR$61:$AR$90)","v":2.3050183718686582E-4},{"$f":"SLOPE(BM61:BM90,$AR$61:$AR$90)","v":-2.3634406186894698E-5},null,{"$f":"SLOPE(BO61:BO90,$AR$61:$AR$90)","v":2.5735818553125204E-5},{"$f":"SLOPE(BP61:BP90,$AR$61:$AR$90)","v":1.0432794810685449E-4},{"$f":"SLOPE(BQ61:BQ90,$AR$61:$AR$90)","v":1.8498084191102796E-4},{"$f":"SLOPE(BR61:BR90,$AR$61:$AR$90)","v":2.5395113646037744E-5},null,{"$f":"SLOPE(BT61:BT90,$AR$61:$AR$90)","v":2.7014323779546867E-5},{"$f":"SLOPE(BU61:BU90,$AR$61:$AR$90)","v":9.6520163373553649E-5},{"$f":"SLOPE(BV61:BV90,$AR$61:$AR$90)","v":1.6759942229277737E-4},null,null,"1981-2010 mean annual pcp",null,null,{"$f":"AVERAGE(BM61:BM90)","v":14.463666666666667},null,null,null,null,null,null,"SOI Jun-Nov standardized values ",null,"PDO Oct-Mar avg standardized values"]
["Insert data (copy and paste from web site download) starting at cell A4 (cell A3 if you have the Source line in the copy selection too) ",null,null,null,null,null,null,null,null,null,null,null,null,null,null,null,null,null,null,null,null,null,null,null,null,null,null,null,null,null,null,null,null,null,null,null,null,null,"based on",null,null,null,null,"30-yr total change",{"$f":"ROUND((30*365*AS1)/($AR$61*AS1+INTERCEPT(AS61:AS90,$AR$61:$AR$90))*100,1)","v":7.7},null,{"$f":"ROUND((30*365*AU1),2)","v":1.52},{"$f":"ROUND((30*365*AV1),2)","v":1.98},{"$f":"ROUND((30*365*AW1),2)","v":2.46},{"$f":"ROUND((30*365*AX1)/($AR$61*AX1+INTERCEPT(AX61:AX90,$AR$61:$AR$90))*100,1)","v":-10.7},null,{"$f":"ROUND((30*365*AZ1),2)","v":-1.44},{"$f":"ROUND((30*365*BA1),2)","v":-0.27},{"$f":"ROUND((30*365*BB1),2)","v":0.92},{"$f":"ROUND((30*365*BC1)/($AR$61*BC1+INTERCEPT(BC61:BC90,$AR$61:$AR$90))*100,1)","v":-18.3},null,{"$f":"ROUND((30*365*BE1),2)","v":0.66},{"$f":"ROUND((30*365*BF1),2)","v":1.41},{"$f":"ROUND((30*365*BG1),2)","v":2.21},{"$f":"ROUND((30*365*BH1)/($AR$61*BH1+INTERCEPT(BH61:BH90,$AR$61:$AR$90))*100,1)","v":-7},null,{"$f":"ROUND((30*365*BJ1),2)","v":0.8},{"$f":"ROUND((30*365*BK1),2)","v":1.66},{"$f":"ROUND((30*365*BL1),2)","v":2.52},{"$f":"ROUND((30*365*BM1)/($AR$61*BM1+INTERCEPT(BM61:BM90,$AR$61:$AR$90))*100,1)","v":-1.8},null,{"$f":"ROUND((30*365*BO1),2)","v":0.28000000000000003},{"$f":"ROUND((30*365*BP1),2)","v":1.1399999999999999},{"$f":"ROUND((30*365*BQ1),2)","v":2.0299999999999998},{"$f":"ROUND((30*365*BR1)/($AR$61*BR1+INTERCEPT(BR61:BR90,$AR$61:$AR$90))*100,1)","v":2.9},null,{"$f":"ROUND((30*365*BT1),2)","v":0.3},{"$f":"ROUND((30*365*BU1),2)","v":1.06},{"$f":"ROUND((30*365*BV1),2)","v":1.84},null,null,"1981-2010 mean annual avg temp",null,null,{"$f":"AVERAGE(BP61:BP90)","v":45.112500000000004},null,null,null,null,null,null,"http://www.cpc.noaa.gov/data/indices/soi",null,"http://jisao.washington.edu/pdo/PDO.latest"]
["Source: MJ Menne CN Williams Jr. RS Vose NOAA National Climatic Data Center Asheville NC",null,null,null,null,null,null,null,"macro is \"Control w\"",null,null,null,"Winter",null,null,null,null,"Spring",null,null,null,null,"Summer",null,null,null,null,"Fall",null,null,null,null,"Hydrologic Year",null,null,null,null,null,"1952-2009 avg",null,null,null,null,null,"Total Winter Pcp",null,"Average Winter Max T ","Average Winter Mean T ","Average Winter Min T","Total Spring Pcp",null,"Average Spring Max T  ","Average Spring Mean T  ","Average Spring Min T  ","Total Summer Pcp",null,"Average Summer Max T","Average Summer Mean T","Average Summer Min T","Total Fall Pcp",null,"Average Fall Max T","Average Fall Mean T","Average Fall Min T","Hydrologic Year",null,"Average WY Max T","Average WY Mean T","Average WY Min T","Cool Season Pcp","Cool Season Temps",null,null,null,null,null,null,null,null,null,null,null,null,null,null,null,"base period 81-10","SOI",null,"PDO",null,null,null,null,"Hydrologic Year",null,"Average WY Max","Average WY Mean","Average WY Min","Cool Season Pcp","Cool Season Temps"]
["State_id  ","YEAR  ","Month  ","PRECIP (in)","TMAX (F)","TMEAN (F)","TMIN (F) ",null,"Station info",null,null,"Year","D-F pcp (in)","D-F pcp (%)","D-F max T (F)","D-F avg T (F)","D-F min T (F)","M-M pcp (in)","M-M pcp (%)","M-M max T (F)","M-M avg T (F)","M-M min T (F)","J-A pcp (in)","J-A pcp (%)","J-A max T (F)","J-A avg T (F)","J-A min T (F)","S-N pcp (in)","S-N pcp (%)","S-N max T (F)","S-N avg T (F)","S-N min T (F)","WY Total Pcp (in)","WY pcp (%)","WY max T (F)","WY avg T (F)","WY min T (F)","Oct-Mar pcp (in)","Oct-Mar pcp (%)","Oct-Mar max T (F)","Oct-Mar avg T (F)","Oct-Mar min T (F)",null,"Year","D-F pcp (in)","D-F pcp (%)","D-F max T (F)","D-F avg T (F)","D-F min T (F)","M-M pcp (in)","M-M pcp (%)","M-M max T (F)","M-M avg T (F)","M-M min T (F)","J-A pcp (in)","J-A pcp (%)","J-A max T (F)","J-A avg T (F)","J-A min T (F)","S-N pcp (in)","S-N pcp (%)","S-N max T (F)","S-N avg T (F)","S-N min T (F)","WY Total Pcp (in)","WY pcp (%)","WY max T (F)","WY avg T (F)","WY min T (F)","Oct-Mar pcp (in)","Oct-Mar pcp (%)","Oct-Mar max T (F)","Oct-Mar avg T (F)","Oct-Mar min T (F)",null,"Year","Month","Pcp","Tavg","Pcp mean","Tavg mean",null,"Month","Pcp mean","Tavg mean",null,"SOI Year","Jun-Nov ","O-M PDO Year","Oct-Mar avg PDO","O-M Temp/Pcp Year","Oct-Mar pcp (%)","Oct-Mar avg temp (F)",null,"WY Total Pcp (in)","WY pcp (%)","WY max T (F)","WY avg T (F)","WY min T (F)","Oct-Mar pcp (in)","Oct-Mar pcp (%)","Oct-Mar max T (F)","Oct-Mar avg T (F)","Oct-Mar min T (F)"]
["'459376'",1924,1,1.29,24.6,13,1.4,null,"Latitute",48.453899999999997,null,"1924-01-01",null,null,null,null,null,null,null,null,null,null,null,null,null,null,null,null,null,null,null,null,null,null,null,null,null,null,null,null,null,null,null,"1925-01-01",5.07,0.87707230677348247,31.666666666666668,21.033333333333335,10.366666666666667,1.1599999999999999,0.46593028259934022,63.766666666666673,47.766666666666673,31.733333333333331,0.95000000000000007,0.42831839407439193,85.3,66.099999999999994,46.833333333333336,2.87,0.86198512585812392,60.1,45,29.833333333333332,11.12,0.80487363532179279,59.550000000000004,44.65,29.708333333333332,8.6999999999999993,0.88905333262857411,40.85,29.316666666666663,17.733333333333334,null,1981,1,1.0900000000000001,30,{"$f":"AVERAGE(BZ5:BZ34)","v":1.992},{"$f":"AVERAGE(CA5:CA34)","v":22.083333333333332},null,1,{"$f":"CB5","v":1.992},{"$f":"CC5","v":22.083333333333332},null,1951,-0.65,"1952-01-01",-0.89666666666666661,"1952-01-01",1.1200028190355371,27.433333333333334]
["'459376'",1924,2,1.48,40.5,30.1,19.7,null,"Longitude",-120.1936,null,"1924-02-01",null,null,null,null,null,null,null,null,null,null,null,null,null,null,null,null,null,null,null,null,null,null,null,null,null,null,null,null,null,null,null,"1926-01-01",3.96,0.68505055913668444,35.9,27.933333333333337,19.933333333333334,0.59,0.23698178166690578,67.099999999999994,49,30.833333333333332,0.61,0.27502549514250424,87.2,67.63333333333334,47.966666666666669,3.7800000000000002,1.1352974828375291,58.533333333333331,44.93333333333333,31.3,8.7899999999999991,0.6362265516617408,61.974999999999994,46.891666666666659,31.733333333333338,6.59,0.67343235195658657,45.6,34.099999999999994,22.533333333333335,null,1982,1,2.29,18.8,null,null,null,2,{"$f":"CB35","v":1.3139999999999996},{"$f":"CC35","v":27.95},null,1952,0.25,"1953-01-01",-0.47166666666666668,"1953-01-01",0.88700953186391074,34.166666666666664]
["'459376'",1924,3,7.0000000000000007E-2,51.3,37.9,24.5,null,"Elevation (m)",534.9,null,"1924-03-01",null,null,null,null,null,null,null,null,null,null,null,null,null,null,null,null,null,null,null,null,null,null,null,null,null,null,null,null,null,null,null,"1927-01-01",4.2200000000000006,0.73002862615070929,32.199999999999996,21.666666666666668,11.033333333333333,2.09,0.83947783675225951,58.300000000000004,43.4,28.400000000000002,1.87,0.8431109441253819,84,65.5,46.966666666666669,5.5200000000000005,1.657894736842106,55.566666666666663,42.733333333333327,29.833333333333332,11.97,0.86639724953254138,58.316666666666663,44.074999999999996,29.775000000000002,7.5600000000000005,0.77255668904276098,42.133333333333333,30.566666666666666,18.933333333333334,null,1983,1,4.32,27,null,null,null,3,{"$f":"CB65","v":1.0290000000000001},{"$f":"CC65","v":38.176666666666669},null,1953,-0.41666666666666657,"1954-01-01",-0.75,"1954-01-01",0.86554962383494527,31.316666666666666]
["'459376'",1924,4,0.11,61.3,44.2,27.1,null,"ft",{"$f":"CONVERT(J7,\"m\",\"ft\")","v":1754.9212598425197},null,"1924-04-01",null,null,null,null,null,null,null,null,null,null,null,null,null,null,null,null,null,null,null,null,null,null,null,null,null,null,null,null,null,null,null,"1928-01-01",2.0099999999999998,0.34771505653149887,32.5,22.033333333333331,11.5,2.06,0.82742791565055251,62.633333333333333,46.800000000000004,30.933333333333334,2.66,1.1992915034082974,84.166666666666671,66.400000000000006,48.6,1.29,0.38744279176201385,60.79999999999999,45.266666666666673,29.7,11.17,0.80849267145183679,59.458333333333336,44.800000000000004,30.083333333333332,6.84,0.69897986151487901,41.383333333333333,29.866666666666664,18.283333333333331,null,1984,1,0.95,20.8,null,null,null,4,{"$f":"CB95","v":0.75600000000000012},{"$f":"CC95","v":46.5},null,1954,0.3666666666666667,"1955-01-01",-0.3066666666666667,"1955-01-01",0.91357894180453469,28.666666666666668]
["'459376'",1924,5,0.03,78.7,58.5,38.200000000000003,null,null,null,null,"1924-05-01",null,null,null,null,null,null,null,null,null,null,null,null,null,null,null,null,null,null,null,null,null,null,null,null,null,null,null,null,null,null,null,"1929-01-01",2.89,0.49994851411742885,24.633333333333336,13.366666666666667,2.0666666666666664,1.5100000000000002,0.60651269545258957,61.366666666666667,45.733333333333327,30.066666666666663,1.76,0.7935161827062418,84.36666666666666,65,45.6,0.46,0.13815789473684215,61.199999999999996,44.033333333333331,26.833333333333332,7.4700000000000006,0.54068399782857846,57.458333333333336,42.133333333333326,26.775000000000002,4.4500000000000011,0.45474567013760414,38.766666666666666,26.349999999999998,13.916666666666666,null,1985,1,0.39,18.3,null,null,null,5,{"$f":"CB125","v":1.0949999999999998},{"$f":"CC125","v":54.480000000000004},null,1955,1.4000000000000001,"1956-01-01",-2.7349999999999999,"1956-01-01",1.404091125323748,23.950000000000003]
["'459376'",1924,6,0.56000000000000005,78.8,61.7,44.6,null,null,null,null,"1924-06-01",null,null,null,null,null,null,null,null,null,null,null,null,null,null,null,null,null,null,null,null,null,null,null,null,null,null,null,null,null,null,null,"1930-01-01",4.12,0.71272936960685351,28.766666666666669,16.866666666666667,4.8999999999999995,1.47,0.59044613398364665,64,47.233333333333327,30.400000000000002,2.98,1.3435671729912504,84.766666666666666,65.733333333333334,46.699999999999996,2.08,0.62471395881006886,57.933333333333337,44,29.966666666666669,10.08,0.72959768381687695,59.841666666666669,43.691666666666663,27.500000000000004,4.9700000000000006,0.50788449001885216,41.85,27.75,13.616666666666669,null,1986,1,2.39,24.1,null,null,null,6,{"$f":"CB155","v":1.1496666666666668},{"$f":"CC155","v":61.003333333333337},null,1956,0.91666666666666685,"1957-01-01",-1.3600000000000003,"1957-01-01",0.91051324065753969,25.916666666666668]
["'459376'",1924,7,0.1,88.3,69.400000000000006,50.5,null,null,null,null,"1924-07-01",null,null,null,null,null,null,null,null,null,null,null,null,null,null,null,null,null,null,null,null,null,null,null,null,null,null,null,null,null,null,null,"1931-01-01",3.04,0.5258973989332123,33.1,24.3,15.466666666666667,0.74999999999999989,0.30124802754267682,63.699999999999996,47.366666666666667,31,1.2799999999999998,0.57710267833181217,85.13333333333334,66.733333333333334,48.333333333333336,1.76,0.5286041189931352,58.166666666666664,45.466666666666669,32.699999999999996,6.8100000000000005,0.49291272091199723,59.599999999999994,45.633333333333333,31.625,4.62,0.47211797663724281,41.533333333333331,30.916666666666668,20.249999999999996,null,1987,1,2.13,20.399999999999999,null,null,null,7,{"$f":"CB185","v":0.7260000000000002},{"$f":"CC185","v":67.356666666666669},null,1957,-0.33333333333333331,"1958-01-01",0.29166666666666669,"1958-01-01",1.156791232799478,33.083333333333329]
["'459376'",1924,8,0.55000000000000004,84.2,66.5,48.7,null,null,null,null,"1924-08-01",null,null,null,null,null,null,null,null,null,null,null,null,null,null,null,null,null,null,null,null,null,null,null,null,null,null,null,null,null,null,null,"1932-01-01",6.05,1.0466050209032678,29.233333333333331,19.866666666666667,10.4,1.67,0.67077894132836047,61,47,32.93333333333333,0.3,0.13525844023401848,83.466666666666654,65.933333333333337,48.333333333333336,3.6799999999999997,1.1052631578947372,59.099999999999994,45.733333333333327,32.300000000000004,9.19,0.6651788407020931,58.524999999999999,44.591666666666669,30.591666666666669,7.9,0.80730130204203865,40.199999999999996,29.350000000000005,18.416666666666668,null,1988,1,0.91,17.2,null,null,null,8,{"$f":"CB215","v":0.52233333333333332},{"$f":"CC215","v":66.696666666666658},null,1958,0.16666666666666666,"1959-01-01",0,"1959-01-01",1.4602956463519912,28.533333333333331]
["'459376'",1924,9,0.46,76.400000000000006,57.8,39.200000000000003,null,null,null,null,"1924-09-01",null,null,null,null,null,null,null,null,null,null,null,null,null,null,null,null,null,null,null,null,null,null,null,null,null,null,null,null,null,null,null,"1933-01-01",3.3099999999999996,0.57260539160162249,30.666666666666668,19.766666666666666,8.7666666666666657,2.68,1.0764596184191655,58.066666666666663,44.199999999999996,30.3,0.8,0.36068917395738265,85.433333333333323,65.899999999999991,46.333333333333336,3.3999999999999995,1.02116704805492,57.633333333333326,44.699999999999996,31.7,10.920000000000002,0.79039749080161681,57.341666666666669,43.316666666666663,29.225000000000005,8.18,0.83591451274732598,39.866666666666667,28.966666666666669,17.966666666666669,null,1989,1,0.63,21.4,null,null,null,9,{"$f":"CB245","v":0.43166666666666659},{"$f":"CC245","v":58.116666666666674},null,1959,0.15,"1960-01-01",0.38333333333333336,"1960-01-01",0.98817766971474863,28.966666666666669]
["'459376'",1924,10,1.1499999999999999,58.6,44.8,30.9,null,null,null,null,"1924-10-01",null,null,null,null,null,null,null,null,null,null,null,null,null,null,null,null,null,null,null,null,null,null,null,null,null,null,null,null,null,null,null,"1934-01-01",7.66,1.3251230512593442,36.133333333333333,27,17.766666666666666,1.83,0.73504518720413159,67.36666666666666,50.066666666666663,32.733333333333327,0.71,0.32011164188717706,85.033333333333331,66.399999999999991,47.733333333333327,6.6999999999999993,2.0122997711670485,57.6,45.833333333333336,34.06666666666667,13.74,0.99451112853610013,61.599999999999994,47.116666666666667,32.583333333333336,11.53,1.1782511408284435,45,33.900000000000006,22.733333333333334,null,1990,1,3.41,25,null,null,null,10,{"$f":"CB275","v":1.0743333333333331},{"$f":"CC275","v":46.01},null,1960,0.44999999999999996,"1961-01-01",0.28833333333333333,"1961-01-01",0.98919957009708015,30.05]
["'459376'",1924,11,2.48,38.9,28.9,18.899999999999999,null,null,null,null,"1924-11-01",null,null,null,null,null,null,null,null,null,null,null,null,null,null,null,null,null,null,null,null,null,null,null,null,null,null,null,null,null,null,null,"1935-01-01",4.38,0.75770743662087825,32.1,22.966666666666669,13.766666666666666,1.1600000000000001,0.46593028259934027,59.166666666666664,43.5,27.833333333333332,0.77,0.3471633299339808,82.066666666666663,63.933333333333337,45.733333333333327,1.1600000000000001,0.34839816933638462,58.733333333333327,44.233333333333327,29.700000000000003,12.459999999999999,0.90186380360697282,58.716666666666661,44.666666666666664,30.574999999999999,11.27,1.1516817308878196,41.233333333333327,31.066666666666663,20.866666666666664,null,1991,1,0.9,19.600000000000001,null,null,null,11,{"$f":"CB305","v":2.0336666666666665},{"$f":"CC305","v":32.033333333333331},null,1961,0.13333333333333333,"1962-01-01",-1.78,"1962-01-01",0.64073153972197239,27.599999999999998]
["'459376'",1924,12,1.34,24.9,14.5,4.0999999999999996,null,null,null,null,"1924-12-01",null,null,null,null,null,null,null,null,null,null,null,null,null,null,null,null,null,null,null,null,null,null,null,null,null,null,null,null,null,null,null,"1936-01-01",5.14,0.88918178635418132,25.899999999999995,15.733333333333334,5.5666666666666673,1.77,0.71094534500071738,62.633333333333333,46.833333333333336,30.933333333333334,4.9600000000000009,2.2362728785357726,83.7,65.7,47.699999999999996,0.82,0.2462814645308925,61.766666666666673,45.6,29.366666666666664,13.450000000000001,0.97352071898184478,57.449999999999996,42.841666666666669,28.200000000000003,6.34,0.64788484239829425,36.783333333333339,25.483333333333334,14.166666666666666,null,1992,1,1.45,24.9,null,null,null,12,{"$f":"CB335","v":2.3736666666666668},{"$f":"CC335","v":20.933333333333334},null,1962,0.51666666666666661,"1963-01-01",-0.65166666666666673,"1963-01-01",0.7541624821607904,32.666666666666671]
["'459376'",1925,1,2.4500000000000002,29.4,18,6.5,null,null,null,null,"1925-01-01",{"$f":"SUM($D16:$D18)","v":5.07},{"$f":"M17/M$1052","v":0.87707230677348247},{"$f":"AVERAGE($E16:$E18)","v":31.666666666666668},{"$f":"AVERAGE($F16:$F18)","v":21.033333333333335},{"$f":"AVERAGE($G16:$G18)","v":10.366666666666667},{"$f":"SUM($D19:$D21)","v":1.1599999999999999},{"$f":"R17/R$1052","v":0.46593028259934022},{"$f":"AVERAGE($E19:$E21)","v":63.766666666666673},{"$f":"AVERAGE($F19:$F21)","v":47.766666666666673},{"$f":"AVERAGE($G19:$G21)","v":31.733333333333331},{"$f":"SUM($D22:$D24)","v":0.95000000000000007},{"$f":"W17/W$1052","v":0.42831839407439193},{"$f":"AVERAGE($E22:$E24)","v":85.3},{"$f":"AVERAGE($F22:$F24)","v":66.099999999999994},{"$f":"AVERAGE($G22:$G24)","v":46.833333333333336},{"$f":"SUM($D25:$D27)","v":2.87},{"$f":"AB17/AB$1052","v":0.86198512585812392},{"$f":"AVERAGE($E25:$E27)","v":60.1},{"$f":"AVERAGE($F25:$F27)","v":45},{"$f":"AVERAGE($G25:$G27)","v":29.833333333333332},{"$f":"SUM(D14:D25)","v":11.12},{"$f":"AG17/AG$1052","v":0.80487363532179279},{"$f":"AVERAGE(E14:E25)","v":59.550000000000004},{"$f":"AVERAGE(F14:F25)","v":44.65},{"$f":"AVERAGE(G14:G25)","v":29.708333333333332},{"$f":"SUM(D14:D19)","v":8.6999999999999993},{"$f":"AL17/AL$1052","v":0.88905333262857411},{"$f":"AVERAGE(E14:E19)","v":40.85},{"$f":"AVERAGE(F14:F19)","v":29.316666666666663},{"$f":"AVERAGE(G14:G19)","v":17.733333333333334},null,"1937-01-01",4.5999999999999996,0.79576580101736072,26.400000000000002,15.566666666666668,4.666666666666667,3.76,1.51025677808062,59.733333333333327,45.533333333333339,31.233333333333331,3.47,1.5644892920401472,81.266666666666666,64.633333333333326,47.933333333333337,5.59,1.67891876430206,62.6,48.533333333333339,34.433333333333337,14.200000000000001,1.0278062609325054,57.566666666666663,43.166666666666664,28.700000000000003,6.67,0.68160755501524017,39.9,27.566666666666663,15.166666666666666,null,1993,1,1.22,15.2,null,null,null,null,null,null,null,1963,-0.53333333333333333,"1964-01-01",-0.79166666666666663,"1964-01-01",0.90949134027520806,29.716666666666669]
["'459376'",1925,2,1.28,40.700000000000003,30.6,20.5,null,null,null,null,"1925-02-01",null,null,null,null,null,null,null,null,null,null,null,null,null,null,null,null,null,null,null,null,null,null,null,null,null,null,null,null,null,null,null,"1938-01-01",6.1,1.0552546491751957,32.566666666666663,23.533333333333331,14.466666666666667,1.69,0.67881222206283187,60.79999999999999,46.066666666666663,31.333333333333332,1.75,0.78900756803177452,86.033333333333346,67.100000000000009,48.133333333333326,3.2300000000000004,0.97010869565217439,62.633333333333333,47.966666666666661,33.266666666666673,14.29,1.0343205259665844,60.866666666666674,46.566666666666663,32.241666666666667,10.979999999999999,1.1220466198002004,42.466666666666669,31.966666666666669,21.433333333333334,null,1994,1,1.07,25.7,null,null,null,null,null,null,null,1964,0.95000000000000007,"1965-01-01",-0.84166666666666667,"1965-01-01",0.9575206582447976,29.000000000000004]
["'459376'",1925,3,0,52.6,39.1,25.5,null,null,null,null,"1925-03-01",null,null,null,null,null,null,null,null,null,null,null,null,null,null,null,null,null,null,null,null,null,null,null,null,null,null,null,null,null,null,null,"1939-01-01",2.8,0.4843791832279587,33.033333333333331,22.933333333333334,12.766666666666666,0.88,0.35346435231674084,62.233333333333327,46.766666666666673,31.233333333333331,0.89,0.40126670602758818,84.033333333333331,66.100000000000009,48.1,1.29,0.38744279176201385,62.366666666666674,47.533333333333331,32.633333333333333,6.9399999999999995,0.50232221485011164,60.141666666666673,45.633333333333333,31.058333333333334,5.05,0.51605969307750565,41.916666666666664,30.633333333333336,19.283333333333335,null,1995,1,4.43,21.3,null,null,null,null,null,null,null,1965,-1.1333333333333333,"1966-01-01",-0.505,"1966-01-01",0.76438148598410749,30.500000000000004]
["'459376'",1925,4,0.75,64.2,48,31.8,null,null,null,null,"1925-04-01",null,null,null,null,null,null,null,null,null,null,null,null,null,null,null,null,null,null,null,null,null,null,null,null,null,null,null,null,null,null,null,"1940-01-01",7.07,1.2230574376505958,35.033333333333331,26.633333333333336,18.233333333333334,2.87,1.1527757853966436,63.5,49.1,34.666666666666664,0.3,0.13525844023401848,85.399999999999991,67.266666666666666,49.1,5.1400000000000006,1.5437643020594973,60.400000000000006,47.5,34.533333333333339,12.330000000000002,0.89245430966885853,61.708333333333343,47.9,34.05833333333333,9.06,0.92584174639251515,44.483333333333327,33.9,23.283333333333331,null,1996,1,1.98,18.3,null,null,null,null,null,null,null,1966,0.11666666666666668,"1967-01-01",-0.70333333333333325,"1967-01-01",0.84613351657064306,34.550000000000004]
["'459376'",1925,5,0.41,74.5,56.2,37.9,null,null,null,null,"1925-05-01",null,null,null,null,null,null,null,null,null,null,null,null,null,null,null,null,null,null,null,null,null,null,null,null,null,null,null,null,null,null,null,"1941-01-01",4.8600000000000003,0.84074386803138557,34.733333333333327,26.366666666666664,17.933333333333334,5.35,2.1489025964710948,64.833333333333329,49.800000000000004,34.666666666666664,4.7,2.1190488969996228,82.2,66.13333333333334,50.066666666666663,3.44,1.033180778032037,58.133333333333333,45.866666666666667,33.499999999999993,19.990000000000002,1.4468906447916043,59.5,46.716666666666669,33.875,9.7100000000000009,0.99226527124407538,43.883333333333333,33.616666666666667,23.283333333333331,null,1997,1,2.3199999999999998,19.8,null,null,null,null,null,null,null,1967,0.28333333333333338,"1968-01-01",-0.45833333333333331,"1968-01-01",1.0607325968602987,32]
["'459376'",1925,6,0.76,80,61.8,43.5,null,null,null,null,"1925-06-01",null,null,null,null,null,null,null,null,null,null,null,null,null,null,null,null,null,null,null,null,null,null,null,null,null,null,null,null,null,null,null,"1942-01-01",5.88,1.0171962847787133,32.466666666666669,23.633333333333329,14.766666666666666,4.7300000000000004,1.8998708937024822,60.266666666666673,46.366666666666667,32.366666666666667,2.12,0.95582631098706405,82.433333333333337,65.399999999999991,48.29999999999999,3.52,1.0572082379862704,61.366666666666674,46.199999999999996,30.966666666666665,14.98,1.0842632245611921,59.483333333333341,45.891666666666673,32.225000000000001,8.129999999999999,0.83080501083566749,42.183333333333337,31.833333333333332,21.416666666666668,null,1998,1,4.1900000000000004,22.7,null,null,null,null,null,null,null,1968,0.23333333333333331,"1969-01-01",-0.79333333333333333,"1969-01-01",1.4797117536162934,25.5]
["'459376'",1925,7,0.16,91.3,71.099999999999994,50.9,null,null,null,null,"1925-07-01",null,null,null,null,null,null,null,null,null,null,null,null,null,null,null,null,null,null,null,null,null,null,null,null,null,null,null,null,null,null,null,"1943-01-01",5.34,0.92378029944189266,29.233333333333331,19.266666666666666,9.2666666666666657,2.5300000000000002,1.0162100129106302,58.233333333333327,44,29.733333333333334,2.1799999999999997,0.98287799903386752,80.566666666666663,64,47.4,2.76,0.82894736842105288,62.199999999999996,48.033333333333339,33.833333333333336,13.569999999999999,0.98220640569395024,57.366666666666674,43.358333333333327,29.308333333333334,9.67,0.98817766971474852,39.1,27.733333333333334,16.333333333333332,null,1999,1,1.93,26.3,null,null,null,null,null,null,null,1969,-0.39999999999999997,"1970-01-01",0.83666666666666656,"1970-01-01",0.75620628292545389,30.366666666666664]
["'459376'",1925,8,0.03,84.6,65.400000000000006,46.1,null,null,null,null,"1925-08-01",null,null,null,null,null,null,null,null,null,null,null,null,null,null,null,null,null,null,null,null,null,null,null,null,null,null,null,null,null,null,null,"1944-01-01",2.6,0.44978067014024736,35.366666666666667,23.8,12.200000000000001,2.5100000000000002,1.0081767321761588,60.833333333333336,46.233333333333327,31.533333333333331,2.25,1.0144383017551386,82.166666666666671,65.333333333333329,48.466666666666661,3.02,0.90703661327231155,63.56666666666667,49,34.4,10.6,0.76723565956933482,59.94166666666667,45.82500000000001,31.658333333333335,5.76,0.588614620223056,43.283333333333331,31.683333333333337,20.05,null,2000,1,1.82,21.3,null,null,null,null,null,null,null,1970,0.83333333333333337,"1971-01-01",-1.4133333333333333,"1971-01-01",1.29066018288493,28]
["'459376'",1925,9,0.31,74.900000000000006,57.4,39.9,null,null,null,null,"1925-09-01",null,null,null,null,null,null,null,null,null,null,null,null,null,null,null,null,null,null,null,null,null,null,null,null,null,null,null,null,null,null,null,"1945-01-01",4.5299999999999994,0.78365632143666164,33.1,24.366666666666664,15.6,2.15,0.86357767895567361,58.533333333333339,45,31.433333333333334,0.90000000000000013,0.40577532070205552,83.333333333333329,65.833333333333329,48.233333333333327,3.2700000000000005,0.98212242562929108,59.266666666666673,44.966666666666669,30.600000000000005,10.440000000000001,0.7556547439531941,59.125,45.741666666666667,32.31666666666667,7.32,0.74803107986680029,43,32.616666666666667,22.216666666666669,null,2001,1,0.49,25.1,null,null,null,null,null,null,null,1971,0.95000000000000007,"1972-01-01",-1.5416666666666667,"1972-01-01",1.5042373627922543,27.133333333333336]
["'459376'",1925,10,1.3,62.7,44.8,26.8,null,null,null,null,"1925-10-01",null,null,null,null,null,null,null,null,null,null,null,null,null,null,null,null,null,null,null,null,null,null,null,null,null,null,null,null,null,null,null,"1946-01-01",7.82,1.3528018617295132,32.566666666666663,22.733333333333334,12.866666666666667,2.04,0.81939463491608111,61.666666666666664,47.166666666666664,32.6,2.6799999999999997,1.2083087327572317,80.433333333333323,63.6,46.70000000000001,4.79,1.4386441647597259,56.06666666666667,42.5,28.899999999999995,16.479999999999997,1.1928343084625128,58.508333333333326,44.625,30.675000000000001,11.67,1.1925577461810875,41.716666666666669,30.450000000000003,19.116666666666664,null,2002,1,1.24,24.6,null,null,null,null,null,null,null,1972,-0.83333333333333337,"1973-01-01",-0.20333333333333337,"1973-01-01",0.89825043606955934,30.616666666666664]
["'459376'",1925,11,1.26,42.7,32.799999999999997,22.8,null,null,null,null,"1925-11-01",null,null,null,null,null,null,null,null,null,null,null,null,null,null,null,null,null,null,null,null,null,null,null,null,null,null,null,null,null,null,null,"1947-01-01",4.3600000000000003,0.75424758531210723,31.733333333333334,21.033333333333331,10.233333333333333,0.55000000000000004,0.22091522019796306,65.566666666666663,49.4,33.166666666666664,3.27,1.4743169985508016,80.266666666666666,63.4,46.533333333333331,3,0.90102974828375315,59.733333333333341,46.5,33.233333333333327,12.300000000000002,0.89028288799083211,58.558333333333337,44.133333333333333,29.658333333333331,8.56,0.8747467272759305,40.783333333333331,28.899999999999995,16.95,null,2003,1,2.85,25.7,null,null,null,null,null,null,null,1973,1.2666666666666666,"1974-01-01",-1.2016666666666669,"1974-01-01",1.5716827880261461,29.983333333333334]
["'459376'",1925,12,1.05,35.799999999999997,30,24.1,null,null,null,null,"1925-12-01",null,null,null,null,null,null,null,null,null,null,null,null,null,null,null,null,null,null,null,null,null,null,null,null,null,null,null,null,null,null,null,"1948-01-01",8.36,1.4462178470663338,33.93333333333333,22.2,10.433333333333332,6.55,2.6308994405393777,56.5,42.166666666666664,27.8,5.92,2.6690998872846312,80.399999999999991,63.56666666666667,46.70000000000001,4.04,1.2133867276887875,58.699999999999996,44.033333333333331,29.333333333333332,24.490000000000002,1.7726038964955673,57.574999999999996,43.516666666666673,29.433333333333334,11.27,1.1516817308878196,42.166666666666664,30.049999999999997,17.916666666666668,null,2004,1,0.72,22.4,null,null,null,null,null,null,null,1974,0.70000000000000007,"1975-01-01",-0.30833333333333329,"1975-01-01",1.0627763976249622,29.766666666666669]
["'459376'",1926,1,1.1399999999999999,29,20.7,12.4,null,null,null,null,"1926-01-01",{"$f":"SUM($D28:$D30)","v":3.96},{"$f":"M29/M$1052","v":0.68505055913668444},{"$f":"AVERAGE($E28:$E30)","v":35.9},{"$f":"AVERAGE($F28:$F30)","v":27.933333333333337},{"$f":"AVERAGE($G28:$G30)","v":19.933333333333334},{"$f":"SUM($D31:$D33)","v":0.59},{"$f":"R29/R$1052","v":0.23698178166690578},{"$f":"AVERAGE($E31:$E33)","v":67.099999999999994},{"$f":"AVERAGE($F31:$F33)","v":49},{"$f":"AVERAGE($G31:$G33)","v":30.833333333333332},{"$f":"SUM($D34:$D36)","v":0.61},{"$f":"W29/W$1052","v":0.27502549514250424},{"$f":"AVERAGE($E34:$E36)","v":87.2},{"$f":"AVERAGE($F34:$F36)","v":67.63333333333334},{"$f":"AVERAGE($G34:$G36)","v":47.966666666666669},{"$f":"SUM($D37:$D39)","v":3.7800000000000002},{"$f":"AB29/AB$1052","v":1.1352974828375291},{"$f":"AVERAGE($E37:$E39)","v":58.533333333333331},{"$f":"AVERAGE($F37:$F39)","v":44.93333333333333},{"$f":"AVERAGE($G37:$G39)","v":31.3},{"$f":"SUM(D26:D37)","v":8.7899999999999991},{"$f":"AG29/AG$1052","v":0.6362265516617408},{"$f":"AVERAGE(E26:E37)","v":61.974999999999994},{"$f":"AVERAGE(F26:F37)","v":46.891666666666659},{"$f":"AVERAGE(G26:G37)","v":31.733333333333338},{"$f":"SUM(D26:D31)","v":6.59},{"$f":"AL29/AL$1052","v":0.67343235195658657},{"$f":"AVERAGE(E26:E31)","v":45.6},{"$f":"AVERAGE(F26:F31)","v":34.099999999999994},{"$f":"AVERAGE(G26:G31)","v":22.533333333333335},null,"1949-01-01",7.16,1.2386267685400658,23.933333333333334,11.899999999999999,-0.20000000000000048,1.4,0.56232965141299673,63.4,47.466666666666669,31.533333333333331,0.67999999999999994,0.30658579786377521,82.366666666666674,64.2,45.933333333333337,4.32,1.2974828375286047,62,46.866666666666667,31.666666666666668,12.59,0.91127329754508735,57.366666666666667,42.1,26.783333333333335,10.860000000000001,1.1097838152122201,37.016666666666659,24.566666666666666,12.066666666666668,null,2005,1,1.66,21.3,null,null,null,null,null,null,null,1975,1.7,"1976-01-01",-1.4883333333333333,"1976-01-01",0.80116989974804842,30.25]
["'459376'",1926,2,1.77,42.9,33.1,23.3,null,null,null,null,"1926-02-01",null,null,null,null,null,null,null,null,null,null,null,null,null,null,null,null,null,null,null,null,null,null,null,null,null,null,null,null,null,null,null,"1950-01-01",5.62,0.97221821776468853,27.066666666666663,15.466666666666669,3.8666666666666667,3.4800000000000004,1.3977908477980208,56.5,43.5,30.466666666666669,2.42,1.0910847512210824,82.5,65.233333333333334,47.9,6.8000000000000007,2.0423340961098408,58.166666666666664,45.166666666666664,32.133333333333333,15.669999999999998,1.1342059231557997,57.183333333333337,42.816666666666663,28.400000000000002,11.11,1.1353313247705124,39.166666666666671,27.149999999999995,15.1,null,2006,1,3.98,27.4,null,null,null,null,null,null,null,1976,-0.23333333333333336,"1977-01-01",1.1766666666666667,"1977-01-01",0.22379618373064106,31.816666666666663]
["'459376'",1926,3,7.0000000000000007E-2,60.5,43.2,25.8,null,null,null,null,"1926-03-01",null,null,null,null,null,null,null,null,null,null,null,null,null,null,null,null,null,null,null,null,null,null,null,null,null,null,null,null,null,null,null,"1951-01-01",7.82,1.3528018617295132,32.699999999999996,23.7,14.666666666666666,3.6799999999999997,1.4781236551427344,58.9,43.633333333333326,28.266666666666669,4.18,1.8846009339273242,83.266666666666666,65.166666666666671,47,4.59,1.3785755148741423,58.56666666666667,45.43333333333333,32.266666666666673,22.58,1.6343567163278849,58.033333333333339,44.366666666666667,30.649999999999995,16.299999999999997,1.6656976232006615,39.25,29.466666666666665,19.650000000000002,null,2007,1,1.21,16.3,null,null,null,null,null,null,null,1977,-0.98333333333333328,"1978-01-01",0.18500000000000003,"1978-01-01",1.1240904205648639,30.650000000000002]
["'459376'",1926,4,0.31,69.7,50.8,31.8,null,null,null,null,"1926-04-01",null,null,null,null,null,null,null,null,null,null,null,null,null,null,null,null,null,null,null,null,null,null,null,null,null,null,null,null,null,null,null,"1952-01-01",6.54,1.1313713779681607,28.033333333333331,17.5,6.9000000000000012,1.2400000000000002,0.49806340553722583,61.133333333333333,46.133333333333333,31.066666666666666,1.29,0.58161129300627945,82.766666666666666,64.833333333333329,46.833333333333336,0.93,0.27931922196796349,64.733333333333334,47.666666666666664,30.566666666666666,14.16,1.02491103202847,57.94166666666667,43.650000000000006,29.3,10.96,1.1200028190355371,38.31666666666667,27.433333333333334,16.483333333333334,null,2008,1,2.65,15,null,null,null,null,null,null,null,1978,0.23333333333333331,"1979-01-01",-0.33500000000000002,"1979-01-01",0.39956304949169252,26.683333333333337]
["'459376'",1926,5,0.21,71.099999999999994,53,34.9,null,null,null,null,"1926-05-01",null,null,null,null,null,null,null,null,null,null,null,null,null,null,null,null,null,null,null,null,null,null,null,null,null,null,null,null,null,null,null,"1953-01-01",8.1300000000000008,1.4064295570154659,37.199999999999996,27.966666666666669,18.733333333333334,2.9000000000000004,1.1648257064983507,59.9,45.866666666666667,31.766666666666669,3.25,1.465299769201867,79.533333333333331,62.733333333333327,45.9,1.85,0.55563501144164784,62.933333333333337,47.333333333333336,31.633333333333329,14.689999999999998,1.0632728150069366,60.066666666666663,45.849999999999994,31.591666666666669,8.68,0.88700953186391074,46.20000000000001,34.166666666666664,22.099999999999998,null,2009,1,2.08,17.899999999999999,null,null,null,null,null,null,null,1979,0.21666666666666665,"1980-01-01",0.56999999999999995,"1980-01-01",1.187448244269429,30.5]
["'459376'",1926,6,0.23,85,64.900000000000006,44.7,null,null,null,null,"1926-06-01",null,null,null,null,null,null,null,null,null,null,null,null,null,null,null,null,null,null,null,null,null,null,null,null,null,null,null,null,null,null,null,"1954-01-01",6.27,1.0846633852997503,33.633333333333333,23.933333333333334,14.200000000000001,1.42,0.57036293214746814,58.433333333333337,43,27.5,2.46,1.1091192099189515,77.166666666666671,60.70000000000001,44.133333333333333,3.06,0.91905034324942825,59.566666666666663,46.066666666666663,32.5,12.960000000000003,0.93805416490741333,57.550000000000004,43.516666666666673,29.408333333333331,8.4700000000000006,0.86554962383494527,43.25,31.316666666666666,19.316666666666666,null,2010,1,3.06,28.7,null,null,null,null,null,null,null,1980,-6.6666666666666666E-2,"1981-01-01",0.77666666666666673,"1981-01-01",0.8972285356872276,34.233333333333334]
["'459376'",1926,7,0.02,91.3,71.5,51.6,null,null,null,null,"1926-07-01",null,null,null,null,null,null,null,null,null,null,null,null,null,null,null,null,null,null,null,null,null,null,null,null,null,null,null,null,null,null,null,"1955-01-01",5.81,1.0050868051980142,30.400000000000002,20.933333333333334,11.433333333333332,2.25,0.90374408262803063,52.5,39.266666666666666,25.933333333333334,1.51,0.68080081584455976,80.966666666666683,63.566666666666663,46.166666666666664,4.3,1.2914759725400462,55.29999999999999,41.166666666666664,27.033333333333335,11.69,0.84613064720429476,56.275000000000006,42.616666666666674,28.916666666666668,8.94,0.91357894180453469,39.683333333333337,28.666666666666668,17.599999999999998,null,1981,2,2.41,29.5,{"$f":"AVERAGE(BZ35:BZ64)","v":1.3139999999999996},{"$f":"AVERAGE(CA35:CA64)","v":27.95},null,null,null,null,null,1981,0.46666666666666673,"1982-01-01",0.39666666666666667,"1982-01-01",1.3417552020015147,29.916666666666661]
["'459376'",1926,8,0.36,85.3,66.5,47.6,null,null,null,null,"1926-08-01",null,null,null,null,null,null,null,null,null,null,null,null,null,null,null,null,null,null,null,null,null,null,null,null,null,null,null,null,null,null,null,"1956-01-01",8.77,1.517144798896142,25.866666666666664,16.3,6.666666666666667,1.93,0.7752115908764885,59.233333333333327,43.9,28.533333333333331,4.26,1.9206698513230624,81.733333333333334,64.36666666666666,46.933333333333337,3.31,0.99413615560640767,56.5,42.766666666666673,29.033333333333331,19.549999999999997,1.4150431268472166,55.408333333333339,41.358333333333334,27.266666666666666,13.739999999999998,1.404091125323748,34.633333333333333,23.950000000000003,13.216666666666669,null,1982,2,1.42,25,null,null,null,null,null,null,null,1982,-1.7000000000000002,"1983-01-01",0.69833333333333325,"1983-01-01",1.4705146501753084,31.683333333333337]
["'459376'",1926,9,1.07,67.7,51.4,35,null,null,null,null,"1926-09-01",null,null,null,null,null,null,null,null,null,null,null,null,null,null,null,null,null,null,null,null,null,null,null,null,null,null,null,null,null,null,null,"1957-01-01",4.4000000000000004,0.76116728792964949,26.2,16.2,6.1333333333333329,3.84,1.5423899010185056,61.6,47.29999999999999,32.9,1.89,0.85212817347431646,79.3,62.466666666666669,45.566666666666663,1.67,0.50157322654462255,60.366666666666674,46,31.599999999999998,12.959999999999999,0.93805416490741311,56.375000000000007,42.500000000000007,28.566666666666666,8.91,0.91051324065753969,36.900000000000006,25.916666666666668,14.883333333333335,null,1983,2,2.2599999999999998,30.7,null,null,null,null,null,null,null,1983,0.11666666666666668,"1984-01-01",1.3583333333333334,"1984-01-01",1.0903677079479179,29.933333333333334]
["'459376'",1926,10,0.75,61.8,46.8,31.8,null,null,null,null,"1926-10-01",null,null,null,null,null,null,null,null,null,null,null,null,null,null,null,null,null,null,null,null,null,null,null,null,null,null,null,null,null,null,null,"1958-01-01",7.59,1.3130135716786451,35.06666666666667,27.8,20.466666666666669,3.77,1.5142734184478557,62.233333333333327,47.633333333333333,32.966666666666669,3.54,1.5960495947614182,86.733333333333334,68.733333333333334,50.666666666666664,5.65,1.6969393592677353,56.5,42.6,28.633333333333336,16.800000000000004,1.2159961396947951,60.391666666666673,47.133333333333326,33.81666666666667,11.32,1.156791232799478,42.56666666666667,33.083333333333329,23.55,null,1984,2,0.92,28.6,null,null,null,null,null,null,null,1984,6.6666666666666666E-2,"1985-01-01",0.81500000000000006,"1985-01-01",0.70102366227954227,25.8]
["'459376'",1926,11,1.96,46.1,36.6,27.1,null,null,null,null,"1926-11-01",null,null,null,null,null,null,null,null,null,null,null,null,null,null,null,null,null,null,null,null,null,null,null,null,null,null,null,null,null,null,null,"1959-01-01",8.26,1.4289185905224782,31.100000000000005,21.566666666666666,12.033333333333333,1.06,0.42576387892698331,59.300000000000004,44.166666666666664,29,1.01,0.45537008212119556,80.866666666666674,62.733333333333327,44.566666666666663,6.54,1.9642448512585819,56,42.666666666666664,29.333333333333332,18.45,1.335424331986248,56.708333333333336,42.65,28.558333333333337,14.29,1.4602956463519912,39.616666666666667,28.533333333333331,17.416666666666668,null,1985,2,1,18.7,null,null,null,null,null,null,null,1985,-1.6666666666666673E-2,"1986-01-01",0.80500000000000005,"1986-01-01",0.82365170815934574,28.45]
["'459376'",1926,12,1.53,31.4,22,12.5,null,null,null,null,"1926-12-01",null,null,null,null,null,null,null,null,null,null,null,null,null,null,null,null,null,null,null,null,null,null,null,null,null,null,null,null,null,null,null,"1960-01-01",5.0600000000000005,0.8753423811190969,31.633333333333336,22.200000000000003,12.700000000000001,3.1799999999999997,1.2772916367809497,57.466666666666661,43.199999999999996,28.866666666666664,0.65,0.29305995384037342,83.166666666666671,64.533333333333331,45.866666666666674,2.6399999999999997,0.79290617848970268,60,43.866666666666674,27.7,12.850000000000001,0.93009228542131639,57.708333333333336,43.308333333333337,28.866666666666671,9.6700000000000017,0.98817766971474863,40.133333333333333,28.966666666666669,17.766666666666669,null,1986,2,2.04,26.5,null,null,null,null,null,null,null,1986,-3.3333333333333326E-2,"1987-01-01",1.7116666666666667,"1987-01-01",0.80832320242437028,32.766666666666673]
["'459376'",1927,1,1.1200000000000001,27.7,17.8,7.8,null,null,null,null,"1927-01-01",{"$f":"SUM($D40:$D42)","v":4.2200000000000006},{"$f":"M41/M$1052","v":0.73002862615070929},{"$f":"AVERAGE($E40:$E42)","v":32.199999999999996},{"$f":"AVERAGE($F40:$F42)","v":21.666666666666668},{"$f":"AVERAGE($G40:$G42)","v":11.033333333333333},{"$f":"SUM($D43:$D45)","v":2.09},{"$f":"R41/R$1052","v":0.83947783675225951},{"$f":"AVERAGE($E43:$E45)","v":58.300000000000004},{"$f":"AVERAGE($F43:$F45)","v":43.4},{"$f":"AVERAGE($G43:$G45)","v":28.400000000000002},{"$f":"SUM($D46:$D48)","v":1.87},{"$f":"W41/W$1052","v":0.8431109441253819},{"$f":"AVERAGE($E46:$E48)","v":84},{"$f":"AVERAGE($F46:$F48)","v":65.5},{"$f":"AVERAGE($G46:$G48)","v":46.966666666666669},{"$f":"SUM($D49:$D51)","v":5.5200000000000005},{"$f":"AB41/AB$1052","v":1.657894736842106},{"$f":"AVERAGE($E49:$E51)","v":55.566666666666663},{"$f":"AVERAGE($F49:$F51)","v":42.733333333333327},{"$f":"AVERAGE($G49:$G51)","v":29.833333333333332},{"$f":"SUM(D38:D49)","v":11.97},{"$f":"AG41/AG$1052","v":0.86639724953254138},{"$f":"AVERAGE(E38:E49)","v":58.316666666666663},{"$f":"AVERAGE(F38:F49)","v":44.074999999999996},{"$f":"AVERAGE(G38:G49)","v":29.775000000000002},{"$f":"SUM(D38:D43)","v":7.5600000000000005},{"$f":"AL41/AL$1052","v":0.77255668904276098},{"$f":"AVERAGE(E38:E43)","v":42.133333333333333},{"$f":"AVERAGE(F38:F43)","v":30.566666666666666},{"$f":"AVERAGE(G38:G43)","v":18.933333333333334},null,"1961-01-01",4.9600000000000009,0.85804312457524123,31.3,22.833333333333332,14.333333333333334,4.8599999999999994,1.9520872184765459,58.79999999999999,45.199999999999996,31.533333333333331,1.9100000000000001,0.86114540282325114,87.7,67.766666666666666,47.733333333333327,1.83,0.54962814645308944,55.533333333333339,40.699999999999996,25.833333333333332,14.55,1.0531395138428135,59.06666666666667,44.775000000000006,30.425000000000001,9.68,0.98919957009708015,40.866666666666667,30.05,19.183333333333334,null,1987,2,1.57,31.4,null,null,null,null,null,null,null,1987,-0.80000000000000016,"1988-01-01",1.2816666666666665,"1988-01-01",0.76642528674877075,31.366666666666674]
["'459376'",1927,2,1.57,37.5,25.2,12.8,null,null,null,null,"1927-02-01",null,null,null,null,null,null,null,null,null,null,null,null,null,null,null,null,null,null,null,null,null,null,null,null,null,null,null,null,null,null,null,"1962-01-01",4.21,0.72829870049632361,30.400000000000002,21.3,12.166666666666666,2.97,1.1929421890690004,59.1,44.5,29.833333333333332,1.88,0.84761955879984918,80.566666666666663,62.366666666666667,44.166666666666664,4.1099999999999994,1.2344107551487415,60.933333333333337,46,31,10.59,0.76651185234332608,56.933333333333337,42.491666666666667,28.008333333333329,6.27,0.64073153972197239,38.766666666666673,27.599999999999998,16.400000000000002,null,1988,2,0.19,26.8,null,null,null,null,null,null,null,1988,1.2500000000000002,"1989-01-01",-0.55833333333333335,"1989-01-01",0.8665715242172769,30.200000000000003]
["'459376'",1927,3,0.63,48.3,35,21.6,null,null,null,null,"1927-03-01",null,null,null,null,null,null,null,null,null,null,null,null,null,null,null,null,null,null,null,null,null,null,null,null,null,null,null,null,null,null,null,"1963-01-01",2.27,0.39269312354552366,36.166666666666664,25.599999999999998,14.966666666666667,4.13,1.6588724716683405,59.966666666666661,45.533333333333331,31.099999999999998,2.2999999999999998,1.036981375127475,80.900000000000006,64,47.033333333333331,3.41,1.0241704805491996,61.133333333333333,47.133333333333333,33.1,13.979999999999999,1.0118825019603113,59.666666666666657,45.6,31.491666666666664,7.38,0.7541624821607904,44.199999999999996,32.666666666666671,21.083333333333332,null,1989,2,1.67,20.3,null,null,null,null,null,null,null,1989,0.39999999999999997,"1990-01-01",-0.39999999999999997,"1990-01-01",0.78992899554239981,32.85]
["'459376'",1927,4,0.41,60.1,44.3,28.4,null,null,null,null,"1927-04-01",null,null,null,null,null,null,null,null,null,null,null,null,null,null,null,null,null,null,null,null,null,null,null,null,null,null,null,null,null,null,null,"1964-01-01",6.3100000000000005,1.0915830879172927,30.933333333333334,21.7,12.466666666666667,0.59000000000000008,0.23698178166690584,58.033333333333331,43.366666666666674,28.7,2.59,1.1677312006870262,79.433333333333323,62.166666666666664,44.866666666666674,2.8499999999999996,0.85597826086956541,58.800000000000004,43.766666666666659,28.666666666666668,12.12,0.87725435792267337,56.724999999999994,43.016666666666673,29.283333333333335,8.9,0.90949134027520806,40.199999999999996,29.716666666666669,19.216666666666669,null,1990,2,0.54,23.3,null,null,null,null,null,null,null,1990,-4.9999999999999982E-2,"1991-01-01",-1.4266666666666665,"1991-01-01",0.80116989974804853,31.266666666666669]
["'459376'",1927,5,1.05,66.5,50.9,35.200000000000003,null,null,null,null,"1927-05-01",null,null,null,null,null,null,null,null,null,null,null,null,null,null,null,null,null,null,null,null,null,null,null,null,null,null,null,null,null,null,null,"1965-01-01",6.8100000000000005,1.1780793706365711,30.833333333333332,21.266666666666666,11.700000000000001,2.13,0.85554439822120232,59.5,44.466666666666669,29.399999999999995,2.92,1.3165154849444465,82.899999999999991,65.466666666666669,47.966666666666669,1.89,0.56764874141876442,60.533333333333339,45.333333333333336,30.099999999999998,14.469999999999999,1.0473490560347429,57.908333333333331,43.633333333333333,29.324999999999999,9.3699999999999992,0.9575206582447976,40.599999999999994,29.000000000000004,17.383333333333333,null,1991,2,0.42,36.799999999999997,null,null,null,null,null,null,null,1991,-0.6166666666666667,"1992-01-01",0.33833333333333332,"1992-01-01",0.81752030586535551,34.35]
["'459376'",1927,6,0.69,78,61.3,44.6,null,null,null,null,"1927-06-01",null,null,null,null,null,null,null,null,null,null,null,null,null,null,null,null,null,null,null,null,null,null,null,null,null,null,null,null,null,null,null,"1966-01-01",4.8599999999999994,0.84074386803138534,29.966666666666669,22.133333333333336,14.233333333333334,1.3,0.52216324774063994,60.966666666666661,45.066666666666663,29.066666666666663,1.87,0.8431109441253819,79.033333333333331,62.166666666666664,45.266666666666673,4.2300000000000004,1.2704519450800922,61.5,47.9,34.233333333333327,10.940000000000001,0.79184510525363438,58.341666666666669,44.425000000000004,30.441666666666666,7.48,0.76438148598410749,41.166666666666664,30.500000000000004,19.766666666666666,null,1992,2,1.66,34.799999999999997,null,null,null,null,null,null,null,1992,-0.46666666666666662,"1993-01-01",0.56499999999999995,"1993-01-01",0.6437972408689675,28.933333333333334]
["'459376'",1927,7,0.28000000000000003,87.1,68.2,49.2,null,null,null,null,"1927-07-01",null,null,null,null,null,null,null,null,null,null,null,null,null,null,null,null,null,null,null,null,null,null,null,null,null,null,null,null,null,null,null,"1967-01-01",4.6399999999999997,0.80268550363490299,37.866666666666667,29.466666666666669,21,3.06,1.2290919523741217,58,44.533333333333331,31.033333333333331,2.0099999999999998,0.90623154956792373,86.399999999999991,66.533333333333331,46.666666666666664,2.78,0.83495423340961117,62.43333333333333,47.766666666666673,33.06666666666667,12.84,0.92936847819530755,61.216666666666661,47.166666666666664,33.083333333333336,8.2800000000000011,0.84613351657064306,44.4,34.550000000000004,24.650000000000002,null,1993,2,0.45,25.1,null,null,null,null,null,null,null,1993,-0.73333333333333339,"1994-01-01",1.0533333333333332,"1994-01-01",0.61109642863435332,31.933333333333334]
["'459376'",1927,8,0.9,86.9,67,47.1,null,null,null,null,"1927-08-01",null,null,null,null,null,null,null,null,null,null,null,null,null,null,null,null,null,null,null,null,null,null,null,null,null,null,null,null,null,null,null,"1968-01-01",7.22,1.2490063224663792,33.5,24.233333333333331,14.9,1.6,0.64266245875771066,60.066666666666663,45.033333333333339,29.966666666666669,1.1800000000000002,0.53201653158713946,81.233333333333334,63.20000000000001,45.133333333333333,2.6100000000000003,0.78389588100686536,57.5,44.266666666666673,31.033333333333331,12.799999999999999,0.92647324929127217,58.633333333333347,44.583333333333336,30.491666666666664,10.379999999999999,1.0607325968602987,42.6,32,21.333333333333332,null,1994,2,1.65,26,null,null,null,null,null,null,null,1994,-1.0333333333333332,"1995-01-01",-0.72500000000000009,"1995-01-01",1.7913913702274604,29.650000000000002]
["'459376'",1927,9,1.08,68.400000000000006,53.8,39.200000000000003,null,null,null,null,"1927-09-01",null,null,null,null,null,null,null,null,null,null,null,null,null,null,null,null,null,null,null,null,null,null,null,null,null,null,null,null,null,null,null,"1969-01-01",11.879999999999999,2.0551516774100533,23.733333333333334,14.766666666666666,5.7333333333333343,1.8900000000000001,0.7591450294075458,60.366666666666667,45.333333333333336,30.266666666666666,1.36,0.61317159572755053,83.63333333333334,65.2,46.666666666666664,1.17,0.35140160183066371,59.466666666666661,44.733333333333327,29.966666666666665,18.02,1.3043006212678692,56.291666666666664,42.4,28.458333333333332,14.479999999999999,1.4797117536162934,35.75,25.5,15.216666666666669,null,1995,2,1.47,29.6,null,null,null,null,null,null,null,1995,0.18333333333333335,"1996-01-01",0.45,"1996-01-01",1.3509523054425001,29.716666666666665]
["'459376'",1927,10,1.24,58.6,43.8,28.9,null,null,null,null,"1927-10-01",null,null,null,null,null,null,null,null,null,null,null,null,null,null,null,null,null,null,null,null,null,null,null,null,null,null,null,null,null,null,null,"1970-01-01",6.0200000000000005,1.0414152439401112,31.133333333333336,23.233333333333334,15.266666666666666,1.65,0.66274566059388906,58.79999999999999,44.20000000000001,29.533333333333331,0.71000000000000008,0.32011164188717711,86.366666666666674,67.333333333333329,48.199999999999996,3.51,1.054204805491991,56.800000000000004,42.566666666666663,28.233333333333334,9.4699999999999989,0.68544544303033961,58.574999999999996,44.583333333333336,30.516666666666666,7.4,0.75620628292545389,40.783333333333331,30.366666666666664,19.900000000000002,null,1996,2,2.99,23.5,null,null,null,null,null,null,null,1996,0.61666666666666659,"1997-01-01",0.14833333333333334,"1997-01-01",1.5001497612629273,28.283333333333331]
["'459376'",1927,11,3.2,39.700000000000003,30.6,21.4,null,null,null,null,"1927-11-01",null,null,null,null,null,null,null,null,null,null,null,null,null,null,null,null,null,null,null,null,null,null,null,null,null,null,null,null,null,null,null,"1971-01-01",8.370000000000001,1.4479477727207195,30.2,21.366666666666664,12.466666666666667,1.7400000000000002,0.69889542389901038,57.633333333333326,43.6,29.533333333333331,2.6399999999999997,1.1902742740593626,84.066666666666663,65.033333333333331,45.933333333333337,3.72,1.117276887871854,54.866666666666667,42.300000000000004,29.633333333333329,17.200000000000003,1.2449484287351473,57.008333333333333,42.975000000000001,28.875,12.63,1.29066018288493,38.633333333333333,28,17.299999999999997,null,1997,2,0.75,25.2,null,null,null,null,null,null,null,1997,-1.2833333333333334,"1998-01-01",1.3,"1998-01-01",1.2221928572687066,33.433333333333337]
["'459376'",1927,12,0.53,25.3,14.7,4,null,null,null,null,"1927-12-01",null,null,null,null,null,null,null,null,null,null,null,null,null,null,null,null,null,null,null,null,null,null,null,null,null,null,null,null,null,null,null,"1972-01-01",9.5399999999999991,1.6503490742838305,26.966666666666669,17.366666666666667,7.7333333333333343,5.7200000000000006,2.2975182900588158,58,44.433333333333337,30.766666666666669,3.08,1.3886533197359232,81.2,63.433333333333337,45.666666666666664,2.14,0.64273455377574396,57.433333333333337,43.666666666666664,29.866666666666664,21.200000000000003,1.5344713191386699,55.166666666666664,41.841666666666661,28.458333333333332,14.72,1.5042373627922543,37.316666666666663,27.133333333333336,16.883333333333329,null,1998,2,2.2000000000000002,34.299999999999997,null,null,null,null,null,null,null,1998,1.0833333333333333,"1999-01-01",-0.61,"1999-01-01",1.2385432633860136,32.500000000000007]
["'459376'",1928,1,1.22,30.4,22.3,14.2,null,null,null,null,"1928-01-01",{"$f":"SUM($D52:$D54)","v":2.0099999999999998},{"$f":"M53/M$1052","v":0.34771505653149887},{"$f":"AVERAGE($E52:$E54)","v":32.5},{"$f":"AVERAGE($F52:$F54)","v":22.033333333333331},{"$f":"AVERAGE($G52:$G54)","v":11.5},{"$f":"SUM($D55:$D57)","v":2.06},{"$f":"R53/R$1052","v":0.82742791565055251},{"$f":"AVERAGE($E55:$E57)","v":62.633333333333333},{"$f":"AVERAGE($F55:$F57)","v":46.800000000000004},{"$f":"AVERAGE($G55:$G57)","v":30.933333333333334},{"$f":"SUM($D58:$D60)","v":2.66},{"$f":"W53/W$1052","v":1.1992915034082974},{"$f":"AVERAGE($E58:$E60)","v":84.166666666666671},{"$f":"AVERAGE($F58:$F60)","v":66.400000000000006},{"$f":"AVERAGE($G58:$G60)","v":48.6},{"$f":"SUM($D61:$D63)","v":1.29},{"$f":"AB53/AB$1052","v":0.38744279176201385},{"$f":"AVERAGE($E61:$E63)","v":60.79999999999999},{"$f":"AVERAGE($F61:$F63)","v":45.266666666666673},{"$f":"AVERAGE($G61:$G63)","v":29.7},{"$f":"SUM(D50:D61)","v":11.17},{"$f":"AG53/AG$1052","v":0.80849267145183679},{"$f":"AVERAGE(E50:E61)","v":59.458333333333336},{"$f":"AVERAGE(F50:F61)","v":44.800000000000004},{"$f":"AVERAGE(G50:G61)","v":30.083333333333332},{"$f":"SUM(D50:D55)","v":6.84},{"$f":"AL53/AL$1052","v":0.69897986151487901},{"$f":"AVERAGE(E50:E55)","v":41.383333333333333},{"$f":"AVERAGE(F50:F55)","v":29.866666666666664},{"$f":"AVERAGE(G50:G55)","v":18.283333333333331},null,"1973-01-01",6.6899999999999995,1.1573202627839441,30.733333333333334,21.533333333333331,12.300000000000002,0.5,0.20083201836178458,62.966666666666669,47.166666666666664,31.3,0.38,0.17132735762975676,84.2,65.433333333333323,46.633333333333333,5.4,1.6218535469107558,56.5,44,31.433333333333334,11.22,0.81211170758188089,59.5,45.083333333333336,30.633333333333336,8.7899999999999991,0.89825043606955934,41.449999999999996,30.616666666666664,19.766666666666669,null,1999,2,2.73,28.9,null,null,null,null,null,null,null,1999,0.51666666666666672,"2000-01-01",-1.4083333333333332,"2000-01-01",0.96263016015645608,33.300000000000004]
["'459376'",1928,2,0.26,41.8,29.1,16.3,null,null,null,null,"1928-02-01",null,null,null,null,null,null,null,null,null,null,null,null,null,null,null,null,null,null,null,null,null,null,null,null,null,null,null,null,null,null,null,"1974-01-01",10.89,1.8838890376258823,32.333333333333336,23.766666666666666,15.133333333333333,1.9899999999999998,0.79931143307990249,57.066666666666663,43.966666666666669,30.833333333333332,1.05,0.47340454081906475,83.5,64.900000000000006,46.233333333333327,2.2800000000000002,0.68478260869565244,62.466666666666669,46.933333333333337,31.400000000000002,17.419999999999998,1.2608721877073408,57.733333333333341,44.183333333333337,30.574999999999999,15.38,1.5716827880261461,39.449999999999996,29.983333333333334,20.433333333333334,null,2000,2,1.96,28.3,null,null,null,null,null,null,null,2000,0.68333333333333324,"2001-01-01",4.9999999999999862E-3,"2001-01-01",0.57941751678207076,31.083333333333332]
["'459376'",1928,3,0.39,52.5,38.700000000000003,24.9,null,null,null,null,"1928-03-01",null,null,null,null,null,null,null,null,null,null,null,null,null,null,null,null,null,null,null,null,null,null,null,null,null,null,null,null,null,null,null,"1975-01-01",7.8,1.3493420104207421,30.066666666666666,21.400000000000002,12.700000000000001,2.73,1.0965428202553438,57.29999999999999,43.4,29.466666666666669,3.23,1.4562825398529324,80.899999999999991,64.63333333333334,48.29999999999999,2.5100000000000002,0.75386155606407357,58.099999999999994,44.866666666666674,31.600000000000005,16.080000000000002,1.1638820194221609,57.533333333333331,44.033333333333331,30.499999999999996,10.4,1.0627763976249622,40.216666666666669,29.766666666666669,19.3,null,2001,2,0.71,26.1,null,null,null,null,null,null,null,2001,9.9999999999999978E-2,"2002-01-01",-0.72666666666666668,"2002-01-01",0.84715541695297458,31.566666666666674]
["'459376'",1928,4,1.48,58.5,44,29.4,null,null,null,null,"1928-04-01",null,null,null,null,null,null,null,null,null,null,null,null,null,null,null,null,null,null,null,null,null,null,null,null,null,null,null,null,null,null,null,"1976-01-01",5.3599999999999994,0.92724015075066368,32.9,24.166666666666668,15.433333333333332,0.89000000000000012,0.3574809926839766,58.699999999999996,44.366666666666674,29.966666666666669,3.8600000000000003,1.7403252643443714,78.86666666666666,62.533333333333339,46.133333333333333,0.5,0.15017162471395887,61.966666666666669,46.6,31.233333333333331,12.579999999999998,0.91054949031907839,57.199999999999996,44.116666666666667,30.991666666666664,7.84,0.80116989974804842,39.916666666666664,30.25,20.55,null,2002,2,0.83,27.8,null,null,null,null,null,null,null,2002,-0.53333333333333333,"2003-01-01",1.5633333333333335,"2003-01-01",0.99430907200873853,33.816666666666663]
["'459376'",1928,5,0.19,76.900000000000006,57.7,38.5,null,null,null,null,"1928-05-01",null,null,null,null,null,null,null,null,null,null,null,null,null,null,null,null,null,null,null,null,null,null,null,null,null,null,null,null,null,null,null,"1977-01-01",1.25,0.21624070679819585,34.133333333333333,24.399999999999995,14.566666666666668,1.96,0.78726151197819549,61.4,46.266666666666673,31.066666666666666,1.93,0.87016263217218559,85.466666666666654,67.100000000000009,48.699999999999996,4.43,1.3305205949656753,56.199999999999996,42.699999999999996,29.133333333333336,6.47,0.46830327522769777,59.966666666666669,45.608333333333327,31.191666666666666,2.19,0.22379618373064106,43.266666666666673,31.816666666666663,20.3,null,2003,2,0.51,28.2,null,null,null,null,null,null,null,2003,-9.9999999999999992E-2,"2004-01-01",0.53333333333333333,"2004-01-01",1.1056962136828934,31.683333333333337]
["'459376'",1928,6,1.9,77.8,61.8,45.8,null,null,null,null,"1928-06-01",null,null,null,null,null,null,null,null,null,null,null,null,null,null,null,null,null,null,null,null,null,null,null,null,null,null,null,null,null,null,null,"1978-01-01",6.49,1.122721749696233,31.400000000000002,23.900000000000002,16.333333333333332,2.33,0.93587720556591614,58.9,45.6,32.199999999999996,3.58,1.6140840534592873,83.1,65.766666666666666,48.366666666666667,3.41,1.0241704805491996,56.466666666666661,42.833333333333336,29.166666666666668,18.490000000000002,1.3383195608902834,57.241666666666667,44.566666666666663,31.816666666666666,11,1.1240904205648639,40.516666666666673,30.650000000000002,20.716666666666669,null,2004,2,1.08,28.4,null,null,null,null,null,null,null,2004,-0.45,"2005-01-01",0.28333333333333338,"2005-01-01",0.67343235195658657,33.70000000000001]
["'459376'",1928,7,0.54,88.7,70.5,52.2,null,null,null,null,"1928-07-01",null,null,null,null,null,null,null,null,null,null,null,null,null,null,null,null,null,null,null,null,null,null,null,null,null,null,null,null,null,null,null,"1979-01-01",2.87,0.49648866280865767,27.466666666666669,16.400000000000002,5.2666666666666666,0.74,0.29723138717544118,62.033333333333339,45.70000000000001,29.333333333333332,2.4500000000000002,1.1046105952444845,84.933333333333337,66.666666666666671,48.366666666666674,3.15,0.94608123569794078,60.466666666666669,45.733333333333341,30.966666666666669,7.5699999999999994,0.54792207008866645,58.550000000000004,43.216666666666669,27.841666666666665,3.91,0.39956304949169252,39.35,26.683333333333337,13.983333333333333,null,2005,2,0.01,30.3,null,null,null,null,null,null,null,2005,0.28333333333333338,"2006-01-01",-0.14666666666666667,"2006-01-01",1.2722659760029595,31.083333333333332]
["'459376'",1928,8,0.22,86,66.900000000000006,47.8,null,null,null,null,"1928-08-01",null,null,null,null,null,null,null,null,null,null,null,null,null,null,null,null,null,null,null,null,null,null,null,null,null,null,null,null,null,null,null,"1980-01-01",8.8699999999999992,1.5344440554399976,30.433333333333334,22.866666666666664,15.233333333333334,3.2199999999999998,1.2933581982498925,60.06666666666667,46.599999999999994,33.06666666666667,1.06,0.47791315549353203,79.8,62.5,45.1,2.74,0.82294050343249459,60.033333333333331,45.633333333333333,31.166666666666668,16.829999999999998,1.2181675613728211,57.400000000000006,44.258333333333326,31.058333333333326,11.620000000000001,1.187448244269429,40.366666666666667,30.5,20.583333333333332,null,2006,2,1.92,25.5,null,null,null,null,null,null,null,2006,-0.6,"2007-01-01",-7.3333333333333334E-2,"2007-01-01",1.1659883362404631,30.416666666666668]
["'459376'",1928,9,0,77.3,57.5,37.6,null,null,null,null,"1928-09-01",null,null,null,null,null,null,null,null,null,null,null,null,null,null,null,null,null,null,null,null,null,null,null,null,null,null,null,null,null,null,null,"1981-01-01",6.78,1.1728895936734143,35.1,28,20.833333333333332,2.68,1.0764596184191655,61.533333333333331,46.5,31.433333333333334,1.8199999999999998,0.82056787075304538,81.266666666666666,63.333333333333336,45.366666666666674,4.91,1.4746853546910761,59.666666666666664,45.766666666666673,31.8,13.68,0.99016828518004729,59.650000000000006,45.916666666666679,32.125,8.7799999999999994,0.8972285356872276,44.483333333333341,34.233333333333334,23.916666666666668,null,2007,2,1.08,29.9,null,null,null,null,null,null,null,2007,0.39999999999999997,"2008-01-01",-0.93166666666666675,"2008-01-01",1.0219003823316943,28.716666666666669,null,{"$f":"BM61","v":13.68}]
["'459376'",1928,10,0.42,59.9,44.4,28.9,null,null,null,null,"1928-10-01",null,null,null,null,null,null,null,null,null,null,null,null,null,null,null,null,null,null,null,null,null,null,null,null,null,null,null,null,null,null,null,"1982-01-01",7.1899999999999995,1.2438165455032224,30.166666666666668,21.099999999999998,11.966666666666667,3.07,1.2331085927413572,58.266666666666673,43.56666666666667,28.8,2.2600000000000002,1.0189469164296061,81.733333333333334,64.600000000000009,47.366666666666667,3.17,0.95208810068649918,56.566666666666663,43.1,29.599999999999998,17.439999999999998,1.2623198021593582,57.258333333333333,43.68333333333333,30.033333333333331,13.129999999999999,1.3417552020015147,40.366666666666667,29.916666666666661,19.399999999999999,null,2008,2,0.75,27.6,null,null,null,null,null,null,null,2008,0.94999999999999984,"2009-01-01",-1.4033333333333333,"2009-01-01",0.91664464295152992,29.716666666666669,null,17.439999999999998]
["'459376'",1928,11,0.87,45.2,33.9,22.6,null,null,null,null,"1928-11-01",null,null,null,null,null,null,null,null,null,null,null,null,null,null,null,null,null,null,null,null,null,null,null,null,null,null,null,null,null,null,null,"1983-01-01",9.2200000000000006,1.5949914533434928,32.733333333333334,25.8,18.766666666666669,4,1.6066561468942766,61.966666666666669,47.166666666666664,32.333333333333336,2.7,1.2173259621061665,79.86666666666666,63.033333333333339,46.166666666666664,6.71,2.0153032036613281,57.533333333333339,44.6,31.633333333333336,19.55,1.4150431268472168,57.5,44.516666666666673,31.483333333333331,14.39,1.4705146501753084,40.766666666666673,31.683333333333337,22.55,null,2009,2,0.43,26.3,null,null,null,null,null,null,null,2009,-0.23333333333333331,"2010-01-01",0.34,"2010-01-01",0.91971034409852492,33.633333333333333,null,19.55]
["'459376'",1928,12,2.06,27.3,18.2,9.1,null,null,null,null,"1928-12-01",null,null,null,null,null,null,null,null,null,null,null,null,null,null,null,null,null,null,null,null,null,null,null,null,null,null,null,null,null,null,null,"1984-01-01",3.36,0.58125501987355044,28.7,19.833333333333332,10.933333333333332,3.19,1.2813082771481856,57.533333333333331,44.466666666666669,31.333333333333332,1.79,0.80704202672964365,81.7,64.3,46.833333333333336,3.9800000000000004,1.1953661327231127,54.733333333333327,41.466666666666669,28.133333333333329,13.930000000000001,1.0082634658302676,56.358333333333327,43.208333333333336,30.008333333333336,10.67,1.0903677079479179,39.933333333333337,29.933333333333334,19.900000000000002,null,2010,2,1.8,35.1,null,null,null,null,null,null,null,2010,1.5333333333333334,null,null,null,null,null,null,13.930000000000001]
["'459376'",1929,1,0.76,19.399999999999999,8.3000000000000007,-2.9,null,null,null,null,"1929-01-01",{"$f":"SUM($D64:$D66)","v":2.89},{"$f":"M65/M$1052","v":0.49994851411742885},{"$f":"AVERAGE($E64:$E66)","v":24.633333333333336},{"$f":"AVERAGE($F64:$F66)","v":13.366666666666667},{"$f":"AVERAGE($G64:$G66)","v":2.0666666666666664},{"$f":"SUM($D67:$D69)","v":1.5100000000000002},{"$f":"R65/R$1052","v":0.60651269545258957},{"$f":"AVERAGE($E67:$E69)","v":61.366666666666667},{"$f":"AVERAGE($F67:$F69)","v":45.733333333333327},{"$f":"AVERAGE($G67:$G69)","v":30.066666666666663},{"$f":"SUM($D70:$D72)","v":1.76},{"$f":"W65/W$1052","v":0.7935161827062418},{"$f":"AVERAGE($E70:$E72)","v":84.36666666666666},{"$f":"AVERAGE($F70:$F72)","v":65},{"$f":"AVERAGE($G70:$G72)","v":45.6},{"$f":"SUM($D73:$D75)","v":0.46},{"$f":"AB65/AB$1052","v":0.13815789473684215},{"$f":"AVERAGE($E73:$E75)","v":61.199999999999996},{"$f":"AVERAGE($F73:$F75)","v":44.033333333333331},{"$f":"AVERAGE($G73:$G75)","v":26.833333333333332},{"$f":"SUM(D62:D73)","v":7.4700000000000006},{"$f":"AG65/AG$1052","v":0.54068399782857846},{"$f":"AVERAGE(E62:E73)","v":57.458333333333336},{"$f":"AVERAGE(F62:F73)","v":42.133333333333326},{"$f":"AVERAGE(G62:G73)","v":26.775000000000002},{"$f":"SUM(D62:D67)","v":4.4500000000000011},{"$f":"AL65/AL$1052","v":0.45474567013760414},{"$f":"AVERAGE(E62:E67)","v":38.766666666666666},{"$f":"AVERAGE(F62:F67)","v":26.349999999999998},{"$f":"AVERAGE(G62:G67)","v":13.916666666666666},null,"1985-01-01",2.37,0.40999238008937933,26.400000000000002,16.133333333333336,5.833333333333333,1.5,0.60249605508535375,61.266666666666673,45.5,29.633333333333336,0.88000000000000012,0.39675809135312096,85.1,65.599999999999994,46.099999999999994,3.67,1.102259725400458,51.066666666666663,38.966666666666669,26.8,9.879999999999999,0.71512153929670075,56.641666666666673,42.216666666666669,27.75,6.8599999999999994,0.70102366227954227,36.866666666666667,25.8,14.683333333333332,null,1981,3,0.38,41.6,{"$f":"AVERAGE(BZ65:BZ94)","v":1.0290000000000001},{"$f":"AVERAGE(CA65:CA94)","v":38.176666666666669},null,null,null,null,null,null,null,null,null,null,null,null,null,9.879999999999999]
["'459376'",1929,2,7.0000000000000007E-2,27.2,13.6,0,null,null,null,null,"1929-02-01",null,null,null,null,null,null,null,null,null,null,null,null,null,null,null,null,null,null,null,null,null,null,null,null,null,null,null,null,null,null,null,"1986-01-01",5.07,0.87707230677348247,30.600000000000005,22.099999999999998,13.566666666666668,1.58,0.63462917802323926,60.933333333333337,47.066666666666663,33.1,1.41,0.63571466909988683,84.7,66.800000000000011,48.833333333333336,3.32,0.99713958810068681,59.066666666666663,45.70000000000001,32.266666666666666,11.829999999999998,0.8562639483684179,56.908333333333331,43.891666666666673,30.799999999999997,8.06,0.82365170815934574,38.35,28.45,18.483333333333331,null,1982,3,1.81,36.6,null,null,null,null,null,null,null,null,null,null,null,null,null,null,null,11.829999999999998]
["'459376'",1929,3,0.27,53.6,39.700000000000003,25.8,null,null,null,null,"1929-03-01",null,null,null,null,null,null,null,null,null,null,null,null,null,null,null,null,null,null,null,null,null,null,null,null,null,null,null,null,null,null,null,"1987-01-01",4.88,0.84420371934015659,32.766666666666666,24.933333333333334,17,2.4900000000000002,1.0001434514416874,63.766666666666673,48.900000000000006,33.966666666666669,2.46,1.1091192099189515,83.266666666666666,65.833333333333329,48.300000000000004,0.45,0.13515446224256297,66.233333333333334,49,31.733333333333334,11.8,0.85409252669039171,60.925000000000004,46.900000000000006,32.79999999999999,7.91,0.80832320242437028,43.050000000000004,32.766666666666673,22.399999999999995,null,1983,3,2.79,40.200000000000003,null,null,null,null,null,null,null,null,null,null,null,null,null,null,null,11.8]
["'459376'",1929,4,0.56000000000000005,58.5,43.3,28,null,null,null,null,"1929-04-01",null,null,null,null,null,null,null,null,null,null,null,null,null,null,null,null,null,null,null,null,null,null,null,null,null,null,null,null,null,null,null,"1988-01-01",6.48,1.1209918240418473,30.733333333333334,21.233333333333334,11.700000000000001,2.4099999999999997,0.96801032850380153,62.033333333333339,47.5,32.9,2.36,1.0640330631742787,82.266666666666666,64.600000000000009,46.866666666666667,3.05,0.91604691075514899,61.9,47.1,32.233333333333334,11.93,0.86350202062850612,59.81666666666667,45.308333333333337,30.74166666666666,7.5,0.76642528674877075,43.266666666666673,31.366666666666674,19.416666666666668,null,1984,3,1.85,40,null,null,null,null,null,null,null,null,null,null,null,null,null,null,null,11.93]
["'459376'",1929,5,0.68,72,54.2,36.4,null,null,null,null,"1929-05-01",null,null,null,null,null,null,null,null,null,null,null,null,null,null,null,null,null,null,null,null,null,null,null,null,null,null,null,null,null,null,null,"1989-01-01",3.8,0.65737174866651538,30.533333333333331,21.400000000000002,12.266666666666666,5.01,2.0123368239850814,59.566666666666663,45.466666666666669,31.266666666666669,1.5,0.67629220117009248,81.733333333333334,64.733333333333334,47.70000000000001,2.67,0.80191647597254023,61.766666666666673,46.966666666666669,32.133333333333333,13.120000000000001,0.94963508052355416,58.574999999999996,44.699999999999996,30.783333333333331,8.48,0.8665715242172769,40.733333333333327,30.200000000000003,19.633333333333333,null,1985,3,0.64,34.6,null,null,null,null,null,null,null,null,null,null,null,null,null,null,null,13.120000000000001]
["'459376'",1929,6,1.52,76.400000000000006,60.7,44.9,null,null,null,null,"1929-06-01",null,null,null,null,null,null,null,null,null,null,null,null,null,null,null,null,null,null,null,null,null,null,null,null,null,null,null,null,null,null,null,"1990-01-01",4.62,0.79922565232613185,33.566666666666663,25.099999999999998,16.599999999999998,4.34,1.74322191938029,61.733333333333327,47.6,33.466666666666669,4.53,2.0424024475336791,82.13333333333334,65.7,49.20000000000001,4.17,1.2524313501144169,61.300000000000004,46.566666666666663,31.8,16.150000000000002,1.1689486700042226,60.091666666666669,46.608333333333327,33.091666666666669,7.73,0.78992899554239981,43.366666666666667,32.85,22.3,null,1986,3,0.6,40.6,null,null,null,null,null,null,null,null,null,null,null,null,null,null,null,16.150000000000002]
["'459376'",1929,7,0,88.1,66.900000000000006,45.7,null,null,null,null,"1929-07-01",null,null,null,null,null,null,null,null,null,null,null,null,null,null,null,null,null,null,null,null,null,null,null,null,null,null,null,null,null,null,null,"1991-01-01",2.69,0.46535000102971746,32.800000000000004,24.099999999999998,15.366666666666667,3.17,1.2732749964137142,59.56666666666667,45.733333333333327,31.833333333333332,2.6500000000000004,1.1947828887338301,80.666666666666657,64.333333333333329,47.9,2.95,0.88601258581235731,60.333333333333336,45.833333333333336,31.299999999999997,12.700000000000001,0.91923517703118429,58.466666666666669,45.116666666666667,31.708333333333332,7.8400000000000007,0.80116989974804853,41.633333333333333,31.266666666666669,20.85,null,1987,3,1.0900000000000001,39.700000000000003,null,null,null,null,null,null,null,null,null,null,null,null,null,null,null,12.700000000000001]
["'459376'",1929,8,0.24,88.6,67.400000000000006,46.2,null,null,null,null,"1929-08-01",null,null,null,null,null,null,null,null,null,null,null,null,null,null,null,null,null,null,null,null,null,null,null,null,null,null,null,null,null,null,null,"1992-01-01",4.5,0.77846654447350505,34.966666666666669,28.366666666666664,21.7,0.91999999999999993,0.36953091378568359,66.333333333333329,49.9,33.4,6.3199999999999994,2.8494444742633225,83.13333333333334,66.7,50.199999999999996,2.2000000000000002,0.66075514874141905,58.133333333333347,45.466666666666669,32.733333333333334,14.68,1.0625490077809279,60.408333333333331,47.208333333333336,33.950000000000003,8,0.81752030586535551,44.183333333333337,34.35,24.45,null,1988,3,0.6,39.200000000000003,null,null,null,null,null,null,null,null,null,null,null,null,null,null,null,14.68]
["'459376'",1929,9,0.02,73.3,55,36.6,null,null,null,null,"1929-09-01",null,null,null,null,null,null,null,null,null,null,null,null,null,null,null,null,null,null,null,null,null,null,null,null,null,null,null,null,null,null,null,"1993-01-01",3.92,0.67813085651914218,27.166666666666668,18.933333333333334,10.633333333333333,3.49,1.4018074881652565,60.1,46.699999999999996,33.266666666666673,7,3.1560302721270981,75.8,61.6,47.300000000000004,0.83000000000000007,0.24928489702517173,61.566666666666663,45.06666666666667,28.566666666666663,17.149999999999999,1.241329392605103,55.85,43.466666666666669,31.016666666666662,6.3,0.6437972408689675,38.5,28.933333333333334,19.3,null,1989,3,1.89,34.1,null,null,null,null,null,null,null,null,null,null,null,null,null,null,null,17.149999999999999]
["'459376'",1929,10,0.33,64.8,46.7,28.6,null,null,null,null,"1929-10-01",null,null,null,null,null,null,null,null,null,null,null,null,null,null,null,null,null,null,null,null,null,null,null,null,null,null,null,null,null,null,null,"1994-01-01",5.5500000000000007,0.96010873818398967,32.033333333333331,25,17.866666666666667,2.79,1.120642662458758,63.766666666666673,48.866666666666667,33.93333333333333,1.6,0.72137834791476529,82.533333333333331,65.400000000000006,48.166666666666664,6.15,1.8471109839816942,58.033333333333339,43.933333333333337,29.799999999999997,10.479999999999999,0.75854997285722914,60.175000000000004,46.316666666666663,32.391666666666673,5.98,0.61109642863435332,42.916666666666664,31.933333333333334,20.883333333333336,null,1990,3,0.46,39.6,null,null,null,null,null,null,null,null,null,null,null,null,null,null,null,10.479999999999999]
["'459376'",1929,11,0.11,45.5,30.4,15.3,null,null,null,null,"1929-11-01",null,null,null,null,null,null,null,null,null,null,null,null,null,null,null,null,null,null,null,null,null,null,null,null,null,null,null,null,null,null,null,"1995-01-01",8.17,1.4133492596330082,32.300000000000004,24.166666666666668,16,5.05,2.0284033854540242,59.79999999999999,45.9,31.933333333333334,1.66,0.74843003596156887,78.866666666666674,63.033333333333331,47.166666666666664,5.42,1.6278604118993141,58.933333333333337,45.766666666666673,32.533333333333331,20.900000000000002,1.5127571023584057,57.125,44.208333333333336,31.258333333333329,17.53,1.7913913702274604,39.516666666666673,29.650000000000002,19.766666666666669,null,1991,3,0.99,37.5,null,null,null,null,null,null,null,null,null,null,null,null,null,null,null,20.900000000000002]
["'459376'",1929,12,1.91,32.700000000000003,22.6,12.5,null,null,null,null,"1929-12-01",null,null,null,null,null,null,null,null,null,null,null,null,null,null,null,null,null,null,null,null,null,null,null,null,null,null,null,null,null,null,null,"1996-01-01",7.6300000000000008,1.3199332742961876,29.333333333333332,21.766666666666666,14.166666666666666,2.4500000000000002,0.98407688997274456,57.400000000000006,44.5,31.566666666666666,1.1500000000000001,0.51849068756373762,81.933333333333337,64.399999999999991,46.866666666666674,4.1899999999999995,1.2584382151029752,55.6,43.433333333333337,31.2,17.380000000000003,1.2579769588033058,56.31666666666667,43.708333333333336,31.058333333333334,13.22,1.3509523054425001,39.000000000000007,29.716666666666665,20.383333333333336,null,1992,3,0.57999999999999996,44.6,null,null,null,null,null,null,null,null,null,null,null,null,null,null,null,17.380000000000003]
["'459376'",1930,1,0.41,14.7,1.5,-11.8,null,null,null,null,"1930-01-01",{"$f":"SUM($D76:$D78)","v":4.12},{"$f":"M77/M$1052","v":0.71272936960685351},{"$f":"AVERAGE($E76:$E78)","v":28.766666666666669},{"$f":"AVERAGE($F76:$F78)","v":16.866666666666667},{"$f":"AVERAGE($G76:$G78)","v":4.8999999999999995},{"$f":"SUM($D79:$D81)","v":1.47},{"$f":"R77/R$1052","v":0.59044613398364665},{"$f":"AVERAGE($E79:$E81)","v":64},{"$f":"AVERAGE($F79:$F81)","v":47.233333333333327},{"$f":"AVERAGE($G79:$G81)","v":30.400000000000002},{"$f":"SUM($D82:$D84)","v":2.98},{"$f":"W77/W$1052","v":1.3435671729912504},{"$f":"AVERAGE($E82:$E84)","v":84.766666666666666},{"$f":"AVERAGE($F82:$F84)","v":65.733333333333334},{"$f":"AVERAGE($G82:$G84)","v":46.699999999999996},{"$f":"SUM($D85:$D87)","v":2.08},{"$f":"AB77/AB$1052","v":0.62471395881006886},{"$f":"AVERAGE($E85:$E87)","v":57.933333333333337},{"$f":"AVERAGE($F85:$F87)","v":44},{"$f":"AVERAGE($G85:$G87)","v":29.966666666666669},{"$f":"SUM(D74:D85)","v":10.08},{"$f":"AG77/AG$1052","v":0.72959768381687695},{"$f":"AVERAGE(E74:E85)","v":59.841666666666669},{"$f":"AVERAGE(F74:F85)","v":43.691666666666663},{"$f":"AVERAGE(G74:G85)","v":27.500000000000004},{"$f":"SUM(D74:D79)","v":4.9700000000000006},{"$f":"AL77/AL$1052","v":0.50788449001885216},{"$f":"AVERAGE(E74:E79)","v":41.85},{"$f":"AVERAGE(F74:F79)","v":27.75},{"$f":"AVERAGE(G74:G79)","v":13.616666666666669},null,"1997-01-01",10.24,1.7714438700908204,29.033333333333331,20.2,11.299999999999999,3.45,1.3857409266963137,57.533333333333331,44.9,32.199999999999996,4.4099999999999993,1.9882990714400715,79,63.333333333333336,47.566666666666663,4.45,1.3365274599542338,58.9,46.43333333333333,33.966666666666669,22.34,1.6169853429036736,55.558333333333337,43.241666666666667,30.858333333333334,14.68,1.5001497612629273,37.75,28.283333333333331,18.750000000000004,null,1993,3,0.2,35.6,null,null,null,null,null,null,null,null,null,null,null,null,null,null,null,22.34]
["'459376'",1930,2,1.8,38.9,26.5,14,null,null,null,null,"1930-02-01",null,null,null,null,null,null,null,null,null,null,null,null,null,null,null,null,null,null,null,null,null,null,null,null,null,null,null,null,null,null,null,"1998-01-01",7.2,1.2455464711576081,33.800000000000004,27.133333333333329,20.433333333333334,5.2899999999999991,2.1248027542676806,60.933333333333337,47.800000000000004,34.633333333333333,2.6799999999999997,1.2083087327572317,83.86666666666666,67.266666666666666,50.6,3.2,0.96109839816933673,62.599999999999994,48.466666666666669,34.300000000000004,18.829999999999998,1.3629290065745825,59.958333333333336,47.433333333333337,34.875,11.96,1.2221928572687066,42.266666666666666,33.433333333333337,24.583333333333332,null,1994,3,0.16,40.1,null,null,null,null,null,null,null,null,null,null,null,null,null,null,null,18.829999999999998]
["'459376'",1930,3,0.41,54.5,38.799999999999997,23.1,null,null,null,null,"1930-03-01",null,null,null,null,null,null,null,null,null,null,null,null,null,null,null,null,null,null,null,null,null,null,null,null,null,null,null,null,null,null,null,"1999-01-01",7.43,1.285334761208476,33.133333333333333,25.633333333333336,18.066666666666666,2.2200000000000002,0.89169416152632364,57.933333333333337,43.933333333333337,29.866666666666664,2.0099999999999998,0.90623154956792373,79.86666666666666,63.966666666666669,48,3.41,1.0241704805491996,59.866666666666674,46.29999999999999,32.699999999999996,14.820000000000002,1.0726823089450515,57.783333333333324,44.975000000000001,32.1,12.120000000000001,1.2385432633860136,41.93333333333333,32.500000000000007,23.016666666666666,null,1995,3,3.48,35.1,null,null,null,null,null,null,null,null,null,null,null,null,null,null,null,14.820000000000002]
["'459376'",1930,4,0.46,67.900000000000006,50.1,32.200000000000003,null,null,null,null,"1930-04-01",null,null,null,null,null,null,null,null,null,null,null,null,null,null,null,null,null,null,null,null,null,null,null,null,null,null,null,null,null,null,null,"2000-01-01",5.42,0.93761970467697719,33.266666666666666,26.066666666666666,18.866666666666664,1.88,0.75512838904030999,60.6,47.066666666666663,33.43333333333333,2.3600000000000003,1.0640330631742789,80.733333333333334,63.966666666666661,47.166666666666664,2.29,0.68778604118993159,56.666666666666664,43.666666666666664,30.633333333333336,13.049999999999997,0.94456842994149226,58.483333333333327,45.9,33.274999999999999,9.42,0.96263016015645608,42.31666666666667,33.300000000000004,24.266666666666666,null,1996,3,0.31,36.6,null,null,null,null,null,null,null,null,null,null,null,null,null,null,null,13.049999999999997]
["'459376'",1930,5,0.6,69.599999999999994,52.8,35.9,null,null,null,null,"1930-05-01",null,null,null,null,null,null,null,null,null,null,null,null,null,null,null,null,null,null,null,null,null,null,null,null,null,null,null,null,null,null,null,"2001-01-01",2.4299999999999997,0.42037193401569267,32,24.133333333333336,16.2,1.4700000000000002,0.59044613398364676,61.533333333333331,46.833333333333336,32.06666666666667,1.6900000000000002,0.76195587998497083,80.899999999999991,64.833333333333329,48.766666666666673,3.55,1.0662185354691078,59.766666666666673,46.866666666666674,33.9,8.3199999999999985,0.60220761203932693,58.108333333333327,45.15,32.15,5.67,0.57941751678207076,40.949999999999996,31.083333333333332,21.166666666666668,null,1997,3,1.1200000000000001,34.9,null,null,null,null,null,null,null,null,null,null,null,null,null,null,null,8.3199999999999985]
["'459376'",1930,6,2.67,74.5,58.2,41.9,null,null,null,null,"1930-06-01",null,null,null,null,null,null,null,null,null,null,null,null,null,null,null,null,null,null,null,null,null,null,null,null,null,null,null,null,null,null,null,"2002-01-01",4.46,0.77154684185596278,33.1,25.333333333333332,17.533333333333331,1.57,0.63061253765600356,56.933333333333337,43.866666666666667,30.766666666666666,0.77,0.3471633299339808,82.933333333333337,65.63333333333334,48.333333333333336,1.05,0.31536041189931363,61.29999999999999,46.133333333333326,30.900000000000002,9.8599999999999977,0.71367392484468306,57.958333333333336,45.20000000000001,32.416666666666664,8.2899999999999991,0.84715541695297458,40.833333333333336,31.566666666666674,22.266666666666666,null,1998,3,1.23,39.299999999999997,null,null,null,null,null,null,null,null,null,null,null,null,null,null,null,9.8599999999999977]
["'459376'",1930,7,0.08,92.5,72.099999999999994,51.7,null,null,null,null,"1930-07-01",null,null,null,null,null,null,null,null,null,null,null,null,null,null,null,null,null,null,null,null,null,null,null,null,null,null,null,null,null,null,null,"2003-01-01",7.67,1.3268529769137298,35,27.766666666666666,20.466666666666669,3.67,1.4741070147754989,58.9,46.166666666666664,33.366666666666667,0.11,4.9594761419140113E-2,85.100000000000009,67.333333333333329,49.566666666666663,5.7200000000000006,1.7179633867276896,59.9,46.166666666666664,32.366666666666667,12.579999999999998,0.91054949031907839,60.341666666666669,47.058333333333337,33.716666666666669,9.7299999999999986,0.99430907200873853,44.116666666666667,33.816666666666663,23.433333333333334,null,1999,3,1.62,35.4,null,null,null,null,null,null,null,null,null,null,null,null,null,null,null,12.579999999999998]
["'459376'",1930,8,0.23,87.3,66.900000000000006,46.5,null,null,null,null,"1930-08-01",null,null,null,null,null,null,null,null,null,null,null,null,null,null,null,null,null,null,null,null,null,null,null,null,null,null,null,null,null,null,null,"2004-01-01",4.1100000000000003,0.71099944395246806,30.733333333333334,23.433333333333334,16.099999999999998,2.86,1.1487591450294077,63.5,48.4,33.233333333333334,3.4699999999999998,1.564489292040147,84.366666666666674,67.5,50.633333333333333,2.11,0.6337242562929063,59.833333333333336,45.933333333333337,31.966666666666669,16.18,1.1711200916822488,59.158333333333339,46.058333333333337,32.916666666666664,10.82,1.1056962136828934,41.466666666666669,31.683333333333337,21.866666666666664,null,2000,3,0.68,39.1,null,null,null,null,null,null,null,null,null,null,null,null,null,null,null,16.18]
["'459376'",1930,9,1.07,75.2,57.7,40.1,null,null,null,null,"1930-09-01",null,null,null,null,null,null,null,null,null,null,null,null,null,null,null,null,null,null,null,null,null,null,null,null,null,null,null,null,null,null,null,"2005-01-01",3.8199999999999994,0.6608315999752864,35,26.333333333333332,17.633333333333336,2.4500000000000002,0.98407688997274456,63.166666666666664,48.866666666666674,34.533333333333331,2.0299999999999998,0.9152487789168583,82.13333333333334,64.933333333333337,47.70000000000001,3.2800000000000002,0.98512585812357023,56.43333333333333,44.400000000000006,32.366666666666667,10.6,0.76723565956933482,60.124999999999993,46.533333333333339,32.908333333333331,6.59,0.67343235195658657,44.516666666666673,33.70000000000001,22.849999999999998,null,2001,3,1.02,40.1,null,null,null,null,null,null,null,null,null,null,null,null,null,null,null,10.6]
["'459376'",1930,10,0.2,58.2,44.3,30.3,null,null,null,null,"1930-10-01",null,null,null,null,null,null,null,null,null,null,null,null,null,null,null,null,null,null,null,null,null,null,null,null,null,null,null,null,null,null,null,"2006-01-01",8.15,1.409889408324237,32.4,24.366666666666664,16.333333333333332,3.58,1.4379572514703776,59.766666666666673,46.199999999999996,32.6,2.74,1.2353604208040356,83.3,66.36666666666666,49.4,5.2600000000000007,1.5798054919908473,59.066666666666663,45.433333333333337,31.733333333333331,17.79,1.2876530550696668,58.291666666666664,45.574999999999996,32.833333333333336,12.45,1.2722659760029595,40.1,31.083333333333332,22.049999999999997,null,2002,3,0.79,33.200000000000003,null,null,null,null,null,null,null,null,null,null,null,null,null,null,null,17.79]
["'459376'",1930,11,0.81,40.4,30,19.5,null,null,null,null,"1930-11-01",null,null,null,null,null,null,null,null,null,null,null,null,null,null,null,null,null,null,null,null,null,null,null,null,null,null,null,null,null,null,null,"2007-01-01",6.1400000000000006,1.0621743517927382,30.566666666666666,22.333333333333332,14.1,0.89999999999999991,0.36149763305121219,60.833333333333336,46.666666666666664,32.433333333333337,1.2100000000000002,0.54554237561054131,82.63333333333334,65.833333333333329,49.033333333333331,2.71,0.81393020594965704,57.866666666666674,44.566666666666663,31.2,13.649999999999999,0.98799686350202076,58.141666666666659,44.983333333333327,31.791666666666668,11.409999999999998,1.1659883362404631,40.216666666666661,30.416666666666668,20.599999999999998,null,2003,3,1.03,38.9,null,null,null,null,null,null,null,null,null,null,null,null,null,null,null,13.649999999999999]
["'459376'",1930,12,0.36,30.5,22.9,15.3,null,null,null,null,"1930-12-01",null,null,null,null,null,null,null,null,null,null,null,null,null,null,null,null,null,null,null,null,null,null,null,null,null,null,null,null,null,null,null,"2008-01-01",7.3599999999999994,1.2732252816277772,29.866666666666664,20.366666666666667,10.799999999999999,1.1499999999999999,0.46191364223210452,58.533333333333339,45.366666666666674,32.133333333333333,1.53,0.68981804519349432,81.399999999999991,64.766666666666666,48.1,3.87,1.1623283752860416,60.599999999999994,46.6,32.56666666666667,12.34,0.89317811689486715,56.925000000000004,43.641666666666673,30.308333333333334,10,1.0219003823316943,39.083333333333336,28.716666666666669,18.283333333333335,null,2004,3,1.0900000000000001,41.5,null,null,null,null,null,null,null,null,null,null,null,null,null,null,null,12.34]
["'459376'",1931,1,2.35,31.5,24.8,18,null,null,null,null,"1931-01-01",{"$f":"SUM($D88:$D90)","v":3.04},{"$f":"M89/M$1052","v":0.5258973989332123},{"$f":"AVERAGE($E88:$E90)","v":33.1},{"$f":"AVERAGE($F88:$F90)","v":24.3},{"$f":"AVERAGE($G88:$G90)","v":15.466666666666667},{"$f":"SUM($D91:$D93)","v":0.74999999999999989},{"$f":"R89/R$1052","v":0.30124802754267682},{"$f":"AVERAGE($E91:$E93)","v":63.699999999999996},{"$f":"AVERAGE($F91:$F93)","v":47.366666666666667},{"$f":"AVERAGE($G91:$G93)","v":31},{"$f":"SUM($D94:$D96)","v":1.2799999999999998},{"$f":"W89/W$1052","v":0.57710267833181217},{"$f":"AVERAGE($E94:$E96)","v":85.13333333333334},{"$f":"AVERAGE($F94:$F96)","v":66.733333333333334},{"$f":"AVERAGE($G94:$G96)","v":48.333333333333336},{"$f":"SUM($D97:$D99)","v":1.76},{"$f":"AB89/AB$1052","v":0.5286041189931352},{"$f":"AVERAGE($E97:$E99)","v":58.166666666666664},{"$f":"AVERAGE($F97:$F99)","v":45.466666666666669},{"$f":"AVERAGE($G97:$G99)","v":32.699999999999996},{"$f":"SUM(D86:D97)","v":6.8100000000000005},{"$f":"AG89/AG$1052","v":0.49291272091199723},{"$f":"AVERAGE(E86:E97)","v":59.599999999999994},{"$f":"AVERAGE(F86:F97)","v":45.633333333333333},{"$f":"AVERAGE(G86:G97)","v":31.625},{"$f":"SUM(D86:D91)","v":4.62},{"$f":"AL89/AL$1052","v":0.47211797663724281},{"$f":"AVERAGE(E86:E91)","v":41.533333333333331},{"$f":"AVERAGE(F86:F91)","v":30.916666666666668},{"$f":"AVERAGE(G86:G91)","v":20.249999999999996},null,"2009-01-01",4.03,0.69716003871738341,29.466666666666669,20.666666666666668,11.800000000000002,2.31,0.92784392483144473,58.933333333333337,44.5,30.033333333333331,1.65,0.74392142128710159,84.399999999999991,66.966666666666654,49.5,3.61,1.0842391304347829,59.233333333333327,46.366666666666667,33.466666666666669,12.54,0.90765426141504324,58.641666666666673,45.058333333333337,31.424999999999997,8.9700000000000006,0.91664464295152992,39.85,29.716666666666669,19.516666666666666,null,2005,3,0.78,41.8,null,null,null,null,null,null,null,null,null,null,null,null,null,null,null,12.54]
["'459376'",1931,2,0.33,37.299999999999997,25.2,13.1,null,null,null,null,"1931-02-01",null,null,null,null,null,null,null,null,null,null,null,null,null,null,null,null,null,null,null,null,null,null,null,null,null,null,null,null,null,null,null,"2010-01-01",5.73,0.99124739996292988,35.366666666666667,27.933333333333337,20.433333333333334,5.46,2.1930856405106876,58.733333333333327,45.666666666666664,32.5,3.19,1.4382480811550633,80.600000000000009,63.866666666666674,47.133333333333333,3.84,1.1533180778032039,58.266666666666673,45.533333333333331,32.766666666666666,18.41,1.3325291030822128,57.816666666666663,45.591666666666669,33.316666666666663,9,0.91971034409852492,42.93333333333333,33.633333333333333,24.283333333333331,null,2006,3,1.33,36.799999999999997,null,null,null,null,null,null,null,null,null,null,null,null,null,null,null,18.41]
["'459376'",1931,3,0.56999999999999995,51.3,38.299999999999997,25.3,null,null,null,null,"1931-03-01",null,null,null,null,null,null,null,null,null,null,null,null,null,null,null,null,null,null,null,null,null,null,null,null,null,null,null,null,null,null,null,null,null,null,null,null,null,null,null,null,null,null,null,null,null,null,null,null,null,null,null,null,null,null,null,null,null,null,null,null,null,null,null,2007,3,0.36,38.700000000000003]
["'459376'",1931,4,0.1,64.5,47.3,30,null,null,null,null,"1931-04-01",null,null,null,null,null,null,null,null,null,null,null,null,null,null,null,null,null,null,null,null,null,null,null,null,null,null,null,null,null,null,null,null,null,null,null,null,null,null,null,null,null,null,null,null,null,null,null,null,null,null,null,null,null,null,null,null,null,null,null,null,null,null,null,2008,3,0.42,36]
["'459376'",1931,5,0.08,75.3,56.5,37.700000000000003,null,null,null,null,"1931-05-01",null,null,null,null,null,null,null,null,null,null,null,null,null,null,null,null,null,null,null,null,null,null,null,null,null,null,null,null,null,null,null,null,null,null,null,null,null,null,null,null,null,null,null,null,null,null,null,null,null,null,null,null,null,null,null,null,null,null,null,null,null,null,null,2009,3,1.1499999999999999,33.5]
["'459376'",1931,6,1.1599999999999999,77.5,62.1,46.7,null,null,null,null,"1931-06-01",null,null,null,null,null,null,null,null,null,null,null,null,null,null,null,null,null,null,null,null,null,null,null,null,null,null,null,null,null,null,null,null,null,null,null,null,null,null,null,null,null,null,null,null,null,null,null,null,null,null,null,null,null,null,null,null,null,null,null,null,null,null,null,2010,3,0.42,40.4]
["'459376'",1931,7,0.12,89.9,70,50.1,null,null,null,null,"1931-07-01",null,null,null,null,null,null,null,null,null,null,null,null,null,null,null,null,null,null,null,null,null,null,null,null,null,null,null,null,null,null,null,null,null,null,null,null,null,null,null,null,null,null,null,null,null,null,null,null,null,null,null,null,null,null,null,null,null,null,null,null,null,null,null,1981,4,0.16,44.9,{"$f":"AVERAGE(BZ95:BZ124)","v":0.75600000000000012},{"$f":"AVERAGE(CA95:CA124)","v":46.5}]
["'459376'",1931,8,0,88,68.099999999999994,48.2,null,null,null,null,"1931-08-01",null,null,null,null,null,null,null,null,null,null,null,null,null,null,null,null,null,null,null,null,null,null,null,null,null,null,null,null,null,null,null,null,null,null,null,null,null,null,null,null,null,null,null,null,null,null,null,null,null,null,null,null,null,null,null,null,null,null,null,null,null,null,null,1982,4,0.32,41.7]
["'459376'",1931,9,0.73,70.8,58.1,45.3,null,null,null,null,"1931-09-01",null,null,null,null,null,null,null,null,null,null,null,null,null,null,null,null,null,null,null,null,null,null,null,null,null,null,null,null,null,null,null,null,null,null,null,null,null,null,null,null,null,null,null,null,null,null,null,null,null,null,null,null,null,null,null,null,null,null,null,null,null,null,null,1983,4,0.91,45.9]
["'459376'",1931,10,0.01,64.400000000000006,48.8,33.200000000000003,null,null,null,null,"1931-10-01",null,null,null,null,null,null,null,null,null,null,null,null,null,null,null,null,null,null,null,null,null,null,null,null,null,null,null,null,null,null,null,null,null,null,null,null,null,null,null,null,null,null,null,null,null,null,null,null,null,null,null,null,null,null,null,null,null,null,null,null,null,null,null,1984,4,0.65,43.3]
["'459376'",1931,11,1.02,39.299999999999997,29.5,19.600000000000001,null,null,null,null,"1931-11-01",null,null,null,null,null,null,null,null,null,null,null,null,null,null,null,null,null,null,null,null,null,null,null,null,null,null,null,null,null,null,null,null,null,null,null,null,null,null,null,null,null,null,null,null,null,null,null,null,null,null,null,null,null,null,null,null,null,null,null,null,null,null,null,1985,4,0.1,46.1]
["'459376'",1931,12,3.62,29,22.2,15.3,null,null,null,null,"1931-12-01",null,null,null,null,null,null,null,null,null,null,null,null,null,null,null,null,null,null,null,null,null,null,null,null,null,null,null,null,null,null,null,null,null,null,null,null,null,null,null,null,null,null,null,null,null,null,null,null,null,null,null,null,null,null,null,null,null,null,null,null,null,null,null,1986,4,0.79,45.5]
["'459376'",1932,1,1.79,26.3,16.5,6.6,null,null,null,null,"1932-01-01",{"$f":"SUM($D100:$D102)","v":6.05},{"$f":"M101/M$1052","v":1.0466050209032678},{"$f":"AVERAGE($E100:$E102)","v":29.233333333333331},{"$f":"AVERAGE($F100:$F102)","v":19.866666666666667},{"$f":"AVERAGE($G100:$G102)","v":10.4},{"$f":"SUM($D103:$D105)","v":1.67},{"$f":"R101/R$1052","v":0.67077894132836047},{"$f":"AVERAGE($E103:$E105)","v":61},{"$f":"AVERAGE($F103:$F105)","v":47},{"$f":"AVERAGE($G103:$G105)","v":32.93333333333333},{"$f":"SUM($D106:$D108)","v":0.3},{"$f":"W101/W$1052","v":0.13525844023401848},{"$f":"AVERAGE($E106:$E108)","v":83.466666666666654},{"$f":"AVERAGE($F106:$F108)","v":65.933333333333337},{"$f":"AVERAGE($G106:$G108)","v":48.333333333333336},{"$f":"SUM($D109:$D111)","v":3.6799999999999997},{"$f":"AB101/AB$1052","v":1.1052631578947372},{"$f":"AVERAGE($E109:$E111)","v":59.099999999999994},{"$f":"AVERAGE($F109:$F111)","v":45.733333333333327},{"$f":"AVERAGE($G109:$G111)","v":32.300000000000004},{"$f":"SUM(D98:D109)","v":9.19},{"$f":"AG101/AG$1052","v":0.6651788407020931},{"$f":"AVERAGE(E98:E109)","v":58.524999999999999},{"$f":"AVERAGE(F98:F109)","v":44.591666666666669},{"$f":"AVERAGE(G98:G109)","v":30.591666666666669},{"$f":"SUM(D98:D103)","v":7.9},{"$f":"AL101/AL$1052","v":0.80730130204203865},{"$f":"AVERAGE(E98:E103)","v":40.199999999999996},{"$f":"AVERAGE(F98:F103)","v":29.350000000000005},{"$f":"AVERAGE(G98:G103)","v":18.416666666666668},null,null,null,null,null,null,null,null,null,null,null,null,null,null,null,null,null,null,null,null,null,null,null,null,null,null,null,null,null,null,null,null,null,1987,4,0.23,50.6]
["'459376'",1932,2,0.64,32.4,20.9,9.3000000000000007,null,null,null,null,"1932-02-01",null,null,null,null,null,null,null,null,null,null,null,null,null,null,null,null,null,null,null,null,null,null,null,null,null,null,null,null,null,null,null,null,null,null,null,null,null,null,null,null,null,null,null,null,null,null,null,null,null,null,null,null,null,null,null,null,null,null,null,null,null,null,null,1988,4,1.2,49]
["'459376'",1932,3,0.82,49.8,38.200000000000003,26.5,null,null,null,null,"1932-03-01",null,null,null,null,null,null,null,null,null,null,null,null,null,null,null,null,null,null,null,null,null,null,null,null,null,null,null,null,null,null,null,null,null,null,null,null,null,null,null,null,null,null,null,null,null,null,null,null,null,null,null,null,null,null,null,null,null,null,null,null,null,null,null,1989,4,1.24,48.9]
["'459376'",1932,4,0.49,63.4,49.2,34.9,null,null,null,null,"1932-04-01",null,null,null,null,null,null,null,null,null,null,null,null,null,null,null,null,null,null,null,null,null,null,null,null,null,null,null,null,null,null,null,null,null,null,null,null,null,null,null,null,null,null,null,null,null,null,null,null,null,null,null,null,null,null,null,null,null,null,null,null,null,null,null,1990,4,0.67,50.3]
["'459376'",1932,5,0.36,69.8,53.6,37.4,null,null,null,null,"1932-05-01",null,null,null,null,null,null,null,null,null,null,null,null,null,null,null,null,null,null,null,null,null,null,null,null,null,null,null,null,null,null,null,null,null,null,null,null,null,null,null,null,null,null,null,null,null,null,null,null,null,null,null,null,null,null,null,null,null,null,null,null,null,null,null,1991,4,0.71,46]
["'459376'",1932,6,0.02,82.8,65.2,47.6,null,null,null,null,"1932-06-01",null,null,null,null,null,null,null,null,null,null,null,null,null,null,null,null,null,null,null,null,null,null,null,null,null,null,null,null,null,null,null,null,null,null,null,null,null,null,null,null,null,null,null,null,null,null,null,null,null,null,null,null,null,null,null,null,null,null,null,null,null,null,null,1992,4,0.34,47.6]
["'459376'",1932,7,0.24,82.3,65.3,48.2,null,null,null,null,"1932-07-01",null,null,null,null,null,null,null,null,null,null,null,null,null,null,null,null,null,null,null,null,null,null,null,null,null,null,null,null,null,null,null,null,null,null,null,null,null,null,null,null,null,null,null,null,null,null,null,null,null,null,null,null,null,null,null,null,null,null,null,null,null,null,null,1993,4,2.34,44.9]
["'459376'",1932,8,0.04,85.3,67.3,49.2,null,null,null,null,"1932-08-01",null,null,null,null,null,null,null,null,null,null,null,null,null,null,null,null,null,null,null,null,null,null,null,null,null,null,null,null,null,null,null,null,null,null,null,null,null,null,null,null,null,null,null,null,null,null,null,null,null,null,null,null,null,null,null,null,null,null,null,null,null,null,null,1994,4,1.59,50.6]
["'459376'",1932,9,0.14000000000000001,77.5,58.4,39.299999999999997,null,null,null,null,"1932-09-01",null,null,null,null,null,null,null,null,null,null,null,null,null,null,null,null,null,null,null,null,null,null,null,null,null,null,null,null,null,null,null,null,null,null,null,null,null,null,null,null,null,null,null,null,null,null,null,null,null,null,null,null,null,null,null,null,null,null,null,null,null,null,null,1995,4,0.64,45.5]
["'459376'",1932,10,0.43,57.2,44.2,31.1,null,null,null,null,"1932-10-01",null,null,null,null,null,null,null,null,null,null,null,null,null,null,null,null,null,null,null,null,null,null,null,null,null,null,null,null,null,null,null,null,null,null,null,null,null,null,null,null,null,null,null,null,null,null,null,null,null,null,null,null,null,null,null,null,null,null,null,null,null,null,null,1996,4,0.81,46.4]
["'459376'",1932,11,3.11,42.6,34.6,26.5,null,null,null,null,"1932-11-01",null,null,null,null,null,null,null,null,null,null,null,null,null,null,null,null,null,null,null,null,null,null,null,null,null,null,null,null,null,null,null,null,null,null,null,null,null,null,null,null,null,null,null,null,null,null,null,null,null,null,null,null,null,null,null,null,null,null,null,null,null,null,null,1997,4,0.69,44]
["'459376'",1932,12,1.66,31.3,20.7,10,null,null,null,null,"1932-12-01",null,null,null,null,null,null,null,null,null,null,null,null,null,null,null,null,null,null,null,null,null,null,null,null,null,null,null,null,null,null,null,null,null,null,null,null,null,null,null,null,null,null,null,null,null,null,null,null,null,null,null,null,null,null,null,null,null,null,null,null,null,null,null,1998,4,1.49,46.6]
["'459376'",1933,1,1.1599999999999999,30.2,20.6,10.9,null,null,null,null,"1933-01-01",{"$f":"SUM($D112:$D114)","v":3.3099999999999996},{"$f":"M113/M$1052","v":0.57260539160162249},{"$f":"AVERAGE($E112:$E114)","v":30.666666666666668},{"$f":"AVERAGE($F112:$F114)","v":19.766666666666666},{"$f":"AVERAGE($G112:$G114)","v":8.7666666666666657},{"$f":"SUM($D115:$D117)","v":2.68},{"$f":"R113/R$1052","v":1.0764596184191655},{"$f":"AVERAGE($E115:$E117)","v":58.066666666666663},{"$f":"AVERAGE($F115:$F117)","v":44.199999999999996},{"$f":"AVERAGE($G115:$G117)","v":30.3},{"$f":"SUM($D118:$D120)","v":0.8},{"$f":"W113/W$1052","v":0.36068917395738265},{"$f":"AVERAGE($E118:$E120)","v":85.433333333333323},{"$f":"AVERAGE($F118:$F120)","v":65.899999999999991},{"$f":"AVERAGE($G118:$G120)","v":46.333333333333336},{"$f":"SUM($D121:$D123)","v":3.3999999999999995},{"$f":"AB113/AB$1052","v":1.02116704805492},{"$f":"AVERAGE($E121:$E123)","v":57.633333333333326},{"$f":"AVERAGE($F121:$F123)","v":44.699999999999996},{"$f":"AVERAGE($G121:$G123)","v":31.7},{"$f":"SUM(D110:D121)","v":10.920000000000002},{"$f":"AG113/AG$1052","v":0.79039749080161681},{"$f":"AVERAGE(E110:E121)","v":57.341666666666669},{"$f":"AVERAGE(F110:F121)","v":43.316666666666663},{"$f":"AVERAGE(G110:G121)","v":29.225000000000005},{"$f":"SUM(D110:D115)","v":8.18},{"$f":"AL113/AL$1052","v":0.83591451274732598},{"$f":"AVERAGE(E110:E115)","v":39.866666666666667},{"$f":"AVERAGE(F110:F115)","v":28.966666666666669},{"$f":"AVERAGE(G110:G115)","v":17.966666666666669},null,null,null,null,null,null,null,null,null,null,null,null,null,null,null,null,null,null,null,null,null,null,null,null,null,null,null,null,null,null,null,null,null,1999,4,0.05,45.4]
["'459376'",1933,2,0.49,30.5,18,5.4,null,null,null,null,"1933-02-01",null,null,null,null,null,null,null,null,null,null,null,null,null,null,null,null,null,null,null,null,null,null,null,null,null,null,null,null,null,null,null,null,null,null,null,null,null,null,null,null,null,null,null,null,null,null,null,null,null,null,null,null,null,null,null,null,null,null,null,null,null,null,null,2000,4,0.37,48.8]
["'459376'",1933,3,1.33,47.4,35.700000000000003,23.9,null,null,null,null,"1933-03-01",null,null,null,null,null,null,null,null,null,null,null,null,null,null,null,null,null,null,null,null,null,null,null,null,null,null,null,null,null,null,null,null,null,null,null,null,null,null,null,null,null,null,null,null,null,null,null,null,null,null,null,null,null,null,null,null,null,null,null,null,null,null,null,2001,4,0.39,45.2]
["'459376'",1933,4,0.06,63.9,47.5,31.1,null,null,null,null,"1933-04-01",null,null,null,null,null,null,null,null,null,null,null,null,null,null,null,null,null,null,null,null,null,null,null,null,null,null,null,null,null,null,null,null,null,null,null,null,null,null,null,null,null,null,null,null,null,null,null,null,null,null,null,null,null,null,null,null,null,null,null,null,null,null,null,2002,4,0.12,46.5]
["'459376'",1933,5,1.29,62.9,49.4,35.9,null,null,null,null,"1933-05-01",null,null,null,null,null,null,null,null,null,null,null,null,null,null,null,null,null,null,null,null,null,null,null,null,null,null,null,null,null,null,null,null,null,null,null,null,null,null,null,null,null,null,null,null,null,null,null,null,null,null,null,null,null,null,null,null,null,null,null,null,null,null,null,2003,4,2.56,46.5]
["'459376'",1933,6,0.39,77.8,60.1,42.3,null,null,null,null,"1933-06-01",null,null,null,null,null,null,null,null,null,null,null,null,null,null,null,null,null,null,null,null,null,null,null,null,null,null,null,null,null,null,null,null,null,null,null,null,null,null,null,null,null,null,null,null,null,null,null,null,null,null,null,null,null,null,null,null,null,null,null,null,null,null,null,2004,4,0.62,49.7]
["'459376'",1933,7,0.21,87.9,68,48.1,null,null,null,null,"1933-07-01",null,null,null,null,null,null,null,null,null,null,null,null,null,null,null,null,null,null,null,null,null,null,null,null,null,null,null,null,null,null,null,null,null,null,null,null,null,null,null,null,null,null,null,null,null,null,null,null,null,null,null,null,null,null,null,null,null,null,null,null,null,null,null,2005,4,0.52,47.6]
["'459376'",1933,8,0.2,90.6,69.599999999999994,48.6,null,null,null,null,"1933-08-01",null,null,null,null,null,null,null,null,null,null,null,null,null,null,null,null,null,null,null,null,null,null,null,null,null,null,null,null,null,null,null,null,null,null,null,null,null,null,null,null,null,null,null,null,null,null,null,null,null,null,null,null,null,null,null,null,null,null,null,null,null,null,null,2006,4,1.1399999999999999,47.3]
["'459376'",1933,9,0.59,65.8,51.4,36.9,null,null,null,null,"1933-09-01",null,null,null,null,null,null,null,null,null,null,null,null,null,null,null,null,null,null,null,null,null,null,null,null,null,null,null,null,null,null,null,null,null,null,null,null,null,null,null,null,null,null,null,null,null,null,null,null,null,null,null,null,null,null,null,null,null,null,null,null,null,null,null,2007,4,0.1,46]
["'459376'",1933,10,1.4,61.3,46.2,31.1,null,null,null,null,"1933-10-01",null,null,null,null,null,null,null,null,null,null,null,null,null,null,null,null,null,null,null,null,null,null,null,null,null,null,null,null,null,null,null,null,null,null,null,null,null,null,null,null,null,null,null,null,null,null,null,null,null,null,null,null,null,null,null,null,null,null,null,null,null,null,null,2008,4,0.2,42.4]
["'459376'",1933,11,1.41,45.8,36.5,27.1,null,null,null,null,"1933-11-01",null,null,null,null,null,null,null,null,null,null,null,null,null,null,null,null,null,null,null,null,null,null,null,null,null,null,null,null,null,null,null,null,null,null,null,null,null,null,null,null,null,null,null,null,null,null,null,null,null,null,null,null,null,null,null,null,null,null,null,null,null,null,null,2009,4,0.35,45.7]
["'459376'",1933,12,5.47,34,28.2,22.3,null,null,null,null,"1933-12-01",null,null,null,null,null,null,null,null,null,null,null,null,null,null,null,null,null,null,null,null,null,null,null,null,null,null,null,null,null,null,null,null,null,null,null,null,null,null,null,null,null,null,null,null,null,null,null,null,null,null,null,null,null,null,null,null,null,null,null,null,null,null,null,2010,4,1.38,46.1]
["'459376'",1934,1,1.95,33.299999999999997,23.5,13.6,null,null,null,null,"1934-01-01",{"$f":"SUM($D124:$D126)","v":7.66},{"$f":"M125/M$1052","v":1.3251230512593442},{"$f":"AVERAGE($E124:$E126)","v":36.133333333333333},{"$f":"AVERAGE($F124:$F126)","v":27},{"$f":"AVERAGE($G124:$G126)","v":17.766666666666666},{"$f":"SUM($D127:$D129)","v":1.83},{"$f":"R125/R$1052","v":0.73504518720413159},{"$f":"AVERAGE($E127:$E129)","v":67.36666666666666},{"$f":"AVERAGE($F127:$F129)","v":50.066666666666663},{"$f":"AVERAGE($G127:$G129)","v":32.733333333333327},{"$f":"SUM($D130:$D132)","v":0.71},{"$f":"W125/W$1052","v":0.32011164188717706},{"$f":"AVERAGE($E130:$E132)","v":85.033333333333331},{"$f":"AVERAGE($F130:$F132)","v":66.399999999999991},{"$f":"AVERAGE($G130:$G132)","v":47.733333333333327},{"$f":"SUM($D133:$D135)","v":6.6999999999999993},{"$f":"AB125/AB$1052","v":2.0122997711670485},{"$f":"AVERAGE($E133:$E135)","v":57.6},{"$f":"AVERAGE($F133:$F135)","v":45.833333333333336},{"$f":"AVERAGE($G133:$G135)","v":34.06666666666667},{"$f":"SUM(D122:D133)","v":13.74},{"$f":"AG125/AG$1052","v":0.99451112853610013},{"$f":"AVERAGE(E122:E133)","v":61.599999999999994},{"$f":"AVERAGE(F122:F133)","v":47.116666666666667},{"$f":"AVERAGE(G122:G133)","v":32.583333333333336},{"$f":"SUM(D122:D127)","v":11.53},{"$f":"AL125/AL$1052","v":1.1782511408284435},{"$f":"AVERAGE(E122:E127)","v":45},{"$f":"AVERAGE(F122:F127)","v":33.900000000000006},{"$f":"AVERAGE(G122:G127)","v":22.733333333333334},null,null,null,null,null,null,null,null,null,null,null,null,null,null,null,null,null,null,null,null,null,null,null,null,null,null,null,null,null,null,null,null,null,1981,5,2.14,53,{"$f":"AVERAGE(BZ125:BZ154)","v":1.0949999999999998},{"$f":"AVERAGE(CA125:CA154)","v":54.480000000000004}]
["'459376'",1934,2,0.24,41.1,29.3,17.399999999999999,null,null,null,null,"1934-02-01",null,null,null,null,null,null,null,null,null,null,null,null,null,null,null,null,null,null,null,null,null,null,null,null,null,null,null,null,null,null,null,null,null,null,null,null,null,null,null,null,null,null,null,null,null,null,null,null,null,null,null,null,null,null,null,null,null,null,null,null,null,null,null,1982,5,0.94,52.4]
["'459376'",1934,3,1.06,54.5,39.700000000000003,24.9,null,null,null,null,"1934-03-01",null,null,null,null,null,null,null,null,null,null,null,null,null,null,null,null,null,null,null,null,null,null,null,null,null,null,null,null,null,null,null,null,null,null,null,null,null,null,null,null,null,null,null,null,null,null,null,null,null,null,null,null,null,null,null,null,null,null,null,null,null,null,null,1983,5,0.3,55.4]
["'459376'",1934,4,0.28999999999999998,73,54,34.9,null,null,null,null,"1934-04-01",null,null,null,null,null,null,null,null,null,null,null,null,null,null,null,null,null,null,null,null,null,null,null,null,null,null,null,null,null,null,null,null,null,null,null,null,null,null,null,null,null,null,null,null,null,null,null,null,null,null,null,null,null,null,null,null,null,null,null,null,null,null,null,1984,5,0.69,50.1]
["'459376'",1934,5,0.48,74.599999999999994,56.5,38.4,null,null,null,null,"1934-05-01",null,null,null,null,null,null,null,null,null,null,null,null,null,null,null,null,null,null,null,null,null,null,null,null,null,null,null,null,null,null,null,null,null,null,null,null,null,null,null,null,null,null,null,null,null,null,null,null,null,null,null,null,null,null,null,null,null,null,null,null,null,null,null,1985,5,0.76,55.8]
["'459376'",1934,6,0.24,80.2,63.3,46.4,null,null,null,null,"1934-06-01",null,null,null,null,null,null,null,null,null,null,null,null,null,null,null,null,null,null,null,null,null,null,null,null,null,null,null,null,null,null,null,null,null,null,null,null,null,null,null,null,null,null,null,null,null,null,null,null,null,null,null,null,null,null,null,null,null,null,null,null,null,null,null,1986,5,0.19,55.1]
["'459376'",1934,7,0.17,87,67.7,48.4,null,null,null,null,"1934-07-01",null,null,null,null,null,null,null,null,null,null,null,null,null,null,null,null,null,null,null,null,null,null,null,null,null,null,null,null,null,null,null,null,null,null,null,null,null,null,null,null,null,null,null,null,null,null,null,null,null,null,null,null,null,null,null,null,null,null,null,null,null,null,null,1987,5,1.17,56.4]
["'459376'",1934,8,0.3,87.9,68.2,48.4,null,null,null,null,"1934-08-01",null,null,null,null,null,null,null,null,null,null,null,null,null,null,null,null,null,null,null,null,null,null,null,null,null,null,null,null,null,null,null,null,null,null,null,null,null,null,null,null,null,null,null,null,null,null,null,null,null,null,null,null,null,null,null,null,null,null,null,null,null,null,null,1988,5,0.61,54.3]
["'459376'",1934,9,0.73,66.5,52.3,38.1,null,null,null,null,"1934-09-01",null,null,null,null,null,null,null,null,null,null,null,null,null,null,null,null,null,null,null,null,null,null,null,null,null,null,null,null,null,null,null,null,null,null,null,null,null,null,null,null,null,null,null,null,null,null,null,null,null,null,null,null,null,null,null,null,null,null,null,null,null,null,null,1989,5,1.88,53.4]
["'459376'",1934,10,2.82,59.9,47.3,34.700000000000003,null,null,null,null,"1934-10-01",null,null,null,null,null,null,null,null,null,null,null,null,null,null,null,null,null,null,null,null,null,null,null,null,null,null,null,null,null,null,null,null,null,null,null,null,null,null,null,null,null,null,null,null,null,null,null,null,null,null,null,null,null,null,null,null,null,null,null,null,null,null,null,1990,5,3.21,52.9]
["'459376'",1934,11,3.15,46.4,37.9,29.4,null,null,null,null,"1934-11-01",null,null,null,null,null,null,null,null,null,null,null,null,null,null,null,null,null,null,null,null,null,null,null,null,null,null,null,null,null,null,null,null,null,null,null,null,null,null,null,null,null,null,null,null,null,null,null,null,null,null,null,null,null,null,null,null,null,null,null,null,null,null,null,1991,5,1.47,53.7]
["'459376'",1934,12,2.78,30.3,22.9,15.5,null,null,null,null,"1934-12-01",null,null,null,null,null,null,null,null,null,null,null,null,null,null,null,null,null,null,null,null,null,null,null,null,null,null,null,null,null,null,null,null,null,null,null,null,null,null,null,null,null,null,null,null,null,null,null,null,null,null,null,null,null,null,null,null,null,null,null,null,null,null,null,1992,5,0,57.5]
["'459376'",1935,1,0.99,28.4,19.600000000000001,10.7,null,null,null,null,"1935-01-01",{"$f":"SUM($D136:$D138)","v":4.38},{"$f":"M137/M$1052","v":0.75770743662087825},{"$f":"AVERAGE($E136:$E138)","v":32.1},{"$f":"AVERAGE($F136:$F138)","v":22.966666666666669},{"$f":"AVERAGE($G136:$G138)","v":13.766666666666666},{"$f":"SUM($D139:$D141)","v":1.1600000000000001},{"$f":"R137/R$1052","v":0.46593028259934027},{"$f":"AVERAGE($E139:$E141)","v":59.166666666666664},{"$f":"AVERAGE($F139:$F141)","v":43.5},{"$f":"AVERAGE($G139:$G141)","v":27.833333333333332},{"$f":"SUM($D142:$D144)","v":0.77},{"$f":"W137/W$1052","v":0.3471633299339808},{"$f":"AVERAGE($E142:$E144)","v":82.066666666666663},{"$f":"AVERAGE($F142:$F144)","v":63.933333333333337},{"$f":"AVERAGE($G142:$G144)","v":45.733333333333327},{"$f":"SUM($D145:$D147)","v":1.1600000000000001},{"$f":"AB137/AB$1052","v":0.34839816933638462},{"$f":"AVERAGE($E145:$E147)","v":58.733333333333327},{"$f":"AVERAGE($F145:$F147)","v":44.233333333333327},{"$f":"AVERAGE($G145:$G147)","v":29.700000000000003},{"$f":"SUM(D134:D145)","v":12.459999999999999},{"$f":"AG137/AG$1052","v":0.90186380360697282},{"$f":"AVERAGE(E134:E145)","v":58.716666666666661},{"$f":"AVERAGE(F134:F145)","v":44.666666666666664},{"$f":"AVERAGE(G134:G145)","v":30.574999999999999},{"$f":"SUM(D134:D139)","v":11.27},{"$f":"AL137/AL$1052","v":1.1516817308878196},{"$f":"AVERAGE(E134:E139)","v":41.233333333333327},{"$f":"AVERAGE(F134:F139)","v":31.066666666666663},{"$f":"AVERAGE(G134:G139)","v":20.866666666666664},null,null,null,null,null,null,null,null,null,null,null,null,null,null,null,null,null,null,null,null,null,null,null,null,null,null,null,null,null,null,null,null,null,1993,5,0.95,59.6]
["'459376'",1935,2,0.61,37.6,26.4,15.1,null,null,null,null,"1935-02-01",null,null,null,null,null,null,null,null,null,null,null,null,null,null,null,null,null,null,null,null,null,null,null,null,null,null,null,null,null,null,null,null,null,null,null,null,null,null,null,null,null,null,null,null,null,null,null,null,null,null,null,null,null,null,null,null,null,null,null,null,null,null,null,1994,5,1.04,55.9]
["'459376'",1935,3,0.92,44.8,32.299999999999997,19.8,null,null,null,null,"1935-03-01",null,null,null,null,null,null,null,null,null,null,null,null,null,null,null,null,null,null,null,null,null,null,null,null,null,null,null,null,null,null,null,null,null,null,null,null,null,null,null,null,null,null,null,null,null,null,null,null,null,null,null,null,null,null,null,null,null,null,null,null,null,null,null,1995,5,0.93,57.1]
["'459376'",1935,4,0,60.9,44.3,27.7,null,null,null,null,"1935-04-01",null,null,null,null,null,null,null,null,null,null,null,null,null,null,null,null,null,null,null,null,null,null,null,null,null,null,null,null,null,null,null,null,null,null,null,null,null,null,null,null,null,null,null,null,null,null,null,null,null,null,null,null,null,null,null,null,null,null,null,null,null,null,null,1996,5,1.33,50.5]
["'459376'",1935,5,0.24,71.8,53.9,36,null,null,null,null,"1935-05-01",null,null,null,null,null,null,null,null,null,null,null,null,null,null,null,null,null,null,null,null,null,null,null,null,null,null,null,null,null,null,null,null,null,null,null,null,null,null,null,null,null,null,null,null,null,null,null,null,null,null,null,null,null,null,null,null,null,null,null,null,null,null,null,1997,5,1.64,55.8]
["'459376'",1935,6,0.01,79.099999999999994,61.7,44.2,null,null,null,null,"1935-06-01",null,null,null,null,null,null,null,null,null,null,null,null,null,null,null,null,null,null,null,null,null,null,null,null,null,null,null,null,null,null,null,null,null,null,null,null,null,null,null,null,null,null,null,null,null,null,null,null,null,null,null,null,null,null,null,null,null,null,null,null,null,null,null,1998,5,2.57,57.5]
["'459376'",1935,7,0.59,82.9,65.5,48,null,null,null,null,"1935-07-01",null,null,null,null,null,null,null,null,null,null,null,null,null,null,null,null,null,null,null,null,null,null,null,null,null,null,null,null,null,null,null,null,null,null,null,null,null,null,null,null,null,null,null,null,null,null,null,null,null,null,null,null,null,null,null,null,null,null,null,null,null,null,null,1999,5,0.55000000000000004,51]
["'459376'",1935,8,0.17,84.2,64.599999999999994,45,null,null,null,null,"1935-08-01",null,null,null,null,null,null,null,null,null,null,null,null,null,null,null,null,null,null,null,null,null,null,null,null,null,null,null,null,null,null,null,null,null,null,null,null,null,null,null,null,null,null,null,null,null,null,null,null,null,null,null,null,null,null,null,null,null,null,null,null,null,null,null,2000,5,0.83,53.3]
["'459376'",1935,9,0.18,78.3,59.6,40.799999999999997,null,null,null,null,"1935-09-01",null,null,null,null,null,null,null,null,null,null,null,null,null,null,null,null,null,null,null,null,null,null,null,null,null,null,null,null,null,null,null,null,null,null,null,null,null,null,null,null,null,null,null,null,null,null,null,null,null,null,null,null,null,null,null,null,null,null,null,null,null,null,null,2001,5,0.06,55.2]
["'459376'",1935,10,0.39,60.4,45,29.6,null,null,null,null,"1935-10-01",null,null,null,null,null,null,null,null,null,null,null,null,null,null,null,null,null,null,null,null,null,null,null,null,null,null,null,null,null,null,null,null,null,null,null,null,null,null,null,null,null,null,null,null,null,null,null,null,null,null,null,null,null,null,null,null,null,null,null,null,null,null,null,2002,5,0.66,51.9]
["'459376'",1935,11,0.59,37.5,28.1,18.7,null,null,null,null,"1935-11-01",null,null,null,null,null,null,null,null,null,null,null,null,null,null,null,null,null,null,null,null,null,null,null,null,null,null,null,null,null,null,null,null,null,null,null,null,null,null,null,null,null,null,null,null,null,null,null,null,null,null,null,null,null,null,null,null,null,null,null,null,null,null,null,2003,5,0.08,53.1]
["'459376'",1935,12,1.26,29.4,22.5,15.6,null,null,null,null,"1935-12-01",null,null,null,null,null,null,null,null,null,null,null,null,null,null,null,null,null,null,null,null,null,null,null,null,null,null,null,null,null,null,null,null,null,null,null,null,null,null,null,null,null,null,null,null,null,null,null,null,null,null,null,null,null,null,null,null,null,null,null,null,null,null,null,2004,5,1.1499999999999999,54]
["'459376'",1936,1,2.34,28.4,18.7,9,null,null,null,null,"1936-01-01",{"$f":"SUM($D148:$D150)","v":5.14},{"$f":"M149/M$1052","v":0.88918178635418132},{"$f":"AVERAGE($E148:$E150)","v":25.899999999999995},{"$f":"AVERAGE($F148:$F150)","v":15.733333333333334},{"$f":"AVERAGE($G148:$G150)","v":5.5666666666666673},{"$f":"SUM($D151:$D153)","v":1.77},{"$f":"R149/R$1052","v":0.71094534500071738},{"$f":"AVERAGE($E151:$E153)","v":62.633333333333333},{"$f":"AVERAGE($F151:$F153)","v":46.833333333333336},{"$f":"AVERAGE($G151:$G153)","v":30.933333333333334},{"$f":"SUM($D154:$D156)","v":4.9600000000000009},{"$f":"W149/W$1052","v":2.2362728785357726},{"$f":"AVERAGE($E154:$E156)","v":83.7},{"$f":"AVERAGE($F154:$F156)","v":65.7},{"$f":"AVERAGE($G154:$G156)","v":47.699999999999996},{"$f":"SUM($D157:$D159)","v":0.82},{"$f":"AB149/AB$1052","v":0.2462814645308925},{"$f":"AVERAGE($E157:$E159)","v":61.766666666666673},{"$f":"AVERAGE($F157:$F159)","v":45.6},{"$f":"AVERAGE($G157:$G159)","v":29.366666666666664},{"$f":"SUM(D146:D157)","v":13.450000000000001},{"$f":"AG149/AG$1052","v":0.97352071898184478},{"$f":"AVERAGE(E146:E157)","v":57.449999999999996},{"$f":"AVERAGE(F146:F157)","v":42.841666666666669},{"$f":"AVERAGE(G146:G157)","v":28.200000000000003},{"$f":"SUM(D146:D151)","v":6.34},{"$f":"AL149/AL$1052","v":0.64788484239829425},{"$f":"AVERAGE(E146:E151)","v":36.783333333333339},{"$f":"AVERAGE(F146:F151)","v":25.483333333333334},{"$f":"AVERAGE(G146:G151)","v":14.166666666666666},null,null,null,null,null,null,null,null,null,null,null,null,null,null,null,null,null,null,null,null,null,null,null,null,null,null,null,null,null,null,null,null,null,2005,5,1.1499999999999999,57.2]
["'459376'",1936,2,1.54,19.899999999999999,6,-7.9,null,null,null,null,"1936-02-01",null,null,null,null,null,null,null,null,null,null,null,null,null,null,null,null,null,null,null,null,null,null,null,null,null,null,null,null,null,null,null,null,null,null,null,null,null,null,null,null,null,null,null,null,null,null,null,null,null,null,null,null,null,null,null,null,null,null,null,null,null,null,null,2006,5,1.1100000000000001,54.5]
["'459376'",1936,3,0.22,45.1,32.6,20,null,null,null,null,"1936-03-01",null,null,null,null,null,null,null,null,null,null,null,null,null,null,null,null,null,null,null,null,null,null,null,null,null,null,null,null,null,null,null,null,null,null,null,null,null,null,null,null,null,null,null,null,null,null,null,null,null,null,null,null,null,null,null,null,null,null,null,null,null,null,null,2007,5,0.44,55.3]
["'459376'",1936,4,0.52,66.3,49.1,31.8,null,null,null,null,"1936-04-01",null,null,null,null,null,null,null,null,null,null,null,null,null,null,null,null,null,null,null,null,null,null,null,null,null,null,null,null,null,null,null,null,null,null,null,null,null,null,null,null,null,null,null,null,null,null,null,null,null,null,null,null,null,null,null,null,null,null,null,null,null,null,null,2008,5,0.53,57.7]
["'459376'",1936,5,1.03,76.5,58.8,41,null,null,null,null,"1936-05-01",null,null,null,null,null,null,null,null,null,null,null,null,null,null,null,null,null,null,null,null,null,null,null,null,null,null,null,null,null,null,null,null,null,null,null,null,null,null,null,null,null,null,null,null,null,null,null,null,null,null,null,null,null,null,null,null,null,null,null,null,null,null,null,2009,5,0.81,54.3]
["'459376'",1936,6,4.2300000000000004,77.2,61.5,45.8,null,null,null,null,"1936-06-01",null,null,null,null,null,null,null,null,null,null,null,null,null,null,null,null,null,null,null,null,null,null,null,null,null,null,null,null,null,null,null,null,null,null,null,null,null,null,null,null,null,null,null,null,null,null,null,null,null,null,null,null,null,null,null,null,null,null,null,null,null,null,null,2010,5,3.66,50.5]
["'459376'",1936,7,0.56000000000000005,87.7,68.3,48.9,null,null,null,null,"1936-07-01",null,null,null,null,null,null,null,null,null,null,null,null,null,null,null,null,null,null,null,null,null,null,null,null,null,null,null,null,null,null,null,null,null,null,null,null,null,null,null,null,null,null,null,null,null,null,null,null,null,null,null,null,null,null,null,null,null,null,null,null,null,null,null,1981,6,0.5,56.3,{"$f":"AVERAGE(BZ155:BZ184)","v":1.1496666666666668},{"$f":"AVERAGE(CA155:CA184)","v":61.003333333333337}]
["'459376'",1936,8,0.17,86.2,67.3,48.4,null,null,null,null,"1936-08-01",null,null,null,null,null,null,null,null,null,null,null,null,null,null,null,null,null,null,null,null,null,null,null,null,null,null,null,null,null,null,null,null,null,null,null,null,null,null,null,null,null,null,null,null,null,null,null,null,null,null,null,null,null,null,null,null,null,null,null,null,null,null,null,1982,6,0.52,64.3]
["'459376'",1936,9,0.6,74.8,56.2,37.5,null,null,null,null,"1936-09-01",null,null,null,null,null,null,null,null,null,null,null,null,null,null,null,null,null,null,null,null,null,null,null,null,null,null,null,null,null,null,null,null,null,null,null,null,null,null,null,null,null,null,null,null,null,null,null,null,null,null,null,null,null,null,null,null,null,null,null,null,null,null,null,1983,6,0.79,60.1]
["'459376'",1936,10,0.21,69,50.8,32.6,null,null,null,null,"1936-10-01",null,null,null,null,null,null,null,null,null,null,null,null,null,null,null,null,null,null,null,null,null,null,null,null,null,null,null,null,null,null,null,null,null,null,null,null,null,null,null,null,null,null,null,null,null,null,null,null,null,null,null,null,null,null,null,null,null,null,null,null,null,null,null,1984,6,1.29,58.8]
["'459376'",1936,11,0.01,41.5,29.8,18,null,null,null,null,"1936-11-01",null,null,null,null,null,null,null,null,null,null,null,null,null,null,null,null,null,null,null,null,null,null,null,null,null,null,null,null,null,null,null,null,null,null,null,null,null,null,null,null,null,null,null,null,null,null,null,null,null,null,null,null,null,null,null,null,null,null,null,null,null,null,null,1985,6,0.66,61]
["'459376'",1936,12,1.66,33.700000000000003,24.7,15.7,null,null,null,null,"1936-12-01",null,null,null,null,null,null,null,null,null,null,null,null,null,null,null,null,null,null,null,null,null,null,null,null,null,null,null,null,null,null,null,null,null,null,null,null,null,null,null,null,null,null,null,null,null,null,null,null,null,null,null,null,null,null,null,null,null,null,null,null,null,null,null,1986,6,0.95,65.400000000000006]
["'459376'",1937,1,0.95,14.6,3.1,-8.5,null,null,null,null,"1937-01-01",{"$f":"SUM($D160:$D162)","v":4.5999999999999996},{"$f":"M161/M$1052","v":0.79576580101736072},{"$f":"AVERAGE($E160:$E162)","v":26.400000000000002},{"$f":"AVERAGE($F160:$F162)","v":15.566666666666668},{"$f":"AVERAGE($G160:$G162)","v":4.666666666666667},{"$f":"SUM($D163:$D165)","v":3.76},{"$f":"R161/R$1052","v":1.51025677808062},{"$f":"AVERAGE($E163:$E165)","v":59.733333333333327},{"$f":"AVERAGE($F163:$F165)","v":45.533333333333339},{"$f":"AVERAGE($G163:$G165)","v":31.233333333333331},{"$f":"SUM($D166:$D168)","v":3.47},{"$f":"W161/W$1052","v":1.5644892920401472},{"$f":"AVERAGE($E166:$E168)","v":81.266666666666666},{"$f":"AVERAGE($F166:$F168)","v":64.633333333333326},{"$f":"AVERAGE($G166:$G168)","v":47.933333333333337},{"$f":"SUM($D169:$D171)","v":5.59},{"$f":"AB161/AB$1052","v":1.67891876430206},{"$f":"AVERAGE($E169:$E171)","v":62.6},{"$f":"AVERAGE($F169:$F171)","v":48.533333333333339},{"$f":"AVERAGE($G169:$G171)","v":34.433333333333337},{"$f":"SUM(D158:D169)","v":14.200000000000001},{"$f":"AG161/AG$1052","v":1.0278062609325054},{"$f":"AVERAGE(E158:E169)","v":57.566666666666663},{"$f":"AVERAGE(F158:F169)","v":43.166666666666664},{"$f":"AVERAGE(G158:G169)","v":28.700000000000003},{"$f":"SUM(D158:D163)","v":6.67},{"$f":"AL161/AL$1052","v":0.68160755501524017},{"$f":"AVERAGE(E158:E163)","v":39.9},{"$f":"AVERAGE(F158:F163)","v":27.566666666666663},{"$f":"AVERAGE(G158:G163)","v":15.166666666666666},null,null,null,null,null,null,null,null,null,null,null,null,null,null,null,null,null,null,null,null,null,null,null,null,null,null,null,null,null,null,null,null,null,1987,6,1.04,64.3]
["'459376'",1937,2,1.99,30.9,18.899999999999999,6.8,null,null,null,null,"1937-02-01",null,null,null,null,null,null,null,null,null,null,null,null,null,null,null,null,null,null,null,null,null,null,null,null,null,null,null,null,null,null,null,null,null,null,null,null,null,null,null,null,null,null,null,null,null,null,null,null,null,null,null,null,null,null,null,null,null,null,null,null,null,null,null,1988,6,1.89,60.5]
["'459376'",1937,3,1.85,49.7,38.1,26.4,null,null,null,null,"1937-03-01",null,null,null,null,null,null,null,null,null,null,null,null,null,null,null,null,null,null,null,null,null,null,null,null,null,null,null,null,null,null,null,null,null,null,null,null,null,null,null,null,null,null,null,null,null,null,null,null,null,null,null,null,null,null,null,null,null,null,null,null,null,null,null,1989,6,0.34,63.9]
["'459376'",1937,4,1.65,58.3,44.7,31,null,null,null,null,"1937-04-01",null,null,null,null,null,null,null,null,null,null,null,null,null,null,null,null,null,null,null,null,null,null,null,null,null,null,null,null,null,null,null,null,null,null,null,null,null,null,null,null,null,null,null,null,null,null,null,null,null,null,null,null,null,null,null,null,null,null,null,null,null,null,null,1990,6,1.84,59.6]
["'459376'",1937,5,0.26,71.2,53.8,36.299999999999997,null,null,null,null,"1937-05-01",null,null,null,null,null,null,null,null,null,null,null,null,null,null,null,null,null,null,null,null,null,null,null,null,null,null,null,null,null,null,null,null,null,null,null,null,null,null,null,null,null,null,null,null,null,null,null,null,null,null,null,null,null,null,null,null,null,null,null,null,null,null,null,1991,6,1.31,57.7]
["'459376'",1937,6,3.16,76.099999999999994,61.1,46.1,null,null,null,null,"1937-06-01",null,null,null,null,null,null,null,null,null,null,null,null,null,null,null,null,null,null,null,null,null,null,null,null,null,null,null,null,null,null,null,null,null,null,null,null,null,null,null,null,null,null,null,null,null,null,null,null,null,null,null,null,null,null,null,null,null,null,null,null,null,null,null,1992,6,3.33,67]
["'459376'",1937,7,0,87.4,69.599999999999994,51.7,null,null,null,null,"1937-07-01",null,null,null,null,null,null,null,null,null,null,null,null,null,null,null,null,null,null,null,null,null,null,null,null,null,null,null,null,null,null,null,null,null,null,null,null,null,null,null,null,null,null,null,null,null,null,null,null,null,null,null,null,null,null,null,null,null,null,null,null,null,null,null,1993,6,2.78,59.4]
["'459376'",1937,8,0.31,80.3,63.2,46,null,null,null,null,"1937-08-01",null,null,null,null,null,null,null,null,null,null,null,null,null,null,null,null,null,null,null,null,null,null,null,null,null,null,null,null,null,null,null,null,null,null,null,null,null,null,null,null,null,null,null,null,null,null,null,null,null,null,null,null,null,null,null,null,null,null,null,null,null,null,null,1994,6,0.75,59.3]
["'459376'",1937,9,2.15,78.099999999999994,60.2,42.3,null,null,null,null,"1937-09-01",null,null,null,null,null,null,null,null,null,null,null,null,null,null,null,null,null,null,null,null,null,null,null,null,null,null,null,null,null,null,null,null,null,null,null,null,null,null,null,null,null,null,null,null,null,null,null,null,null,null,null,null,null,null,null,null,null,null,null,null,null,null,null,1995,6,1.07,60.5]
["'459376'",1937,10,0.34,65.7,50.2,34.6,null,null,null,null,"1937-10-01",null,null,null,null,null,null,null,null,null,null,null,null,null,null,null,null,null,null,null,null,null,null,null,null,null,null,null,null,null,null,null,null,null,null,null,null,null,null,null,null,null,null,null,null,null,null,null,null,null,null,null,null,null,null,null,null,null,null,null,null,null,null,null,1996,6,0.61,59.3]
["'459376'",1937,11,3.1,44,35.200000000000003,26.4,null,null,null,null,"1937-11-01",null,null,null,null,null,null,null,null,null,null,null,null,null,null,null,null,null,null,null,null,null,null,null,null,null,null,null,null,null,null,null,null,null,null,null,null,null,null,null,null,null,null,null,null,null,null,null,null,null,null,null,null,null,null,null,null,null,null,null,null,null,null,null,1997,6,2.8,58.6]
["'459376'",1937,12,2.2000000000000002,33,25,16.899999999999999,null,null,null,null,"1937-12-01",null,null,null,null,null,null,null,null,null,null,null,null,null,null,null,null,null,null,null,null,null,null,null,null,null,null,null,null,null,null,null,null,null,null,null,null,null,null,null,null,null,null,null,null,null,null,null,null,null,null,null,null,null,null,null,null,null,null,null,null,null,null,null,1998,6,1.47,61.5]
["'459376'",1938,1,0.85,29.3,21.1,12.9,null,null,null,null,"1938-01-01",{"$f":"SUM($D172:$D174)","v":6.1},{"$f":"M173/M$1052","v":1.0552546491751957},{"$f":"AVERAGE($E172:$E174)","v":32.566666666666663},{"$f":"AVERAGE($F172:$F174)","v":23.533333333333331},{"$f":"AVERAGE($G172:$G174)","v":14.466666666666667},{"$f":"SUM($D175:$D177)","v":1.69},{"$f":"R173/R$1052","v":0.67881222206283187},{"$f":"AVERAGE($E175:$E177)","v":60.79999999999999},{"$f":"AVERAGE($F175:$F177)","v":46.066666666666663},{"$f":"AVERAGE($G175:$G177)","v":31.333333333333332},{"$f":"SUM($D178:$D180)","v":1.75},{"$f":"W173/W$1052","v":0.78900756803177452},{"$f":"AVERAGE($E178:$E180)","v":86.033333333333346},{"$f":"AVERAGE($F178:$F180)","v":67.100000000000009},{"$f":"AVERAGE($G178:$G180)","v":48.133333333333326},{"$f":"SUM($D181:$D183)","v":3.2300000000000004},{"$f":"AB173/AB$1052","v":0.97010869565217439},{"$f":"AVERAGE($E181:$E183)","v":62.633333333333333},{"$f":"AVERAGE($F181:$F183)","v":47.966666666666661},{"$f":"AVERAGE($G181:$G183)","v":33.266666666666673},{"$f":"SUM(D170:D181)","v":14.29},{"$f":"AG173/AG$1052","v":1.0343205259665844},{"$f":"AVERAGE(E170:E181)","v":60.866666666666674},{"$f":"AVERAGE(F170:F181)","v":46.566666666666663},{"$f":"AVERAGE(G170:G181)","v":32.241666666666667},{"$f":"SUM(D170:D175)","v":10.979999999999999},{"$f":"AL173/AL$1052","v":1.1220466198002004},{"$f":"AVERAGE(E170:E175)","v":42.466666666666669},{"$f":"AVERAGE(F170:F175)","v":31.966666666666669},{"$f":"AVERAGE(G170:G175)","v":21.433333333333334},null,null,null,null,null,null,null,null,null,null,null,null,null,null,null,null,null,null,null,null,null,null,null,null,null,null,null,null,null,null,null,null,null,1999,6,0.44,58.8]
["'459376'",1938,2,3.05,35.4,24.5,13.6,null,null,null,null,"1938-02-01",null,null,null,null,null,null,null,null,null,null,null,null,null,null,null,null,null,null,null,null,null,null,null,null,null,null,null,null,null,null,null,null,null,null,null,null,null,null,null,null,null,null,null,null,null,null,null,null,null,null,null,null,null,null,null,null,null,null,null,null,null,null,null,2000,6,0.45,60.9]
["'459376'",1938,3,1.44,47.4,35.799999999999997,24.2,null,null,null,null,"1938-03-01",null,null,null,null,null,null,null,null,null,null,null,null,null,null,null,null,null,null,null,null,null,null,null,null,null,null,null,null,null,null,null,null,null,null,null,null,null,null,null,null,null,null,null,null,null,null,null,null,null,null,null,null,null,null,null,null,null,null,null,null,null,null,null,2001,6,0.8,58.6]
["'459376'",1938,4,0.25,63.7,47.6,31.5,null,null,null,null,"1938-04-01",null,null,null,null,null,null,null,null,null,null,null,null,null,null,null,null,null,null,null,null,null,null,null,null,null,null,null,null,null,null,null,null,null,null,null,null,null,null,null,null,null,null,null,null,null,null,null,null,null,null,null,null,null,null,null,null,null,null,null,null,null,null,null,2002,6,0.16,62.5]
["'459376'",1938,5,0,71.3,54.8,38.299999999999997,null,null,null,null,"1938-05-01",null,null,null,null,null,null,null,null,null,null,null,null,null,null,null,null,null,null,null,null,null,null,null,null,null,null,null,null,null,null,null,null,null,null,null,null,null,null,null,null,null,null,null,null,null,null,null,null,null,null,null,null,null,null,null,null,null,null,null,null,null,null,null,2003,6,0.01,63.4]
["'459376'",1938,6,0.57999999999999996,83.4,64.7,45.9,null,null,null,null,"1938-06-01",null,null,null,null,null,null,null,null,null,null,null,null,null,null,null,null,null,null,null,null,null,null,null,null,null,null,null,null,null,null,null,null,null,null,null,null,null,null,null,null,null,null,null,null,null,null,null,null,null,null,null,null,null,null,null,null,null,null,null,null,null,null,null,2004,6,1.48,63.2]
["'459376'",1938,7,0.91,90.5,71.599999999999994,52.7,null,null,null,null,"1938-07-01",null,null,null,null,null,null,null,null,null,null,null,null,null,null,null,null,null,null,null,null,null,null,null,null,null,null,null,null,null,null,null,null,null,null,null,null,null,null,null,null,null,null,null,null,null,null,null,null,null,null,null,null,null,null,null,null,null,null,null,null,null,null,null,2005,6,1.53,60.2]
["'459376'",1938,8,0.26,84.2,65,45.8,null,null,null,null,"1938-08-01",null,null,null,null,null,null,null,null,null,null,null,null,null,null,null,null,null,null,null,null,null,null,null,null,null,null,null,null,null,null,null,null,null,null,null,null,null,null,null,null,null,null,null,null,null,null,null,null,null,null,null,null,null,null,null,null,null,null,null,null,null,null,null,2006,6,1.99,62.3]
["'459376'",1938,9,1.31,82.5,63.3,44.1,null,null,null,null,"1938-09-01",null,null,null,null,null,null,null,null,null,null,null,null,null,null,null,null,null,null,null,null,null,null,null,null,null,null,null,null,null,null,null,null,null,null,null,null,null,null,null,null,null,null,null,null,null,null,null,null,null,null,null,null,null,null,null,null,null,null,null,null,null,null,null,2007,6,0.64,60.5]
["'459376'",1938,10,1.0900000000000001,62.8,48.3,33.799999999999997,null,null,null,null,"1938-10-01",null,null,null,null,null,null,null,null,null,null,null,null,null,null,null,null,null,null,null,null,null,null,null,null,null,null,null,null,null,null,null,null,null,null,null,null,null,null,null,null,null,null,null,null,null,null,null,null,null,null,null,null,null,null,null,null,null,null,null,null,null,null,null,2008,6,0.97,60.2]
["'459376'",1938,11,0.83,42.6,32.299999999999997,21.9,null,null,null,null,"1938-11-01",null,null,null,null,null,null,null,null,null,null,null,null,null,null,null,null,null,null,null,null,null,null,null,null,null,null,null,null,null,null,null,null,null,null,null,null,null,null,null,null,null,null,null,null,null,null,null,null,null,null,null,null,null,null,null,null,null,null,null,null,null,null,null,2009,6,0.76,62.8]
["'459376'",1938,12,1.31,30.1,21,11.8,null,null,null,null,"1938-12-01",null,null,null,null,null,null,null,null,null,null,null,null,null,null,null,null,null,null,null,null,null,null,null,null,null,null,null,null,null,null,null,null,null,null,null,null,null,null,null,null,null,null,null,null,null,null,null,null,null,null,null,null,null,null,null,null,null,null,null,null,null,null,null,2010,6,1.32,59.2]
["'459376'",1939,1,0.67,33.799999999999997,25,16.2,null,null,null,null,"1939-01-01",{"$f":"SUM($D184:$D186)","v":2.8},{"$f":"M185/M$1052","v":0.4843791832279587},{"$f":"AVERAGE($E184:$E186)","v":33.033333333333331},{"$f":"AVERAGE($F184:$F186)","v":22.933333333333334},{"$f":"AVERAGE($G184:$G186)","v":12.766666666666666},{"$f":"SUM($D187:$D189)","v":0.88},{"$f":"R185/R$1052","v":0.35346435231674084},{"$f":"AVERAGE($E187:$E189)","v":62.233333333333327},{"$f":"AVERAGE($F187:$F189)","v":46.766666666666673},{"$f":"AVERAGE($G187:$G189)","v":31.233333333333331},{"$f":"SUM($D190:$D192)","v":0.89},{"$f":"W185/W$1052","v":0.40126670602758818},{"$f":"AVERAGE($E190:$E192)","v":84.033333333333331},{"$f":"AVERAGE($F190:$F192)","v":66.100000000000009},{"$f":"AVERAGE($G190:$G192)","v":48.1},{"$f":"SUM($D193:$D195)","v":1.29},{"$f":"AB185/AB$1052","v":0.38744279176201385},{"$f":"AVERAGE($E193:$E195)","v":62.366666666666674},{"$f":"AVERAGE($F193:$F195)","v":47.533333333333331},{"$f":"AVERAGE($G193:$G195)","v":32.633333333333333},{"$f":"SUM(D182:D193)","v":6.9399999999999995},{"$f":"AG185/AG$1052","v":0.50232221485011164},{"$f":"AVERAGE(E182:E193)","v":60.141666666666673},{"$f":"AVERAGE(F182:F193)","v":45.633333333333333},{"$f":"AVERAGE(G182:G193)","v":31.058333333333334},{"$f":"SUM(D182:D187)","v":5.05},{"$f":"AL185/AL$1052","v":0.51605969307750565},{"$f":"AVERAGE(E182:E187)","v":41.916666666666664},{"$f":"AVERAGE(F182:F187)","v":30.633333333333336},{"$f":"AVERAGE(G182:G187)","v":19.283333333333335},null,null,null,null,null,null,null,null,null,null,null,null,null,null,null,null,null,null,null,null,null,null,null,null,null,null,null,null,null,null,null,null,null,1981,7,1.18,64.8,{"$f":"AVERAGE(BZ185:BZ214)","v":0.7260000000000002},{"$f":"AVERAGE(CA185:CA214)","v":67.356666666666669}]
["'459376'",1939,2,0.82,35.200000000000003,22.8,10.3,null,null,null,null,"1939-02-01",null,null,null,null,null,null,null,null,null,null,null,null,null,null,null,null,null,null,null,null,null,null,null,null,null,null,null,null,null,null,null,null,null,null,null,null,null,null,null,null,null,null,null,null,null,null,null,null,null,null,null,null,null,null,null,null,null,null,null,null,null,null,null,1982,7,1.29,64.7]
["'459376'",1939,3,0.33,47,34.4,21.7,null,null,null,null,"1939-03-01",null,null,null,null,null,null,null,null,null,null,null,null,null,null,null,null,null,null,null,null,null,null,null,null,null,null,null,null,null,null,null,null,null,null,null,null,null,null,null,null,null,null,null,null,null,null,null,null,null,null,null,null,null,null,null,null,null,null,null,null,null,null,null,1983,7,0.71,62.2]
["'459376'",1939,4,0.05,66.8,49.9,32.9,null,null,null,null,"1939-04-01",null,null,null,null,null,null,null,null,null,null,null,null,null,null,null,null,null,null,null,null,null,null,null,null,null,null,null,null,null,null,null,null,null,null,null,null,null,null,null,null,null,null,null,null,null,null,null,null,null,null,null,null,null,null,null,null,null,null,null,null,null,null,null,1984,7,0.02,67.3]
["'459376'",1939,5,0.5,72.900000000000006,56,39.1,null,null,null,null,"1939-05-01",null,null,null,null,null,null,null,null,null,null,null,null,null,null,null,null,null,null,null,null,null,null,null,null,null,null,null,null,null,null,null,null,null,null,null,null,null,null,null,null,null,null,null,null,null,null,null,null,null,null,null,null,null,null,null,null,null,null,null,null,null,null,null,1985,7,0.05,71.2]
["'459376'",1939,6,0.54,75.400000000000006,60,44.6,null,null,null,null,"1939-06-01",null,null,null,null,null,null,null,null,null,null,null,null,null,null,null,null,null,null,null,null,null,null,null,null,null,null,null,null,null,null,null,null,null,null,null,null,null,null,null,null,null,null,null,null,null,null,null,null,null,null,null,null,null,null,null,null,null,null,null,null,null,null,null,1986,7,0.17,64.2]
["'459376'",1939,7,0,87.6,69.400000000000006,51.1,null,null,null,null,"1939-07-01",null,null,null,null,null,null,null,null,null,null,null,null,null,null,null,null,null,null,null,null,null,null,null,null,null,null,null,null,null,null,null,null,null,null,null,null,null,null,null,null,null,null,null,null,null,null,null,null,null,null,null,null,null,null,null,null,null,null,null,null,null,null,null,1987,7,1.27,67]
["'459376'",1939,8,0.35,89.1,68.900000000000006,48.6,null,null,null,null,"1939-08-01",null,null,null,null,null,null,null,null,null,null,null,null,null,null,null,null,null,null,null,null,null,null,null,null,null,null,null,null,null,null,null,null,null,null,null,null,null,null,null,null,null,null,null,null,null,null,null,null,null,null,null,null,null,null,null,null,null,null,null,null,null,null,null,1988,7,0.22,67.099999999999994]
["'459376'",1939,9,0.45,78.400000000000006,59.6,40.700000000000003,null,null,null,null,"1939-09-01",null,null,null,null,null,null,null,null,null,null,null,null,null,null,null,null,null,null,null,null,null,null,null,null,null,null,null,null,null,null,null,null,null,null,null,null,null,null,null,null,null,null,null,null,null,null,null,null,null,null,null,null,null,null,null,null,null,null,null,null,null,null,null,1989,7,0.72,66.5]
["'459376'",1939,10,0.5,62,47.6,33.1,null,null,null,null,"1939-10-01",null,null,null,null,null,null,null,null,null,null,null,null,null,null,null,null,null,null,null,null,null,null,null,null,null,null,null,null,null,null,null,null,null,null,null,null,null,null,null,null,null,null,null,null,null,null,null,null,null,null,null,null,null,null,null,null,null,null,null,null,null,null,null,1990,7,0.72,69.900000000000006]
["'459376'",1939,11,0.34,46.7,35.4,24.1,null,null,null,null,"1939-11-01",null,null,null,null,null,null,null,null,null,null,null,null,null,null,null,null,null,null,null,null,null,null,null,null,null,null,null,null,null,null,null,null,null,null,null,null,null,null,null,null,null,null,null,null,null,null,null,null,null,null,null,null,null,null,null,null,null,null,null,null,null,null,null,1991,7,0.68,66.900000000000006]
["'459376'",1939,12,3.43,35.4,28.9,22.4,null,null,null,null,"1939-12-01",null,null,null,null,null,null,null,null,null,null,null,null,null,null,null,null,null,null,null,null,null,null,null,null,null,null,null,null,null,null,null,null,null,null,null,null,null,null,null,null,null,null,null,null,null,null,null,null,null,null,null,null,null,null,null,null,null,null,null,null,null,null,null,1992,7,2.11,66.400000000000006]
["'459376'",1940,1,1.32,31.2,22.4,13.6,null,null,null,null,"1940-01-01",{"$f":"SUM($D196:$D198)","v":7.07},{"$f":"M197/M$1052","v":1.2230574376505958},{"$f":"AVERAGE($E196:$E198)","v":35.033333333333331},{"$f":"AVERAGE($F196:$F198)","v":26.633333333333336},{"$f":"AVERAGE($G196:$G198)","v":18.233333333333334},{"$f":"SUM($D199:$D201)","v":2.87},{"$f":"R197/R$1052","v":1.1527757853966436},{"$f":"AVERAGE($E199:$E201)","v":63.5},{"$f":"AVERAGE($F199:$F201)","v":49.1},{"$f":"AVERAGE($G199:$G201)","v":34.666666666666664},{"$f":"SUM($D202:$D204)","v":0.3},{"$f":"W197/W$1052","v":0.13525844023401848},{"$f":"AVERAGE($E202:$E204)","v":85.399999999999991},{"$f":"AVERAGE($F202:$F204)","v":67.266666666666666},{"$f":"AVERAGE($G202:$G204)","v":49.1},{"$f":"SUM($D205:$D207)","v":5.1400000000000006},{"$f":"AB197/AB$1052","v":1.5437643020594973},{"$f":"AVERAGE($E205:$E207)","v":60.400000000000006},{"$f":"AVERAGE($F205:$F207)","v":47.5},{"$f":"AVERAGE($G205:$G207)","v":34.533333333333339},{"$f":"SUM(D194:D205)","v":12.330000000000002},{"$f":"AG197/AG$1052","v":0.89245430966885853},{"$f":"AVERAGE(E194:E205)","v":61.708333333333343},{"$f":"AVERAGE(F194:F205)","v":47.9},{"$f":"AVERAGE(G194:G205)","v":34.05833333333333},{"$f":"SUM(D194:D199)","v":9.06},{"$f":"AL197/AL$1052","v":0.92584174639251515},{"$f":"AVERAGE(E194:E199)","v":44.483333333333327},{"$f":"AVERAGE(F194:F199)","v":33.9},{"$f":"AVERAGE(G194:G199)","v":23.283333333333331},null,null,null,null,null,null,null,null,null,null,null,null,null,null,null,null,null,null,null,null,null,null,null,null,null,null,null,null,null,null,null,null,null,1993,7,3.52,61.6]
["'459376'",1940,2,2.3199999999999998,38.5,28.6,18.7,null,null,null,null,"1940-02-01",null,null,null,null,null,null,null,null,null,null,null,null,null,null,null,null,null,null,null,null,null,null,null,null,null,null,null,null,null,null,null,null,null,null,null,null,null,null,null,null,null,null,null,null,null,null,null,null,null,null,null,null,null,null,null,null,null,null,null,null,null,null,null,1994,7,0.2,70]
["'459376'",1940,3,1.1499999999999999,53.1,40.5,27.8,null,null,null,null,"1940-03-01",null,null,null,null,null,null,null,null,null,null,null,null,null,null,null,null,null,null,null,null,null,null,null,null,null,null,null,null,null,null,null,null,null,null,null,null,null,null,null,null,null,null,null,null,null,null,null,null,null,null,null,null,null,null,null,null,null,null,null,null,null,null,null,1995,7,0.15,67.5]
["'459376'",1940,4,0.81,63.6,49.8,36,null,null,null,null,"1940-04-01",null,null,null,null,null,null,null,null,null,null,null,null,null,null,null,null,null,null,null,null,null,null,null,null,null,null,null,null,null,null,null,null,null,null,null,null,null,null,null,null,null,null,null,null,null,null,null,null,null,null,null,null,null,null,null,null,null,null,null,null,null,null,null,1996,7,0.51,67.7]
["'459376'",1940,5,0.91,73.8,57,40.200000000000003,null,null,null,null,"1940-05-01",null,null,null,null,null,null,null,null,null,null,null,null,null,null,null,null,null,null,null,null,null,null,null,null,null,null,null,null,null,null,null,null,null,null,null,null,null,null,null,null,null,null,null,null,null,null,null,null,null,null,null,null,null,null,null,null,null,null,null,null,null,null,null,1997,7,1.23,64.400000000000006]
["'459376'",1940,6,0.02,82.9,65.099999999999994,47.2,null,null,null,null,"1940-06-01",null,null,null,null,null,null,null,null,null,null,null,null,null,null,null,null,null,null,null,null,null,null,null,null,null,null,null,null,null,null,null,null,null,null,null,null,null,null,null,null,null,null,null,null,null,null,null,null,null,null,null,null,null,null,null,null,null,null,null,null,null,null,null,1998,7,1.1599999999999999,71]
["'459376'",1940,7,0.23,86.1,69.2,52.3,null,null,null,null,"1940-07-01",null,null,null,null,null,null,null,null,null,null,null,null,null,null,null,null,null,null,null,null,null,null,null,null,null,null,null,null,null,null,null,null,null,null,null,null,null,null,null,null,null,null,null,null,null,null,null,null,null,null,null,null,null,null,null,null,null,null,null,null,null,null,null,1999,7,0.43,64.900000000000006]
["'459376'",1940,8,0.05,87.2,67.5,47.8,null,null,null,null,"1940-08-01",null,null,null,null,null,null,null,null,null,null,null,null,null,null,null,null,null,null,null,null,null,null,null,null,null,null,null,null,null,null,null,null,null,null,null,null,null,null,null,null,null,null,null,null,null,null,null,null,null,null,null,null,null,null,null,null,null,null,null,null,null,null,null,2000,7,1.87,65.2]
["'459376'",1940,9,1.25,80,62.8,45.5,null,null,null,null,"1940-09-01",null,null,null,null,null,null,null,null,null,null,null,null,null,null,null,null,null,null,null,null,null,null,null,null,null,null,null,null,null,null,null,null,null,null,null,null,null,null,null,null,null,null,null,null,null,null,null,null,null,null,null,null,null,null,null,null,null,null,null,null,null,null,null,2001,7,0.55000000000000004,67.8]
["'459376'",1940,10,1.87,61.8,49.9,37.9,null,null,null,null,"1940-10-01",null,null,null,null,null,null,null,null,null,null,null,null,null,null,null,null,null,null,null,null,null,null,null,null,null,null,null,null,null,null,null,null,null,null,null,null,null,null,null,null,null,null,null,null,null,null,null,null,null,null,null,null,null,null,null,null,null,null,null,null,null,null,null,2002,7,0.42,68.5]
["'459376'",1940,11,2.02,39.4,29.8,20.2,null,null,null,null,"1940-11-01",null,null,null,null,null,null,null,null,null,null,null,null,null,null,null,null,null,null,null,null,null,null,null,null,null,null,null,null,null,null,null,null,null,null,null,null,null,null,null,null,null,null,null,null,null,null,null,null,null,null,null,null,null,null,null,null,null,null,null,null,null,null,null,2003,7,0,70.099999999999994]
["'459376'",1940,12,3.08,33.299999999999997,26,18.600000000000001,null,null,null,null,"1940-12-01",null,null,null,null,null,null,null,null,null,null,null,null,null,null,null,null,null,null,null,null,null,null,null,null,null,null,null,null,null,null,null,null,null,null,null,null,null,null,null,null,null,null,null,null,null,null,null,null,null,null,null,null,null,null,null,null,null,null,null,null,null,null,null,2004,7,0.18,70]
["'459376'",1941,1,1.36,30.4,23.3,16.100000000000001,null,null,null,null,"1941-01-01",{"$f":"SUM($D208:$D210)","v":4.8600000000000003},{"$f":"M209/M$1052","v":0.84074386803138557},{"$f":"AVERAGE($E208:$E210)","v":34.733333333333327},{"$f":"AVERAGE($F208:$F210)","v":26.366666666666664},{"$f":"AVERAGE($G208:$G210)","v":17.933333333333334},{"$f":"SUM($D211:$D213)","v":5.35},{"$f":"R209/R$1052","v":2.1489025964710948},{"$f":"AVERAGE($E211:$E213)","v":64.833333333333329},{"$f":"AVERAGE($F211:$F213)","v":49.800000000000004},{"$f":"AVERAGE($G211:$G213)","v":34.666666666666664},{"$f":"SUM($D214:$D216)","v":4.7},{"$f":"W209/W$1052","v":2.1190488969996228},{"$f":"AVERAGE($E214:$E216)","v":82.2},{"$f":"AVERAGE($F214:$F216)","v":66.13333333333334},{"$f":"AVERAGE($G214:$G216)","v":50.066666666666663},{"$f":"SUM($D217:$D219)","v":3.44},{"$f":"AB209/AB$1052","v":1.033180778032037},{"$f":"AVERAGE($E217:$E219)","v":58.133333333333333},{"$f":"AVERAGE($F217:$F219)","v":45.866666666666667},{"$f":"AVERAGE($G217:$G219)","v":33.499999999999993},{"$f":"SUM(D206:D217)","v":19.990000000000002},{"$f":"AG209/AG$1052","v":1.4468906447916043},{"$f":"AVERAGE(E206:E217)","v":59.5},{"$f":"AVERAGE(F206:F217)","v":46.716666666666669},{"$f":"AVERAGE(G206:G217)","v":33.875},{"$f":"SUM(D206:D211)","v":9.7100000000000009},{"$f":"AL209/AL$1052","v":0.99226527124407538},{"$f":"AVERAGE(E206:E211)","v":43.883333333333333},{"$f":"AVERAGE(F206:F211)","v":33.616666666666667},{"$f":"AVERAGE(G206:G211)","v":23.283333333333331},null,null,null,null,null,null,null,null,null,null,null,null,null,null,null,null,null,null,null,null,null,null,null,null,null,null,null,null,null,null,null,null,null,2005,7,0.19,66.8]
["'459376'",1941,2,0.42,40.5,29.8,19.100000000000001,null,null,null,null,"1941-02-01",null,null,null,null,null,null,null,null,null,null,null,null,null,null,null,null,null,null,null,null,null,null,null,null,null,null,null,null,null,null,null,null,null,null,null,null,null,null,null,null,null,null,null,null,null,null,null,null,null,null,null,null,null,null,null,null,null,null,null,null,null,null,null,2006,7,0.75,70.900000000000006]
["'459376'",1941,3,0.96,57.9,42.9,27.8,null,null,null,null,"1941-03-01",null,null,null,null,null,null,null,null,null,null,null,null,null,null,null,null,null,null,null,null,null,null,null,null,null,null,null,null,null,null,null,null,null,null,null,null,null,null,null,null,null,null,null,null,null,null,null,null,null,null,null,null,null,null,null,null,null,null,null,null,null,null,null,2007,7,0.48,71.7]
["'459376'",1941,4,2.78,67.400000000000006,51.9,36.299999999999997,null,null,null,null,"1941-04-01",null,null,null,null,null,null,null,null,null,null,null,null,null,null,null,null,null,null,null,null,null,null,null,null,null,null,null,null,null,null,null,null,null,null,null,null,null,null,null,null,null,null,null,null,null,null,null,null,null,null,null,null,null,null,null,null,null,null,null,null,null,null,null,2008,7,0.13,67.8]
["'459376'",1941,5,1.61,69.2,54.6,39.9,null,null,null,null,"1941-05-01",null,null,null,null,null,null,null,null,null,null,null,null,null,null,null,null,null,null,null,null,null,null,null,null,null,null,null,null,null,null,null,null,null,null,null,null,null,null,null,null,null,null,null,null,null,null,null,null,null,null,null,null,null,null,null,null,null,null,null,null,null,null,null,2009,7,0.69,69.599999999999994]
["'459376'",1941,6,2.2200000000000002,76.3,62,47.7,null,null,null,null,"1941-06-01",null,null,null,null,null,null,null,null,null,null,null,null,null,null,null,null,null,null,null,null,null,null,null,null,null,null,null,null,null,null,null,null,null,null,null,null,null,null,null,null,null,null,null,null,null,null,null,null,null,null,null,null,null,null,null,null,null,null,null,null,null,null,null,2010,7,0.18,67]
["'459376'",1941,7,0.32,88.3,70.8,53.3,null,null,null,null,"1941-07-01",null,null,null,null,null,null,null,null,null,null,null,null,null,null,null,null,null,null,null,null,null,null,null,null,null,null,null,null,null,null,null,null,null,null,null,null,null,null,null,null,null,null,null,null,null,null,null,null,null,null,null,null,null,null,null,null,null,null,null,null,null,null,null,1981,8,0.14000000000000001,68.900000000000006,{"$f":"AVERAGE(BZ215:BZ244)","v":0.52233333333333332},{"$f":"AVERAGE(CA215:CA244)","v":66.696666666666658}]
["'459376'",1941,8,2.16,82,65.599999999999994,49.2,null,null,null,null,"1941-08-01",null,null,null,null,null,null,null,null,null,null,null,null,null,null,null,null,null,null,null,null,null,null,null,null,null,null,null,null,null,null,null,null,null,null,null,null,null,null,null,null,null,null,null,null,null,null,null,null,null,null,null,null,null,null,null,null,null,null,null,null,null,null,null,1982,8,0.45,64.8]
["'459376'",1941,9,1.19,67.5,54,40.4,null,null,null,null,"1941-09-01",null,null,null,null,null,null,null,null,null,null,null,null,null,null,null,null,null,null,null,null,null,null,null,null,null,null,null,null,null,null,null,null,null,null,null,null,null,null,null,null,null,null,null,null,null,null,null,null,null,null,null,null,null,null,null,null,null,null,null,null,null,null,null,1983,8,1.2,66.8]
["'459376'",1941,10,0.35,60,46.7,33.299999999999997,null,null,null,null,"1941-10-01",null,null,null,null,null,null,null,null,null,null,null,null,null,null,null,null,null,null,null,null,null,null,null,null,null,null,null,null,null,null,null,null,null,null,null,null,null,null,null,null,null,null,null,null,null,null,null,null,null,null,null,null,null,null,null,null,null,null,null,null,null,null,null,1984,8,0.48,66.8]
["'459376'",1941,11,1.9,46.9,36.9,26.8,null,null,null,null,"1941-11-01",null,null,null,null,null,null,null,null,null,null,null,null,null,null,null,null,null,null,null,null,null,null,null,null,null,null,null,null,null,null,null,null,null,null,null,null,null,null,null,null,null,null,null,null,null,null,null,null,null,null,null,null,null,null,null,null,null,null,null,null,null,null,null,1985,8,0.17,64.599999999999994]
["'459376'",1941,12,3.38,33.5,24.9,16.3,null,null,null,null,"1941-12-01",null,null,null,null,null,null,null,null,null,null,null,null,null,null,null,null,null,null,null,null,null,null,null,null,null,null,null,null,null,null,null,null,null,null,null,null,null,null,null,null,null,null,null,null,null,null,null,null,null,null,null,null,null,null,null,null,null,null,null,null,null,null,null,1986,8,0.28999999999999998,70.8]
["'459376'",1942,1,1.55,26.1,18.2,10.3,null,null,null,null,"1942-01-01",{"$f":"SUM($D220:$D222)","v":5.88},{"$f":"M221/M$1052","v":1.0171962847787133},{"$f":"AVERAGE($E220:$E222)","v":32.466666666666669},{"$f":"AVERAGE($F220:$F222)","v":23.633333333333329},{"$f":"AVERAGE($G220:$G222)","v":14.766666666666666},{"$f":"SUM($D223:$D225)","v":4.7300000000000004},{"$f":"R221/R$1052","v":1.8998708937024822},{"$f":"AVERAGE($E223:$E225)","v":60.266666666666673},{"$f":"AVERAGE($F223:$F225)","v":46.366666666666667},{"$f":"AVERAGE($G223:$G225)","v":32.366666666666667},{"$f":"SUM($D226:$D228)","v":2.12},{"$f":"W221/W$1052","v":0.95582631098706405},{"$f":"AVERAGE($E226:$E228)","v":82.433333333333337},{"$f":"AVERAGE($F226:$F228)","v":65.399999999999991},{"$f":"AVERAGE($G226:$G228)","v":48.29999999999999},{"$f":"SUM($D229:$D231)","v":3.52},{"$f":"AB221/AB$1052","v":1.0572082379862704},{"$f":"AVERAGE($E229:$E231)","v":61.366666666666674},{"$f":"AVERAGE($F229:$F231)","v":46.199999999999996},{"$f":"AVERAGE($G229:$G231)","v":30.966666666666665},{"$f":"SUM(D218:D229)","v":14.98},{"$f":"AG221/AG$1052","v":1.0842632245611921},{"$f":"AVERAGE(E218:E229)","v":59.483333333333341},{"$f":"AVERAGE(F218:F229)","v":45.891666666666673},{"$f":"AVERAGE(G218:G229)","v":32.225000000000001},{"$f":"SUM(D218:D223)","v":8.129999999999999},{"$f":"AL221/AL$1052","v":0.83080501083566749},{"$f":"AVERAGE(E218:E223)","v":42.183333333333337},{"$f":"AVERAGE(F218:F223)","v":31.833333333333332},{"$f":"AVERAGE(G218:G223)","v":21.416666666666668},null,null,null,null,null,null,null,null,null,null,null,null,null,null,null,null,null,null,null,null,null,null,null,null,null,null,null,null,null,null,null,null,null,1987,8,0.15,66.2]
["'459376'",1942,2,0.95,37.799999999999997,27.8,17.7,null,null,null,null,"1942-02-01",null,null,null,null,null,null,null,null,null,null,null,null,null,null,null,null,null,null,null,null,null,null,null,null,null,null,null,null,null,null,null,null,null,null,null,null,null,null,null,null,null,null,null,null,null,null,null,null,null,null,null,null,null,null,null,null,null,null,null,null,null,null,null,1988,8,0.25,66.2]
["'459376'",1942,3,0,48.8,36.5,24.1,null,null,null,null,"1942-03-01",null,null,null,null,null,null,null,null,null,null,null,null,null,null,null,null,null,null,null,null,null,null,null,null,null,null,null,null,null,null,null,null,null,null,null,null,null,null,null,null,null,null,null,null,null,null,null,null,null,null,null,null,null,null,null,null,null,null,null,null,null,null,null,1989,8,0.44,63.8]
["'459376'",1942,4,1.33,65.400000000000006,49.6,33.700000000000003,null,null,null,null,"1942-04-01",null,null,null,null,null,null,null,null,null,null,null,null,null,null,null,null,null,null,null,null,null,null,null,null,null,null,null,null,null,null,null,null,null,null,null,null,null,null,null,null,null,null,null,null,null,null,null,null,null,null,null,null,null,null,null,null,null,null,null,null,null,null,null,1990,8,1.97,67.599999999999994]
["'459376'",1942,5,3.4,66.599999999999994,53,39.299999999999997,null,null,null,null,"1942-05-01",null,null,null,null,null,null,null,null,null,null,null,null,null,null,null,null,null,null,null,null,null,null,null,null,null,null,null,null,null,null,null,null,null,null,null,null,null,null,null,null,null,null,null,null,null,null,null,null,null,null,null,null,null,null,null,null,null,null,null,null,null,null,null,1991,8,0.66,68.400000000000006]
["'459376'",1942,6,0.72,73.5,59,44.4,null,null,null,null,"1942-06-01",null,null,null,null,null,null,null,null,null,null,null,null,null,null,null,null,null,null,null,null,null,null,null,null,null,null,null,null,null,null,null,null,null,null,null,null,null,null,null,null,null,null,null,null,null,null,null,null,null,null,null,null,null,null,null,null,null,null,null,null,null,null,null,1992,8,0.88,66.7]
["'459376'",1942,7,1.04,86.1,68.2,50.2,null,null,null,null,"1942-07-01",null,null,null,null,null,null,null,null,null,null,null,null,null,null,null,null,null,null,null,null,null,null,null,null,null,null,null,null,null,null,null,null,null,null,null,null,null,null,null,null,null,null,null,null,null,null,null,null,null,null,null,null,null,null,null,null,null,null,null,null,null,null,null,1993,8,0.7,63.8]
["'459376'",1942,8,0.36,87.7,69,50.3,null,null,null,null,"1942-08-01",null,null,null,null,null,null,null,null,null,null,null,null,null,null,null,null,null,null,null,null,null,null,null,null,null,null,null,null,null,null,null,null,null,null,null,null,null,null,null,null,null,null,null,null,null,null,null,null,null,null,null,null,null,null,null,null,null,null,null,null,null,null,null,1994,8,0.65,66.900000000000006]
["'459376'",1942,9,0,81.400000000000006,60.9,40.299999999999997,null,null,null,null,"1942-09-01",null,null,null,null,null,null,null,null,null,null,null,null,null,null,null,null,null,null,null,null,null,null,null,null,null,null,null,null,null,null,null,null,null,null,null,null,null,null,null,null,null,null,null,null,null,null,null,null,null,null,null,null,null,null,null,null,null,null,null,null,null,null,null,1995,8,0.44,61.1]
["'459376'",1942,10,0.75,66,48.7,31.4,null,null,null,null,"1942-10-01",null,null,null,null,null,null,null,null,null,null,null,null,null,null,null,null,null,null,null,null,null,null,null,null,null,null,null,null,null,null,null,null,null,null,null,null,null,null,null,null,null,null,null,null,null,null,null,null,null,null,null,null,null,null,null,null,null,null,null,null,null,null,null,1996,8,0.03,66.2]
["'459376'",1942,11,2.77,36.700000000000003,29,21.2,null,null,null,null,"1942-11-01",null,null,null,null,null,null,null,null,null,null,null,null,null,null,null,null,null,null,null,null,null,null,null,null,null,null,null,null,null,null,null,null,null,null,null,null,null,null,null,null,null,null,null,null,null,null,null,null,null,null,null,null,null,null,null,null,null,null,null,null,null,null,null,1997,8,0.38,67]
["'459376'",1942,12,2.4700000000000002,28.8,20.9,13,null,null,null,null,"1942-12-01",null,null,null,null,null,null,null,null,null,null,null,null,null,null,null,null,null,null,null,null,null,null,null,null,null,null,null,null,null,null,null,null,null,null,null,null,null,null,null,null,null,null,null,null,null,null,null,null,null,null,null,null,null,null,null,null,null,null,null,null,null,null,null,1998,8,0.05,69.3]
["'459376'",1943,1,1.38,21.5,11.4,1.2,null,null,null,null,"1943-01-01",{"$f":"SUM($D232:$D234)","v":5.34},{"$f":"M233/M$1052","v":0.92378029944189266},{"$f":"AVERAGE($E232:$E234)","v":29.233333333333331},{"$f":"AVERAGE($F232:$F234)","v":19.266666666666666},{"$f":"AVERAGE($G232:$G234)","v":9.2666666666666657},{"$f":"SUM($D235:$D237)","v":2.5300000000000002},{"$f":"R233/R$1052","v":1.0162100129106302},{"$f":"AVERAGE($E235:$E237)","v":58.233333333333327},{"$f":"AVERAGE($F235:$F237)","v":44},{"$f":"AVERAGE($G235:$G237)","v":29.733333333333334},{"$f":"SUM($D238:$D240)","v":2.1799999999999997},{"$f":"W233/W$1052","v":0.98287799903386752},{"$f":"AVERAGE($E238:$E240)","v":80.566666666666663},{"$f":"AVERAGE($F238:$F240)","v":64},{"$f":"AVERAGE($G238:$G240)","v":47.4},{"$f":"SUM($D241:$D243)","v":2.76},{"$f":"AB233/AB$1052","v":0.82894736842105288},{"$f":"AVERAGE($E241:$E243)","v":62.199999999999996},{"$f":"AVERAGE($F241:$F243)","v":48.033333333333339},{"$f":"AVERAGE($G241:$G243)","v":33.833333333333336},{"$f":"SUM(D230:D241)","v":13.569999999999999},{"$f":"AG233/AG$1052","v":0.98220640569395024},{"$f":"AVERAGE(E230:E241)","v":57.366666666666674},{"$f":"AVERAGE(F230:F241)","v":43.358333333333327},{"$f":"AVERAGE(G230:G241)","v":29.308333333333334},{"$f":"SUM(D230:D235)","v":9.67},{"$f":"AL233/AL$1052","v":0.98817766971474852},{"$f":"AVERAGE(E230:E235)","v":39.1},{"$f":"AVERAGE(F230:F235)","v":27.733333333333334},{"$f":"AVERAGE(G230:G235)","v":16.333333333333332},null,null,null,null,null,null,null,null,null,null,null,null,null,null,null,null,null,null,null,null,null,null,null,null,null,null,null,null,null,null,null,null,null,1999,8,1.1399999999999999,68.2]
["'459376'",1943,2,1.49,37.4,25.5,13.6,null,null,null,null,"1943-02-01",null,null,null,null,null,null,null,null,null,null,null,null,null,null,null,null,null,null,null,null,null,null,null,null,null,null,null,null,null,null,null,null,null,null,null,null,null,null,null,null,null,null,null,null,null,null,null,null,null,null,null,null,null,null,null,null,null,null,null,null,null,null,null,2000,8,0.04,65.8]
["'459376'",1943,3,0.81,44.2,30.9,17.600000000000001,null,null,null,null,"1943-03-01",null,null,null,null,null,null,null,null,null,null,null,null,null,null,null,null,null,null,null,null,null,null,null,null,null,null,null,null,null,null,null,null,null,null,null,null,null,null,null,null,null,null,null,null,null,null,null,null,null,null,null,null,null,null,null,null,null,null,null,null,null,null,null,2001,8,0.34,68.099999999999994]
["'459376'",1943,4,0.89,65,49.5,34,null,null,null,null,"1943-04-01",null,null,null,null,null,null,null,null,null,null,null,null,null,null,null,null,null,null,null,null,null,null,null,null,null,null,null,null,null,null,null,null,null,null,null,null,null,null,null,null,null,null,null,null,null,null,null,null,null,null,null,null,null,null,null,null,null,null,null,null,null,null,null,2002,8,0.19,65.900000000000006]
["'459376'",1943,5,0.83,65.5,51.6,37.6,null,null,null,null,"1943-05-01",null,null,null,null,null,null,null,null,null,null,null,null,null,null,null,null,null,null,null,null,null,null,null,null,null,null,null,null,null,null,null,null,null,null,null,null,null,null,null,null,null,null,null,null,null,null,null,null,null,null,null,null,null,null,null,null,null,null,null,null,null,null,null,2003,8,0.1,68.5]
["'459376'",1943,6,1.38,73.5,58.5,43.5,null,null,null,null,"1943-06-01",null,null,null,null,null,null,null,null,null,null,null,null,null,null,null,null,null,null,null,null,null,null,null,null,null,null,null,null,null,null,null,null,null,null,null,null,null,null,null,null,null,null,null,null,null,null,null,null,null,null,null,null,null,null,null,null,null,null,null,null,null,null,null,2004,8,1.81,69.3]
["'459376'",1943,7,0.52,85.5,68.099999999999994,50.7,null,null,null,null,"1943-07-01",null,null,null,null,null,null,null,null,null,null,null,null,null,null,null,null,null,null,null,null,null,null,null,null,null,null,null,null,null,null,null,null,null,null,null,null,null,null,null,null,null,null,null,null,null,null,null,null,null,null,null,null,null,null,null,null,null,null,null,null,null,null,null,2005,8,0.31,67.8]
["'459376'",1943,8,0.28000000000000003,82.7,65.400000000000006,48,null,null,null,null,"1943-08-01",null,null,null,null,null,null,null,null,null,null,null,null,null,null,null,null,null,null,null,null,null,null,null,null,null,null,null,null,null,null,null,null,null,null,null,null,null,null,null,null,null,null,null,null,null,null,null,null,null,null,null,null,null,null,null,null,null,null,null,null,null,null,null,2006,8,0,65.900000000000006]
["'459376'",1943,9,0,81.599999999999994,60.8,39.9,null,null,null,null,"1943-09-01",null,null,null,null,null,null,null,null,null,null,null,null,null,null,null,null,null,null,null,null,null,null,null,null,null,null,null,null,null,null,null,null,null,null,null,null,null,null,null,null,null,null,null,null,null,null,null,null,null,null,null,null,null,null,null,null,null,null,null,null,null,null,null,2007,8,0.09,65.3]
["'459376'",1943,10,1.82,61.6,48.1,34.6,null,null,null,null,"1943-10-01",null,null,null,null,null,null,null,null,null,null,null,null,null,null,null,null,null,null,null,null,null,null,null,null,null,null,null,null,null,null,null,null,null,null,null,null,null,null,null,null,null,null,null,null,null,null,null,null,null,null,null,null,null,null,null,null,null,null,null,null,null,null,null,2008,8,0.43,66.3]
["'459376'",1943,11,0.94,43.4,35.200000000000003,27,null,null,null,null,"1943-11-01",null,null,null,null,null,null,null,null,null,null,null,null,null,null,null,null,null,null,null,null,null,null,null,null,null,null,null,null,null,null,null,null,null,null,null,null,null,null,null,null,null,null,null,null,null,null,null,null,null,null,null,null,null,null,null,null,null,null,null,null,null,null,null,2009,8,0.2,68.5]
["'459376'",1943,12,0.68,34.9,24.9,14.9,null,null,null,null,"1943-12-01",null,null,null,null,null,null,null,null,null,null,null,null,null,null,null,null,null,null,null,null,null,null,null,null,null,null,null,null,null,null,null,null,null,null,null,null,null,null,null,null,null,null,null,null,null,null,null,null,null,null,null,null,null,null,null,null,null,null,null,null,null,null,null,2010,8,1.69,65.400000000000006]
["'459376'",1944,1,0.44,31.6,19.5,7.3,null,null,null,null,"1944-01-01",{"$f":"SUM($D244:$D246)","v":2.6},{"$f":"M245/M$1052","v":0.44978067014024736},{"$f":"AVERAGE($E244:$E246)","v":35.366666666666667},{"$f":"AVERAGE($F244:$F246)","v":23.8},{"$f":"AVERAGE($G244:$G246)","v":12.200000000000001},{"$f":"SUM($D247:$D249)","v":2.5100000000000002},{"$f":"R245/R$1052","v":1.0081767321761588},{"$f":"AVERAGE($E247:$E249)","v":60.833333333333336},{"$f":"AVERAGE($F247:$F249)","v":46.233333333333327},{"$f":"AVERAGE($G247:$G249)","v":31.533333333333331},{"$f":"SUM($D250:$D252)","v":2.25},{"$f":"W245/W$1052","v":1.0144383017551386},{"$f":"AVERAGE($E250:$E252)","v":82.166666666666671},{"$f":"AVERAGE($F250:$F252)","v":65.333333333333329},{"$f":"AVERAGE($G250:$G252)","v":48.466666666666661},{"$f":"SUM($D253:$D255)","v":3.02},{"$f":"AB245/AB$1052","v":0.90703661327231155},{"$f":"AVERAGE($E253:$E255)","v":63.56666666666667},{"$f":"AVERAGE($F253:$F255)","v":49},{"$f":"AVERAGE($G253:$G255)","v":34.4},{"$f":"SUM(D242:D253)","v":10.6},{"$f":"AG245/AG$1052","v":0.76723565956933482},{"$f":"AVERAGE(E242:E253)","v":59.94166666666667},{"$f":"AVERAGE(F242:F253)","v":45.82500000000001},{"$f":"AVERAGE(G242:G253)","v":31.658333333333335},{"$f":"SUM(D242:D247)","v":5.76},{"$f":"AL245/AL$1052","v":0.588614620223056},{"$f":"AVERAGE(E242:E247)","v":43.283333333333331},{"$f":"AVERAGE(F242:F247)","v":31.683333333333337},{"$f":"AVERAGE(G242:G247)","v":20.05},null,null,null,null,null,null,null,null,null,null,null,null,null,null,null,null,null,null,null,null,null,null,null,null,null,null,null,null,null,null,null,null,null,1981,9,0.78,57.7,{"$f":"AVERAGE(BZ245:BZ274)","v":0.43166666666666659},{"$f":"AVERAGE(CA245:CA274)","v":58.116666666666674}]
["'459376'",1944,2,1.48,39.6,27,14.4,null,null,null,null,"1944-02-01",null,null,null,null,null,null,null,null,null,null,null,null,null,null,null,null,null,null,null,null,null,null,null,null,null,null,null,null,null,null,null,null,null,null,null,null,null,null,null,null,null,null,null,null,null,null,null,null,null,null,null,null,null,null,null,null,null,null,null,null,null,null,null,1982,9,0.79,56.8]
["'459376'",1944,3,0.4,48.6,35.4,22.1,null,null,null,null,"1944-03-01",null,null,null,null,null,null,null,null,null,null,null,null,null,null,null,null,null,null,null,null,null,null,null,null,null,null,null,null,null,null,null,null,null,null,null,null,null,null,null,null,null,null,null,null,null,null,null,null,null,null,null,null,null,null,null,null,null,null,null,null,null,null,null,1983,9,1.25,53.7]
["'459376'",1944,4,1.68,62.6,48.3,33.9,null,null,null,null,"1944-04-01",null,null,null,null,null,null,null,null,null,null,null,null,null,null,null,null,null,null,null,null,null,null,null,null,null,null,null,null,null,null,null,null,null,null,null,null,null,null,null,null,null,null,null,null,null,null,null,null,null,null,null,null,null,null,null,null,null,null,null,null,null,null,null,1984,9,0.13,52.6]
["'459376'",1944,5,0.43,71.3,55,38.6,null,null,null,null,"1944-05-01",null,null,null,null,null,null,null,null,null,null,null,null,null,null,null,null,null,null,null,null,null,null,null,null,null,null,null,null,null,null,null,null,null,null,null,null,null,null,null,null,null,null,null,null,null,null,null,null,null,null,null,null,null,null,null,null,null,null,null,null,null,null,null,1985,9,1.28,53.1]
["'459376'",1944,6,2.2200000000000002,77.400000000000006,62.4,47.4,null,null,null,null,"1944-06-01",null,null,null,null,null,null,null,null,null,null,null,null,null,null,null,null,null,null,null,null,null,null,null,null,null,null,null,null,null,null,null,null,null,null,null,null,null,null,null,null,null,null,null,null,null,null,null,null,null,null,null,null,null,null,null,null,null,null,null,null,null,null,null,1986,9,1.38,55]
["'459376'",1944,7,0.01,86,68.400000000000006,50.7,null,null,null,null,"1944-07-01",null,null,null,null,null,null,null,null,null,null,null,null,null,null,null,null,null,null,null,null,null,null,null,null,null,null,null,null,null,null,null,null,null,null,null,null,null,null,null,null,null,null,null,null,null,null,null,null,null,null,null,null,null,null,null,null,null,null,null,null,null,null,null,1987,9,0.03,61.7]
["'459376'",1944,8,0.02,83.1,65.2,47.3,null,null,null,null,"1944-08-01",null,null,null,null,null,null,null,null,null,null,null,null,null,null,null,null,null,null,null,null,null,null,null,null,null,null,null,null,null,null,null,null,null,null,null,null,null,null,null,null,null,null,null,null,null,null,null,null,null,null,null,null,null,null,null,null,null,null,null,null,null,null,null,1988,9,0.26,58.4]
["'459376'",1944,9,0.48,79.2,60.5,41.7,null,null,null,null,"1944-09-01",null,null,null,null,null,null,null,null,null,null,null,null,null,null,null,null,null,null,null,null,null,null,null,null,null,null,null,null,null,null,null,null,null,null,null,null,null,null,null,null,null,null,null,null,null,null,null,null,null,null,null,null,null,null,null,null,null,null,null,null,null,null,null,1989,9,0.02,58.7]
["'459376'",1944,10,0.14000000000000001,70.099999999999994,51.8,33.5,null,null,null,null,"1944-10-01",null,null,null,null,null,null,null,null,null,null,null,null,null,null,null,null,null,null,null,null,null,null,null,null,null,null,null,null,null,null,null,null,null,null,null,null,null,null,null,null,null,null,null,null,null,null,null,null,null,null,null,null,null,null,null,null,null,null,null,null,null,null,null,1990,9,0.01,61.9]
["'459376'",1944,11,2.4,41.4,34.700000000000003,28,null,null,null,null,"1944-11-01",null,null,null,null,null,null,null,null,null,null,null,null,null,null,null,null,null,null,null,null,null,null,null,null,null,null,null,null,null,null,null,null,null,null,null,null,null,null,null,null,null,null,null,null,null,null,null,null,null,null,null,null,null,null,null,null,null,null,null,null,null,null,null,1991,9,0.03,61.1]
["'459376'",1944,12,0.56999999999999995,27.8,19.3,10.7,null,null,null,null,"1944-12-01",null,null,null,null,null,null,null,null,null,null,null,null,null,null,null,null,null,null,null,null,null,null,null,null,null,null,null,null,null,null,null,null,null,null,null,null,null,null,null,null,null,null,null,null,null,null,null,null,null,null,null,null,null,null,null,null,null,null,null,null,null,null,null,1992,9,0.02,55.2]
["'459376'",1945,1,1.48,31.3,23.2,15.1,null,null,null,null,"1945-01-01",{"$f":"SUM($D256:$D258)","v":4.5299999999999994},{"$f":"M257/M$1052","v":0.78365632143666164},{"$f":"AVERAGE($E256:$E258)","v":33.1},{"$f":"AVERAGE($F256:$F258)","v":24.366666666666664},{"$f":"AVERAGE($G256:$G258)","v":15.6},{"$f":"SUM($D259:$D261)","v":2.15},{"$f":"R257/R$1052","v":0.86357767895567361},{"$f":"AVERAGE($E259:$E261)","v":58.533333333333339},{"$f":"AVERAGE($F259:$F261)","v":45},{"$f":"AVERAGE($G259:$G261)","v":31.433333333333334},{"$f":"SUM($D262:$D264)","v":0.90000000000000013},{"$f":"W257/W$1052","v":0.40577532070205552},{"$f":"AVERAGE($E262:$E264)","v":83.333333333333329},{"$f":"AVERAGE($F262:$F264)","v":65.833333333333329},{"$f":"AVERAGE($G262:$G264)","v":48.233333333333327},{"$f":"SUM($D265:$D267)","v":3.2700000000000005},{"$f":"AB257/AB$1052","v":0.98212242562929108},{"$f":"AVERAGE($E265:$E267)","v":59.266666666666673},{"$f":"AVERAGE($F265:$F267)","v":44.966666666666669},{"$f":"AVERAGE($G265:$G267)","v":30.600000000000005},{"$f":"SUM(D254:D265)","v":10.440000000000001},{"$f":"AG257/AG$1052","v":0.7556547439531941},{"$f":"AVERAGE(E254:E265)","v":59.125},{"$f":"AVERAGE(F254:F265)","v":45.741666666666667},{"$f":"AVERAGE(G254:G265)","v":32.31666666666667},{"$f":"SUM(D254:D259)","v":7.32},{"$f":"AL257/AL$1052","v":0.74803107986680029},{"$f":"AVERAGE(E254:E259)","v":43},{"$f":"AVERAGE(F254:F259)","v":32.616666666666667},{"$f":"AVERAGE(G254:G259)","v":22.216666666666669},null,null,null,null,null,null,null,null,null,null,null,null,null,null,null,null,null,null,null,null,null,null,null,null,null,null,null,null,null,null,null,null,null,1993,9,0.56000000000000005,58.7]
["'459376'",1945,2,2.48,40.200000000000003,30.6,21,null,null,null,null,"1945-02-01",null,null,null,null,null,null,null,null,null,null,null,null,null,null,null,null,null,null,null,null,null,null,null,null,null,null,null,null,null,null,null,null,null,null,null,null,null,null,null,null,null,null,null,null,null,null,null,null,null,null,null,null,null,null,null,null,null,null,null,null,null,null,null,1994,9,0.27,61.5]
["'459376'",1945,3,0.25,47.2,36.1,25,null,null,null,null,"1945-03-01",null,null,null,null,null,null,null,null,null,null,null,null,null,null,null,null,null,null,null,null,null,null,null,null,null,null,null,null,null,null,null,null,null,null,null,null,null,null,null,null,null,null,null,null,null,null,null,null,null,null,null,null,null,null,null,null,null,null,null,null,null,null,null,1995,9,0.14000000000000001,60.9]
["'459376'",1945,4,0.2,56.7,43.3,29.9,null,null,null,null,"1945-04-01",null,null,null,null,null,null,null,null,null,null,null,null,null,null,null,null,null,null,null,null,null,null,null,null,null,null,null,null,null,null,null,null,null,null,null,null,null,null,null,null,null,null,null,null,null,null,null,null,null,null,null,null,null,null,null,null,null,null,null,null,null,null,null,1996,9,0.87,56.1]
["'459376'",1945,5,1.7,71.7,55.6,39.4,null,null,null,null,"1945-05-01",null,null,null,null,null,null,null,null,null,null,null,null,null,null,null,null,null,null,null,null,null,null,null,null,null,null,null,null,null,null,null,null,null,null,null,null,null,null,null,null,null,null,null,null,null,null,null,null,null,null,null,null,null,null,null,null,null,null,null,null,null,null,null,1997,9,0.92,59.4]
["'459376'",1945,6,0.8,75.7,60.3,44.8,null,null,null,null,"1945-06-01",null,null,null,null,null,null,null,null,null,null,null,null,null,null,null,null,null,null,null,null,null,null,null,null,null,null,null,null,null,null,null,null,null,null,null,null,null,null,null,null,null,null,null,null,null,null,null,null,null,null,null,null,null,null,null,null,null,null,null,null,null,null,null,1998,9,0.13,62.7]
["'459376'",1945,7,7.0000000000000007E-2,87.1,69.2,51.2,null,null,null,null,"1945-07-01",null,null,null,null,null,null,null,null,null,null,null,null,null,null,null,null,null,null,null,null,null,null,null,null,null,null,null,null,null,null,null,null,null,null,null,null,null,null,null,null,null,null,null,null,null,null,null,null,null,null,null,null,null,null,null,null,null,null,null,null,null,null,null,1999,9,0.09,56.4]
["'459376'",1945,8,0.03,87.2,68,48.7,null,null,null,null,"1945-08-01",null,null,null,null,null,null,null,null,null,null,null,null,null,null,null,null,null,null,null,null,null,null,null,null,null,null,null,null,null,null,null,null,null,null,null,null,null,null,null,null,null,null,null,null,null,null,null,null,null,null,null,null,null,null,null,null,null,null,null,null,null,null,null,2000,9,7.0000000000000007E-2,57]
["'459376'",1945,9,0.32,73.099999999999994,56.8,40.5,null,null,null,null,"1945-09-01",null,null,null,null,null,null,null,null,null,null,null,null,null,null,null,null,null,null,null,null,null,null,null,null,null,null,null,null,null,null,null,null,null,null,null,null,null,null,null,null,null,null,null,null,null,null,null,null,null,null,null,null,null,null,null,null,null,null,null,null,null,null,null,2001,9,0.51,60.4]
["'459376'",1945,10,0.81,65.900000000000006,49.2,32.4,null,null,null,null,"1945-10-01",null,null,null,null,null,null,null,null,null,null,null,null,null,null,null,null,null,null,null,null,null,null,null,null,null,null,null,null,null,null,null,null,null,null,null,null,null,null,null,null,null,null,null,null,null,null,null,null,null,null,null,null,null,null,null,null,null,null,null,null,null,null,null,2002,9,0.02,57.7]
["'459376'",1945,11,2.14,38.799999999999997,28.9,18.899999999999999,null,null,null,null,"1945-11-01",null,null,null,null,null,null,null,null,null,null,null,null,null,null,null,null,null,null,null,null,null,null,null,null,null,null,null,null,null,null,null,null,null,null,null,null,null,null,null,null,null,null,null,null,null,null,null,null,null,null,null,null,null,null,null,null,null,null,null,null,null,null,null,2003,9,0.1,60.2]
["'459376'",1945,12,3.31,29.4,21.9,14.3,null,null,null,null,"1945-12-01",null,null,null,null,null,null,null,null,null,null,null,null,null,null,null,null,null,null,null,null,null,null,null,null,null,null,null,null,null,null,null,null,null,null,null,null,null,null,null,null,null,null,null,null,null,null,null,null,null,null,null,null,null,null,null,null,null,null,null,null,null,null,null,2004,9,0.12,56.4]
["'459376'",1946,1,2.92,31.9,21.8,11.7,null,null,null,null,"1946-01-01",{"$f":"SUM($D268:$D270)","v":7.82},{"$f":"M269/M$1052","v":1.3528018617295132},{"$f":"AVERAGE($E268:$E270)","v":32.566666666666663},{"$f":"AVERAGE($F268:$F270)","v":22.733333333333334},{"$f":"AVERAGE($G268:$G270)","v":12.866666666666667},{"$f":"SUM($D271:$D273)","v":2.04},{"$f":"R269/R$1052","v":0.81939463491608111},{"$f":"AVERAGE($E271:$E273)","v":61.666666666666664},{"$f":"AVERAGE($F271:$F273)","v":47.166666666666664},{"$f":"AVERAGE($G271:$G273)","v":32.6},{"$f":"SUM($D274:$D276)","v":2.6799999999999997},{"$f":"W269/W$1052","v":1.2083087327572317},{"$f":"AVERAGE($E274:$E276)","v":80.433333333333323},{"$f":"AVERAGE($F274:$F276)","v":63.6},{"$f":"AVERAGE($G274:$G276)","v":46.70000000000001},{"$f":"SUM($D277:$D279)","v":4.79},{"$f":"AB269/AB$1052","v":1.4386441647597259},{"$f":"AVERAGE($E277:$E279)","v":56.06666666666667},{"$f":"AVERAGE($F277:$F279)","v":42.5},{"$f":"AVERAGE($G277:$G279)","v":28.899999999999995},{"$f":"SUM(D266:D277)","v":16.479999999999997},{"$f":"AG269/AG$1052","v":1.1928343084625128},{"$f":"AVERAGE(E266:E277)","v":58.508333333333326},{"$f":"AVERAGE(F266:F277)","v":44.625},{"$f":"AVERAGE(G266:G277)","v":30.675000000000001},{"$f":"SUM(D266:D271)","v":11.67},{"$f":"AL269/AL$1052","v":1.1925577461810875},{"$f":"AVERAGE(E266:E271)","v":41.716666666666669},{"$f":"AVERAGE(F266:F271)","v":30.450000000000003},{"$f":"AVERAGE(G266:G271)","v":19.116666666666664},null,null,null,null,null,null,null,null,null,null,null,null,null,null,null,null,null,null,null,null,null,null,null,null,null,null,null,null,null,null,null,null,null,2005,9,0.31,56.6]
["'459376'",1946,2,1.59,36.4,24.5,12.6,null,null,null,null,"1946-02-01",null,null,null,null,null,null,null,null,null,null,null,null,null,null,null,null,null,null,null,null,null,null,null,null,null,null,null,null,null,null,null,null,null,null,null,null,null,null,null,null,null,null,null,null,null,null,null,null,null,null,null,null,null,null,null,null,null,null,null,null,null,null,null,2006,9,0.35,59.5]
["'459376'",1946,3,0.9,47.9,36.4,24.8,null,null,null,null,"1946-03-01",null,null,null,null,null,null,null,null,null,null,null,null,null,null,null,null,null,null,null,null,null,null,null,null,null,null,null,null,null,null,null,null,null,null,null,null,null,null,null,null,null,null,null,null,null,null,null,null,null,null,null,null,null,null,null,null,null,null,null,null,null,null,null,2007,9,0.49,58.5]
["'459376'",1946,4,0.02,62.2,47.7,33.1,null,null,null,null,"1946-04-01",null,null,null,null,null,null,null,null,null,null,null,null,null,null,null,null,null,null,null,null,null,null,null,null,null,null,null,null,null,null,null,null,null,null,null,null,null,null,null,null,null,null,null,null,null,null,null,null,null,null,null,null,null,null,null,null,null,null,null,null,null,null,null,2008,9,0.08,57]
["'459376'",1946,5,1.1200000000000001,74.900000000000006,57.4,39.9,null,null,null,null,"1946-05-01",null,null,null,null,null,null,null,null,null,null,null,null,null,null,null,null,null,null,null,null,null,null,null,null,null,null,null,null,null,null,null,null,null,null,null,null,null,null,null,null,null,null,null,null,null,null,null,null,null,null,null,null,null,null,null,null,null,null,null,null,null,null,null,2009,9,0.76,61.5]
["'459376'",1946,6,2.08,72.099999999999994,57.9,43.7,null,null,null,null,"1946-06-01",null,null,null,null,null,null,null,null,null,null,null,null,null,null,null,null,null,null,null,null,null,null,null,null,null,null,null,null,null,null,null,null,null,null,null,null,null,null,null,null,null,null,null,null,null,null,null,null,null,null,null,null,null,null,null,null,null,null,null,null,null,null,null,2010,9,1.18,57.1]
["'459376'",1946,7,0.11,84.3,66.5,48.6,null,null,null,null,"1946-07-01",null,null,null,null,null,null,null,null,null,null,null,null,null,null,null,null,null,null,null,null,null,null,null,null,null,null,null,null,null,null,null,null,null,null,null,null,null,null,null,null,null,null,null,null,null,null,null,null,null,null,null,null,null,null,null,null,null,null,null,null,null,null,null,1981,10,1.75,44.4,{"$f":"AVERAGE(BZ275:BZ304)","v":1.0743333333333331},{"$f":"AVERAGE(CA275:CA304)","v":46.01}]
["'459376'",1946,8,0.49,84.9,66.400000000000006,47.8,null,null,null,null,"1946-08-01",null,null,null,null,null,null,null,null,null,null,null,null,null,null,null,null,null,null,null,null,null,null,null,null,null,null,null,null,null,null,null,null,null,null,null,null,null,null,null,null,null,null,null,null,null,null,null,null,null,null,null,null,null,null,null,null,null,null,null,null,null,null,null,1982,10,1.1499999999999999,44.6]
["'459376'",1946,9,0.99,73.400000000000006,56.9,40.299999999999997,null,null,null,null,"1946-09-01",null,null,null,null,null,null,null,null,null,null,null,null,null,null,null,null,null,null,null,null,null,null,null,null,null,null,null,null,null,null,null,null,null,null,null,null,null,null,null,null,null,null,null,null,null,null,null,null,null,null,null,null,null,null,null,null,null,null,null,null,null,null,null,1983,10,0.17,45.3]
["'459376'",1946,10,0.87,56.9,43.2,29.5,null,null,null,null,"1946-10-01",null,null,null,null,null,null,null,null,null,null,null,null,null,null,null,null,null,null,null,null,null,null,null,null,null,null,null,null,null,null,null,null,null,null,null,null,null,null,null,null,null,null,null,null,null,null,null,null,null,null,null,null,null,null,null,null,null,null,null,null,null,null,null,1984,10,0.88,42.2]
["'459376'",1946,11,2.93,37.9,27.4,16.899999999999999,null,null,null,null,"1946-11-01",null,null,null,null,null,null,null,null,null,null,null,null,null,null,null,null,null,null,null,null,null,null,null,null,null,null,null,null,null,null,null,null,null,null,null,null,null,null,null,null,null,null,null,null,null,null,null,null,null,null,null,null,null,null,null,null,null,null,null,null,null,null,null,1985,10,1.65,44.2]
["'459376'",1946,12,1.69,28.8,21.2,13.5,null,null,null,null,"1946-12-01",null,null,null,null,null,null,null,null,null,null,null,null,null,null,null,null,null,null,null,null,null,null,null,null,null,null,null,null,null,null,null,null,null,null,null,null,null,null,null,null,null,null,null,null,null,null,null,null,null,null,null,null,null,null,null,null,null,null,null,null,null,null,null,1986,10,0.42,48.4]
["'459376'",1947,1,1.35,26.6,16.2,5.7,null,null,null,null,"1947-01-01",{"$f":"SUM($D280:$D282)","v":4.3600000000000003},{"$f":"M281/M$1052","v":0.75424758531210723},{"$f":"AVERAGE($E280:$E282)","v":31.733333333333334},{"$f":"AVERAGE($F280:$F282)","v":21.033333333333331},{"$f":"AVERAGE($G280:$G282)","v":10.233333333333333},{"$f":"SUM($D283:$D285)","v":0.55000000000000004},{"$f":"R281/R$1052","v":0.22091522019796306},{"$f":"AVERAGE($E283:$E285)","v":65.566666666666663},{"$f":"AVERAGE($F283:$F285)","v":49.4},{"$f":"AVERAGE($G283:$G285)","v":33.166666666666664},{"$f":"SUM($D286:$D288)","v":3.27},{"$f":"W281/W$1052","v":1.4743169985508016},{"$f":"AVERAGE($E286:$E288)","v":80.266666666666666},{"$f":"AVERAGE($F286:$F288)","v":63.4},{"$f":"AVERAGE($G286:$G288)","v":46.533333333333331},{"$f":"SUM($D289:$D291)","v":3},{"$f":"AB281/AB$1052","v":0.90102974828375315},{"$f":"AVERAGE($E289:$E291)","v":59.733333333333341},{"$f":"AVERAGE($F289:$F291)","v":46.5},{"$f":"AVERAGE($G289:$G291)","v":33.233333333333327},{"$f":"SUM(D278:D289)","v":12.300000000000002},{"$f":"AG281/AG$1052","v":0.89028288799083211},{"$f":"AVERAGE(E278:E289)","v":58.558333333333337},{"$f":"AVERAGE(F278:F289)","v":44.133333333333333},{"$f":"AVERAGE(G278:G289)","v":29.658333333333331},{"$f":"SUM(D278:D283)","v":8.56},{"$f":"AL281/AL$1052","v":0.8747467272759305},{"$f":"AVERAGE(E278:E283)","v":40.783333333333331},{"$f":"AVERAGE(F278:F283)","v":28.899999999999995},{"$f":"AVERAGE(G278:G283)","v":16.95},null,null,null,null,null,null,null,null,null,null,null,null,null,null,null,null,null,null,null,null,null,null,null,null,null,null,null,null,null,null,null,null,null,1987,10,0.04,49.2]
["'459376'",1947,2,1.32,39.799999999999997,25.7,11.5,null,null,null,null,"1947-02-01",null,null,null,null,null,null,null,null,null,null,null,null,null,null,null,null,null,null,null,null,null,null,null,null,null,null,null,null,null,null,null,null,null,null,null,null,null,null,null,null,null,null,null,null,null,null,null,null,null,null,null,null,null,null,null,null,null,null,null,null,null,null,null,1988,10,0.16,50.4]
["'459376'",1947,3,0.4,54.7,39.700000000000003,24.6,null,null,null,null,"1947-03-01",null,null,null,null,null,null,null,null,null,null,null,null,null,null,null,null,null,null,null,null,null,null,null,null,null,null,null,null,null,null,null,null,null,null,null,null,null,null,null,null,null,null,null,null,null,null,null,null,null,null,null,null,null,null,null,null,null,null,null,null,null,null,null,1989,10,1.93,46.2]
["'459376'",1947,4,0.15,66,49.5,33,null,null,null,null,"1947-04-01",null,null,null,null,null,null,null,null,null,null,null,null,null,null,null,null,null,null,null,null,null,null,null,null,null,null,null,null,null,null,null,null,null,null,null,null,null,null,null,null,null,null,null,null,null,null,null,null,null,null,null,null,null,null,null,null,null,null,null,null,null,null,null,1990,10,0.92,43]
["'459376'",1947,5,0,76,59,41.9,null,null,null,null,"1947-05-01",null,null,null,null,null,null,null,null,null,null,null,null,null,null,null,null,null,null,null,null,null,null,null,null,null,null,null,null,null,null,null,null,null,null,null,null,null,null,null,null,null,null,null,null,null,null,null,null,null,null,null,null,null,null,null,null,null,null,null,null,null,null,null,1991,10,0.47,45]
["'459376'",1947,6,2.25,74.099999999999994,60.1,46.1,null,null,null,null,"1947-06-01",null,null,null,null,null,null,null,null,null,null,null,null,null,null,null,null,null,null,null,null,null,null,null,null,null,null,null,null,null,null,null,null,null,null,null,null,null,null,null,null,null,null,null,null,null,null,null,null,null,null,null,null,null,null,null,null,null,null,null,null,null,null,null,1992,10,0.62,47.5]
["'459376'",1947,7,0.8,84.5,66.5,48.5,null,null,null,null,"1947-07-01",null,null,null,null,null,null,null,null,null,null,null,null,null,null,null,null,null,null,null,null,null,null,null,null,null,null,null,null,null,null,null,null,null,null,null,null,null,null,null,null,null,null,null,null,null,null,null,null,null,null,null,null,null,null,null,null,null,null,null,null,null,null,null,1993,10,0.15,49.2]
["'459376'",1947,8,0.22,82.2,63.6,45,null,null,null,null,"1947-08-01",null,null,null,null,null,null,null,null,null,null,null,null,null,null,null,null,null,null,null,null,null,null,null,null,null,null,null,null,null,null,null,null,null,null,null,null,null,null,null,null,null,null,null,null,null,null,null,null,null,null,null,null,null,null,null,null,null,null,null,null,null,null,null,1994,10,2.71,46.5]
["'459376'",1947,9,0.32,75.2,57.5,39.700000000000003,null,null,null,null,"1947-09-01",null,null,null,null,null,null,null,null,null,null,null,null,null,null,null,null,null,null,null,null,null,null,null,null,null,null,null,null,null,null,null,null,null,null,null,null,null,null,null,null,null,null,null,null,null,null,null,null,null,null,null,null,null,null,null,null,null,null,null,null,null,null,null,1995,10,0.89,44.2]
["'459376'",1947,10,2.15,59.1,47.5,35.9,null,null,null,null,"1947-10-01",null,null,null,null,null,null,null,null,null,null,null,null,null,null,null,null,null,null,null,null,null,null,null,null,null,null,null,null,null,null,null,null,null,null,null,null,null,null,null,null,null,null,null,null,null,null,null,null,null,null,null,null,null,null,null,null,null,null,null,null,null,null,null,1996,10,1.42,44.2]
["'459376'",1947,11,0.53,44.9,34.5,24.1,null,null,null,null,"1947-11-01",null,null,null,null,null,null,null,null,null,null,null,null,null,null,null,null,null,null,null,null,null,null,null,null,null,null,null,null,null,null,null,null,null,null,null,null,null,null,null,null,null,null,null,null,null,null,null,null,null,null,null,null,null,null,null,null,null,null,null,null,null,null,null,1997,10,2.48,44.3]
["'459376'",1947,12,3.95,34.6,26.3,17.899999999999999,null,null,null,null,"1947-12-01",null,null,null,null,null,null,null,null,null,null,null,null,null,null,null,null,null,null,null,null,null,null,null,null,null,null,null,null,null,null,null,null,null,null,null,null,null,null,null,null,null,null,null,null,null,null,null,null,null,null,null,null,null,null,null,null,null,null,null,null,null,null,null,1998,10,0.35,46.2]
["'459376'",1948,1,1.38,31,17.2,3.4,null,null,null,null,"1948-01-01",{"$f":"SUM($D292:$D294)","v":8.36},{"$f":"M293/M$1052","v":1.4462178470663338},{"$f":"AVERAGE($E292:$E294)","v":33.93333333333333},{"$f":"AVERAGE($F292:$F294)","v":22.2},{"$f":"AVERAGE($G292:$G294)","v":10.433333333333332},{"$f":"SUM($D295:$D297)","v":6.55},{"$f":"R293/R$1052","v":2.6308994405393777},{"$f":"AVERAGE($E295:$E297)","v":56.5},{"$f":"AVERAGE($F295:$F297)","v":42.166666666666664},{"$f":"AVERAGE($G295:$G297)","v":27.8},{"$f":"SUM($D298:$D300)","v":5.92},{"$f":"W293/W$1052","v":2.6690998872846312},{"$f":"AVERAGE($E298:$E300)","v":80.399999999999991},{"$f":"AVERAGE($F298:$F300)","v":63.56666666666667},{"$f":"AVERAGE($G298:$G300)","v":46.70000000000001},{"$f":"SUM($D301:$D303)","v":4.04},{"$f":"AB293/AB$1052","v":1.2133867276887875},{"$f":"AVERAGE($E301:$E303)","v":58.699999999999996},{"$f":"AVERAGE($F301:$F303)","v":44.033333333333331},{"$f":"AVERAGE($G301:$G303)","v":29.333333333333332},{"$f":"SUM(D290:D301)","v":24.490000000000002},{"$f":"AG293/AG$1052","v":1.7726038964955673},{"$f":"AVERAGE(E290:E301)","v":57.574999999999996},{"$f":"AVERAGE(F290:F301)","v":43.516666666666673},{"$f":"AVERAGE(G290:G301)","v":29.433333333333334},{"$f":"SUM(D290:D295)","v":11.27},{"$f":"AL293/AL$1052","v":1.1516817308878196},{"$f":"AVERAGE(E290:E295)","v":42.166666666666664},{"$f":"AVERAGE(F290:F295)","v":30.049999999999997},{"$f":"AVERAGE(G290:G295)","v":17.916666666666668},null,null,null,null,null,null,null,null,null,null,null,null,null,null,null,null,null,null,null,null,null,null,null,null,null,null,null,null,null,null,null,null,null,1999,10,0.67,44.3]
["'459376'",1948,2,3.03,36.200000000000003,23.1,10,null,null,null,null,"1948-02-01",null,null,null,null,null,null,null,null,null,null,null,null,null,null,null,null,null,null,null,null,null,null,null,null,null,null,null,null,null,null,null,null,null,null,null,null,null,null,null,null,null,null,null,null,null,null,null,null,null,null,null,null,null,null,null,null,null,null,null,null,null,null,null,2000,10,1.04,45.6]
["'459376'",1948,3,0.23,47.2,31.7,16.2,null,null,null,null,"1948-03-01",null,null,null,null,null,null,null,null,null,null,null,null,null,null,null,null,null,null,null,null,null,null,null,null,null,null,null,null,null,null,null,null,null,null,null,null,null,null,null,null,null,null,null,null,null,null,null,null,null,null,null,null,null,null,null,null,null,null,null,null,null,null,null,2001,10,0.62,44]
["'459376'",1948,4,2.06,57.1,42.7,28.3,null,null,null,null,"1948-04-01",null,null,null,null,null,null,null,null,null,null,null,null,null,null,null,null,null,null,null,null,null,null,null,null,null,null,null,null,null,null,null,null,null,null,null,null,null,null,null,null,null,null,null,null,null,null,null,null,null,null,null,null,null,null,null,null,null,null,null,null,null,null,null,2002,10,0.15,45.4]
["'459376'",1948,5,4.26,65.2,52.1,38.9,null,null,null,null,"1948-05-01",null,null,null,null,null,null,null,null,null,null,null,null,null,null,null,null,null,null,null,null,null,null,null,null,null,null,null,null,null,null,null,null,null,null,null,null,null,null,null,null,null,null,null,null,null,null,null,null,null,null,null,null,null,null,null,null,null,null,null,null,null,null,null,2003,10,3.13,49.7]
["'459376'",1948,6,3.14,80.599999999999994,64.3,48,null,null,null,null,"1948-06-01",null,null,null,null,null,null,null,null,null,null,null,null,null,null,null,null,null,null,null,null,null,null,null,null,null,null,null,null,null,null,null,null,null,null,null,null,null,null,null,null,null,null,null,null,null,null,null,null,null,null,null,null,null,null,null,null,null,null,null,null,null,null,null,2004,10,1.57,47.4]
["'459376'",1948,7,1.86,81.099999999999994,64,46.9,null,null,null,null,"1948-07-01",null,null,null,null,null,null,null,null,null,null,null,null,null,null,null,null,null,null,null,null,null,null,null,null,null,null,null,null,null,null,null,null,null,null,null,null,null,null,null,null,null,null,null,null,null,null,null,null,null,null,null,null,null,null,null,null,null,null,null,null,null,null,null,2005,10,1.43,47.8]
["'459376'",1948,8,0.92,79.5,62.4,45.2,null,null,null,null,"1948-08-01",null,null,null,null,null,null,null,null,null,null,null,null,null,null,null,null,null,null,null,null,null,null,null,null,null,null,null,null,null,null,null,null,null,null,null,null,null,null,null,null,null,null,null,null,null,null,null,null,null,null,null,null,null,null,null,null,null,null,null,null,null,null,null,2006,10,0.22,47.5]
["'459376'",1948,9,0.98,74.400000000000006,56.4,38.4,null,null,null,null,"1948-09-01",null,null,null,null,null,null,null,null,null,null,null,null,null,null,null,null,null,null,null,null,null,null,null,null,null,null,null,null,null,null,null,null,null,null,null,null,null,null,null,null,null,null,null,null,null,null,null,null,null,null,null,null,null,null,null,null,null,null,null,null,null,null,null,2007,10,1.1499999999999999,44.5]
["'459376'",1948,10,0.35,60.3,44.2,28,null,null,null,null,"1948-10-01",null,null,null,null,null,null,null,null,null,null,null,null,null,null,null,null,null,null,null,null,null,null,null,null,null,null,null,null,null,null,null,null,null,null,null,null,null,null,null,null,null,null,null,null,null,null,null,null,null,null,null,null,null,null,null,null,null,null,null,null,null,null,null,2008,10,1.24,46.4]
["'459376'",1948,11,2.71,41.4,31.5,21.6,null,null,null,null,"1948-11-01",null,null,null,null,null,null,null,null,null,null,null,null,null,null,null,null,null,null,null,null,null,null,null,null,null,null,null,null,null,null,null,null,null,null,null,null,null,null,null,null,null,null,null,null,null,null,null,null,null,null,null,null,null,null,null,null,null,null,null,null,null,null,null,2009,10,2.17,43.6]
["'459376'",1948,12,3.19,22.7,12.2,1.6,null,null,null,null,"1948-12-01",null,null,null,null,null,null,null,null,null,null,null,null,null,null,null,null,null,null,null,null,null,null,null,null,null,null,null,null,null,null,null,null,null,null,null,null,null,null,null,null,null,null,null,null,null,null,null,null,null,null,null,null,null,null,null,null,null,null,null,null,null,null,null,2010,10,0.68,49.1]
["'459376'",1949,1,0.41,17.899999999999999,4.5999999999999996,-8.8000000000000007,null,null,null,null,"1949-01-01",{"$f":"SUM($D304:$D306)","v":7.16},{"$f":"M305/M$1052","v":1.2386267685400658},{"$f":"AVERAGE($E304:$E306)","v":23.933333333333334},{"$f":"AVERAGE($F304:$F306)","v":11.899999999999999},{"$f":"AVERAGE($G304:$G306)","v":-0.20000000000000048},{"$f":"SUM($D307:$D309)","v":1.4},{"$f":"R305/R$1052","v":0.56232965141299673},{"$f":"AVERAGE($E307:$E309)","v":63.4},{"$f":"AVERAGE($F307:$F309)","v":47.466666666666669},{"$f":"AVERAGE($G307:$G309)","v":31.533333333333331},{"$f":"SUM($D310:$D312)","v":0.67999999999999994},{"$f":"W305/W$1052","v":0.30658579786377521},{"$f":"AVERAGE($E310:$E312)","v":82.366666666666674},{"$f":"AVERAGE($F310:$F312)","v":64.2},{"$f":"AVERAGE($G310:$G312)","v":45.933333333333337},{"$f":"SUM($D313:$D315)","v":4.32},{"$f":"AB305/AB$1052","v":1.2974828375286047},{"$f":"AVERAGE($E313:$E315)","v":62},{"$f":"AVERAGE($F313:$F315)","v":46.866666666666667},{"$f":"AVERAGE($G313:$G315)","v":31.666666666666668},{"$f":"SUM(D302:D313)","v":12.59},{"$f":"AG305/AG$1052","v":0.91127329754508735},{"$f":"AVERAGE(E302:E313)","v":57.366666666666667},{"$f":"AVERAGE(F302:F313)","v":42.1},{"$f":"AVERAGE(G302:G313)","v":26.783333333333335},{"$f":"SUM(D302:D307)","v":10.860000000000001},{"$f":"AL305/AL$1052","v":1.1097838152122201},{"$f":"AVERAGE(E302:E307)","v":37.016666666666659},{"$f":"AVERAGE(F302:F307)","v":24.566666666666666},{"$f":"AVERAGE(G302:G307)","v":12.066666666666668},null,null,null,null,null,null,null,null,null,null,null,null,null,null,null,null,null,null,null,null,null,null,null,null,null,null,null,null,null,null,null,null,null,1981,11,2.38,35.200000000000003,{"$f":"AVERAGE(BZ305:BZ334)","v":2.0336666666666665},{"$f":"AVERAGE(CA305:CA334)","v":32.033333333333331}]
["'459376'",1949,2,3.56,31.2,18.899999999999999,6.6,null,null,null,null,"1949-02-01",null,null,null,null,null,null,null,null,null,null,null,null,null,null,null,null,null,null,null,null,null,null,null,null,null,null,null,null,null,null,null,null,null,null,null,null,null,null,null,null,null,null,null,null,null,null,null,null,null,null,null,null,null,null,null,null,null,null,null,null,null,null,null,1982,11,1.23,27.9]
["'459376'",1949,3,0.64,48.6,36,23.4,null,null,null,null,"1949-03-01",null,null,null,null,null,null,null,null,null,null,null,null,null,null,null,null,null,null,null,null,null,null,null,null,null,null,null,null,null,null,null,null,null,null,null,null,null,null,null,null,null,null,null,null,null,null,null,null,null,null,null,null,null,null,null,null,null,null,null,null,null,null,null,1983,11,5.29,34.799999999999997]
["'459376'",1949,4,0.19,65.599999999999994,48.4,31.2,null,null,null,null,"1949-04-01",null,null,null,null,null,null,null,null,null,null,null,null,null,null,null,null,null,null,null,null,null,null,null,null,null,null,null,null,null,null,null,null,null,null,null,null,null,null,null,null,null,null,null,null,null,null,null,null,null,null,null,null,null,null,null,null,null,null,null,null,null,null,null,1984,11,2.97,29.6]
["'459376'",1949,5,0.56999999999999995,76,58,40,null,null,null,null,"1949-05-01",null,null,null,null,null,null,null,null,null,null,null,null,null,null,null,null,null,null,null,null,null,null,null,null,null,null,null,null,null,null,null,null,null,null,null,null,null,null,null,null,null,null,null,null,null,null,null,null,null,null,null,null,null,null,null,null,null,null,null,null,null,null,null,1985,11,0.74,19.600000000000001]
["'459376'",1949,6,0.25,77.599999999999994,60.2,42.7,null,null,null,null,"1949-06-01",null,null,null,null,null,null,null,null,null,null,null,null,null,null,null,null,null,null,null,null,null,null,null,null,null,null,null,null,null,null,null,null,null,null,null,null,null,null,null,null,null,null,null,null,null,null,null,null,null,null,null,null,null,null,null,null,null,null,null,null,null,null,null,1986,11,1.52,33.700000000000003]
["'459376'",1949,7,0.24,85.2,66.900000000000006,48.5,null,null,null,null,"1949-07-01",null,null,null,null,null,null,null,null,null,null,null,null,null,null,null,null,null,null,null,null,null,null,null,null,null,null,null,null,null,null,null,null,null,null,null,null,null,null,null,null,null,null,null,null,null,null,null,null,null,null,null,null,null,null,null,null,null,null,null,null,null,null,null,1987,11,0.38,36.1]
["'459376'",1949,8,0.19,84.3,65.5,46.6,null,null,null,null,"1949-08-01",null,null,null,null,null,null,null,null,null,null,null,null,null,null,null,null,null,null,null,null,null,null,null,null,null,null,null,null,null,null,null,null,null,null,null,null,null,null,null,null,null,null,null,null,null,null,null,null,null,null,null,null,null,null,null,null,null,null,null,null,null,null,null,1988,11,2.63,32.5]
["'459376'",1949,9,0.28999999999999998,77.599999999999994,58.8,40,null,null,null,null,"1949-09-01",null,null,null,null,null,null,null,null,null,null,null,null,null,null,null,null,null,null,null,null,null,null,null,null,null,null,null,null,null,null,null,null,null,null,null,null,null,null,null,null,null,null,null,null,null,null,null,null,null,null,null,null,null,null,null,null,null,null,null,null,null,null,null,1989,11,0.72,36]
["'459376'",1949,10,0.52,58.7,43.2,27.6,null,null,null,null,"1949-10-01",null,null,null,null,null,null,null,null,null,null,null,null,null,null,null,null,null,null,null,null,null,null,null,null,null,null,null,null,null,null,null,null,null,null,null,null,null,null,null,null,null,null,null,null,null,null,null,null,null,null,null,null,null,null,null,null,null,null,null,null,null,null,null,1990,11,3.24,34.799999999999997]
["'459376'",1949,11,3.51,49.7,38.6,27.4,null,null,null,null,"1949-11-01",null,null,null,null,null,null,null,null,null,null,null,null,null,null,null,null,null,null,null,null,null,null,null,null,null,null,null,null,null,null,null,null,null,null,null,null,null,null,null,null,null,null,null,null,null,null,null,null,null,null,null,null,null,null,null,null,null,null,null,null,null,null,null,1991,11,2.4500000000000002,31.4]
["'459376'",1949,12,2.0299999999999998,32.5,21.6,10.7,null,null,null,null,"1949-12-01",null,null,null,null,null,null,null,null,null,null,null,null,null,null,null,null,null,null,null,null,null,null,null,null,null,null,null,null,null,null,null,null,null,null,null,null,null,null,null,null,null,null,null,null,null,null,null,null,null,null,null,null,null,null,null,null,null,null,null,null,null,null,null,1992,11,1.56,33.700000000000003]
["'459376'",1950,1,1.85,12.9,0.1,-12.7,null,null,null,null,"1950-01-01",{"$f":"SUM($D316:$D318)","v":5.62},{"$f":"M317/M$1052","v":0.97221821776468853},{"$f":"AVERAGE($E316:$E318)","v":27.066666666666663},{"$f":"AVERAGE($F316:$F318)","v":15.466666666666669},{"$f":"AVERAGE($G316:$G318)","v":3.8666666666666667},{"$f":"SUM($D319:$D321)","v":3.4800000000000004},{"$f":"R317/R$1052","v":1.3977908477980208},{"$f":"AVERAGE($E319:$E321)","v":56.5},{"$f":"AVERAGE($F319:$F321)","v":43.5},{"$f":"AVERAGE($G319:$G321)","v":30.466666666666669},{"$f":"SUM($D322:$D324)","v":2.42},{"$f":"W317/W$1052","v":1.0910847512210824},{"$f":"AVERAGE($E322:$E324)","v":82.5},{"$f":"AVERAGE($F322:$F324)","v":65.233333333333334},{"$f":"AVERAGE($G322:$G324)","v":47.9},{"$f":"SUM($D325:$D327)","v":6.8000000000000007},{"$f":"AB317/AB$1052","v":2.0423340961098408},{"$f":"AVERAGE($E325:$E327)","v":58.166666666666664},{"$f":"AVERAGE($F325:$F327)","v":45.166666666666664},{"$f":"AVERAGE($G325:$G327)","v":32.133333333333333},{"$f":"SUM(D314:D325)","v":15.669999999999998},{"$f":"AG317/AG$1052","v":1.1342059231557997},{"$f":"AVERAGE(E314:E325)","v":57.183333333333337},{"$f":"AVERAGE(F314:F325)","v":42.816666666666663},{"$f":"AVERAGE(G314:G325)","v":28.400000000000002},{"$f":"SUM(D314:D319)","v":11.11},{"$f":"AL317/AL$1052","v":1.1353313247705124},{"$f":"AVERAGE(E314:E319)","v":39.166666666666671},{"$f":"AVERAGE(F314:F319)","v":27.149999999999995},{"$f":"AVERAGE(G314:G319)","v":15.1},null,null,null,null,null,null,null,null,null,null,null,null,null,null,null,null,null,null,null,null,null,null,null,null,null,null,null,null,null,null,null,null,null,1993,11,0.12,27.3]
["'459376'",1950,2,1.74,35.799999999999997,24.7,13.6,null,null,null,null,"1950-02-01",null,null,null,null,null,null,null,null,null,null,null,null,null,null,null,null,null,null,null,null,null,null,null,null,null,null,null,null,null,null,null,null,null,null,null,null,null,null,null,null,null,null,null,null,null,null,null,null,null,null,null,null,null,null,null,null,null,null,null,null,null,null,null,1994,11,3.17,23.8]
["'459376'",1950,3,1.46,45.4,34.700000000000003,24,null,null,null,null,"1950-03-01",null,null,null,null,null,null,null,null,null,null,null,null,null,null,null,null,null,null,null,null,null,null,null,null,null,null,null,null,null,null,null,null,null,null,null,null,null,null,null,null,null,null,null,null,null,null,null,null,null,null,null,null,null,null,null,null,null,null,null,null,null,null,null,1995,11,4.3899999999999997,32.200000000000003]
["'459376'",1950,4,0.99,56.6,43,29.3,null,null,null,null,"1950-04-01",null,null,null,null,null,null,null,null,null,null,null,null,null,null,null,null,null,null,null,null,null,null,null,null,null,null,null,null,null,null,null,null,null,null,null,null,null,null,null,null,null,null,null,null,null,null,null,null,null,null,null,null,null,null,null,null,null,null,null,null,null,null,null,1996,11,1.9,30]
["'459376'",1950,5,1.03,67.5,52.8,38.1,null,null,null,null,"1950-05-01",null,null,null,null,null,null,null,null,null,null,null,null,null,null,null,null,null,null,null,null,null,null,null,null,null,null,null,null,null,null,null,null,null,null,null,null,null,null,null,null,null,null,null,null,null,null,null,null,null,null,null,null,null,null,null,null,null,null,null,null,null,null,null,1997,11,1.05,35.6]
["'459376'",1950,6,1.4,76,60.9,45.7,null,null,null,null,"1950-06-01",null,null,null,null,null,null,null,null,null,null,null,null,null,null,null,null,null,null,null,null,null,null,null,null,null,null,null,null,null,null,null,null,null,null,null,null,null,null,null,null,null,null,null,null,null,null,null,null,null,null,null,null,null,null,null,null,null,null,null,null,null,null,null,1998,11,2.72,36.5]
["'459376'",1950,7,0.66,84.9,67.599999999999994,50.2,null,null,null,null,"1950-07-01",null,null,null,null,null,null,null,null,null,null,null,null,null,null,null,null,null,null,null,null,null,null,null,null,null,null,null,null,null,null,null,null,null,null,null,null,null,null,null,null,null,null,null,null,null,null,null,null,null,null,null,null,null,null,null,null,null,null,null,null,null,null,null,1999,11,2.65,38.200000000000003]
["'459376'",1950,8,0.36,86.6,67.2,47.8,null,null,null,null,"1950-08-01",null,null,null,null,null,null,null,null,null,null,null,null,null,null,null,null,null,null,null,null,null,null,null,null,null,null,null,null,null,null,null,null,null,null,null,null,null,null,null,null,null,null,null,null,null,null,null,null,null,null,null,null,null,null,null,null,null,null,null,null,null,null,null,2000,11,1.18,28.4]
["'459376'",1950,9,0.12,79.599999999999994,59.4,39.1,null,null,null,null,"1950-09-01",null,null,null,null,null,null,null,null,null,null,null,null,null,null,null,null,null,null,null,null,null,null,null,null,null,null,null,null,null,null,null,null,null,null,null,null,null,null,null,null,null,null,null,null,null,null,null,null,null,null,null,null,null,null,null,null,null,null,null,null,null,null,null,2001,11,2.42,36.200000000000003]
["'459376'",1950,10,2.52,55,44.3,33.6,null,null,null,null,"1950-10-01",null,null,null,null,null,null,null,null,null,null,null,null,null,null,null,null,null,null,null,null,null,null,null,null,null,null,null,null,null,null,null,null,null,null,null,null,null,null,null,null,null,null,null,null,null,null,null,null,null,null,null,null,null,null,null,null,null,null,null,null,null,null,null,2002,11,0.88,35.299999999999997]
["'459376'",1950,11,4.16,39.9,31.8,23.7,null,null,null,null,"1950-11-01",null,null,null,null,null,null,null,null,null,null,null,null,null,null,null,null,null,null,null,null,null,null,null,null,null,null,null,null,null,null,null,null,null,null,null,null,null,null,null,null,null,null,null,null,null,null,null,null,null,null,null,null,null,null,null,null,null,null,null,null,null,null,null,2003,11,2.4900000000000002,28.6]
["'459376'",1950,12,2.09,35,28.7,22.3,null,null,null,null,"1950-12-01",null,null,null,null,null,null,null,null,null,null,null,null,null,null,null,null,null,null,null,null,null,null,null,null,null,null,null,null,null,null,null,null,null,null,null,null,null,null,null,null,null,null,null,null,null,null,null,null,null,null,null,null,null,null,null,null,null,null,null,null,null,null,null,2004,11,0.42,34]
["'459376'",1951,1,3.63,27.9,19.3,10.7,null,null,null,null,"1951-01-01",{"$f":"SUM($D328:$D330)","v":7.82},{"$f":"M329/M$1052","v":1.3528018617295132},{"$f":"AVERAGE($E328:$E330)","v":32.699999999999996},{"$f":"AVERAGE($F328:$F330)","v":23.7},{"$f":"AVERAGE($G328:$G330)","v":14.666666666666666},{"$f":"SUM($D331:$D333)","v":3.6799999999999997},{"$f":"R329/R$1052","v":1.4781236551427344},{"$f":"AVERAGE($E331:$E333)","v":58.9},{"$f":"AVERAGE($F331:$F333)","v":43.633333333333326},{"$f":"AVERAGE($G331:$G333)","v":28.266666666666669},{"$f":"SUM($D334:$D336)","v":4.18},{"$f":"W329/W$1052","v":1.8846009339273242},{"$f":"AVERAGE($E334:$E336)","v":83.266666666666666},{"$f":"AVERAGE($F334:$F336)","v":65.166666666666671},{"$f":"AVERAGE($G334:$G336)","v":47},{"$f":"SUM($D337:$D339)","v":4.59},{"$f":"AB329/AB$1052","v":1.3785755148741423},{"$f":"AVERAGE($E337:$E339)","v":58.56666666666667},{"$f":"AVERAGE($F337:$F339)","v":45.43333333333333},{"$f":"AVERAGE($G337:$G339)","v":32.266666666666673},{"$f":"SUM(D326:D337)","v":22.58},{"$f":"AG329/AG$1052","v":1.6343567163278849},{"$f":"AVERAGE(E326:E337)","v":58.033333333333339},{"$f":"AVERAGE(F326:F337)","v":44.366666666666667},{"$f":"AVERAGE(G326:G337)","v":30.649999999999995},{"$f":"SUM(D326:D331)","v":16.299999999999997},{"$f":"AL329/AL$1052","v":1.6656976232006615},{"$f":"AVERAGE(E326:E331)","v":39.25},{"$f":"AVERAGE(F326:F331)","v":29.466666666666665},{"$f":"AVERAGE(G326:G331)","v":19.650000000000002},null,null,null,null,null,null,null,null,null,null,null,null,null,null,null,null,null,null,null,null,null,null,null,null,null,null,null,null,null,null,null,null,null,2005,11,1.54,28.8]
["'459376'",1951,2,2.1,35.200000000000003,23.1,11,null,null,null,null,"1951-02-01",null,null,null,null,null,null,null,null,null,null,null,null,null,null,null,null,null,null,null,null,null,null,null,null,null,null,null,null,null,null,null,null,null,null,null,null,null,null,null,null,null,null,null,null,null,null,null,null,null,null,null,null,null,null,null,null,null,null,null,null,null,null,null,2006,11,4.6900000000000004,29.3]
["'459376'",1951,3,1.8,42.5,29.6,16.600000000000001,null,null,null,null,"1951-03-01",null,null,null,null,null,null,null,null,null,null,null,null,null,null,null,null,null,null,null,null,null,null,null,null,null,null,null,null,null,null,null,null,null,null,null,null,null,null,null,null,null,null,null,null,null,null,null,null,null,null,null,null,null,null,null,null,null,null,null,null,null,null,null,2007,11,1.07,30.7]
["'459376'",1951,4,0.12,63.8,46.5,29.1,null,null,null,null,"1951-04-01",null,null,null,null,null,null,null,null,null,null,null,null,null,null,null,null,null,null,null,null,null,null,null,null,null,null,null,null,null,null,null,null,null,null,null,null,null,null,null,null,null,null,null,null,null,null,null,null,null,null,null,null,null,null,null,null,null,null,null,null,null,null,null,2008,11,2.5499999999999998,36.4]
["'459376'",1951,5,1.76,70.400000000000006,54.8,39.1,null,null,null,null,"1951-05-01",null,null,null,null,null,null,null,null,null,null,null,null,null,null,null,null,null,null,null,null,null,null,null,null,null,null,null,null,null,null,null,null,null,null,null,null,null,null,null,null,null,null,null,null,null,null,null,null,null,null,null,null,null,null,null,null,null,null,null,null,null,null,null,2009,11,0.68,34]
["'459376'",1951,6,1.25,77.400000000000006,60.8,44.1,null,null,null,null,"1951-06-01",null,null,null,null,null,null,null,null,null,null,null,null,null,null,null,null,null,null,null,null,null,null,null,null,null,null,null,null,null,null,null,null,null,null,null,null,null,null,null,null,null,null,null,null,null,null,null,null,null,null,null,null,null,null,null,null,null,null,null,null,null,null,null,2010,11,1.98,30.4]
["'459376'",1951,7,0.64,88.2,68.3,48.4,null,null,null,null,"1951-07-01",null,null,null,null,null,null,null,null,null,null,null,null,null,null,null,null,null,null,null,null,null,null,null,null,null,null,null,null,null,null,null,null,null,null,null,null,null,null,null,null,null,null,null,null,null,null,null,null,null,null,null,null,null,null,null,null,null,null,null,null,null,null,null,1981,12,3.48,19.5,{"$f":"AVERAGE(BZ335:BZ364)","v":2.3736666666666668},{"$f":"AVERAGE(CA335:CA364)","v":20.933333333333334}]
["'459376'",1951,8,2.29,84.2,66.400000000000006,48.5,null,null,null,null,"1951-08-01",null,null,null,null,null,null,null,null,null,null,null,null,null,null,null,null,null,null,null,null,null,null,null,null,null,null,null,null,null,null,null,null,null,null,null,null,null,null,null,null,null,null,null,null,null,null,null,null,null,null,null,null,null,null,null,null,null,null,null,null,null,null,null,1982,12,2.64,19.7]
["'459376'",1951,9,0.22,76.900000000000006,58.8,40.700000000000003,null,null,null,null,"1951-09-01",null,null,null,null,null,null,null,null,null,null,null,null,null,null,null,null,null,null,null,null,null,null,null,null,null,null,null,null,null,null,null,null,null,null,null,null,null,null,null,null,null,null,null,null,null,null,null,null,null,null,null,null,null,null,null,null,null,null,null,null,null,null,null,1983,12,1.49,10.1]
["'459376'",1951,10,2.1800000000000002,57.2,45.9,34.6,null,null,null,null,"1951-10-01",null,null,null,null,null,null,null,null,null,null,null,null,null,null,null,null,null,null,null,null,null,null,null,null,null,null,null,null,null,null,null,null,null,null,null,null,null,null,null,null,null,null,null,null,null,null,null,null,null,null,null,null,null,null,null,null,null,null,null,null,null,null,null,1984,12,0.98,11.4]
["'459376'",1951,11,2.19,41.6,31.6,21.5,null,null,null,null,"1951-11-01",null,null,null,null,null,null,null,null,null,null,null,null,null,null,null,null,null,null,null,null,null,null,null,null,null,null,null,null,null,null,null,null,null,null,null,null,null,null,null,null,null,null,null,null,null,null,null,null,null,null,null,null,null,null,null,null,null,null,null,null,null,null,null,1985,12,0.64,15.7]
["'459376'",1951,12,2.1,24.8,14.9,4.9000000000000004,null,null,null,null,"1951-12-01",null,null,null,null,null,null,null,null,null,null,null,null,null,null,null,null,null,null,null,null,null,null,null,null,null,null,null,null,null,null,null,null,null,null,null,null,null,null,null,null,null,null,null,null,null,null,null,null,null,null,null,null,null,null,null,null,null,null,null,null,null,null,null,1986,12,1.18,23]
["'459376'",1952,1,3.24,23,13.9,4.7,null,null,null,null,"1952-01-01",{"$f":"SUM($D340:$D342)","v":6.54},{"$f":"M341/M$1052","v":1.1313713779681607},{"$f":"AVERAGE($E340:$E342)","v":28.033333333333331},{"$f":"AVERAGE($F340:$F342)","v":17.5},{"$f":"AVERAGE($G340:$G342)","v":6.9000000000000012},{"$f":"SUM($D343:$D345)","v":1.2400000000000002},{"$f":"R341/R$1052","v":0.49806340553722583},{"$f":"AVERAGE($E343:$E345)","v":61.133333333333333},{"$f":"AVERAGE($F343:$F345)","v":46.133333333333333},{"$f":"AVERAGE($G343:$G345)","v":31.066666666666666},{"$f":"SUM($D346:$D348)","v":1.29},{"$f":"W341/W$1052","v":0.58161129300627945},{"$f":"AVERAGE($E346:$E348)","v":82.766666666666666},{"$f":"AVERAGE($F346:$F348)","v":64.833333333333329},{"$f":"AVERAGE($G346:$G348)","v":46.833333333333336},{"$f":"SUM($D349:$D351)","v":0.93},{"$f":"AB341/AB$1052","v":0.27931922196796349},{"$f":"AVERAGE($E349:$E351)","v":64.733333333333334},{"$f":"AVERAGE($F349:$F351)","v":47.666666666666664},{"$f":"AVERAGE($G349:$G351)","v":30.566666666666666},{"$f":"SUM(D338:D349)","v":14.16},{"$f":"AG341/AG$1052","v":1.02491103202847},{"$f":"AVERAGE(E338:E349)","v":57.94166666666667},{"$f":"AVERAGE(F338:F349)","v":43.650000000000006},{"$f":"AVERAGE(G338:G349)","v":29.3},{"$f":"SUM(D338:D343)","v":10.96},{"$f":"AL341/AL$1052","v":1.1200028190355371},{"$f":"AVERAGE(E338:E343)","v":38.31666666666667},{"$f":"AVERAGE(F338:F343)","v":27.433333333333334},{"$f":"AVERAGE(G338:G343)","v":16.483333333333334},null,null,null,null,null,null,null,null,null,null,null,null,null,null,null,null,null,null,null,null,null,null,null,null,null,null,null,null,null,null,null,null,null,1987,12,5.38,19.7]
["'459376'",1952,2,1.2,36.299999999999997,23.7,11.1,null,null,null,null,"1952-02-01",null,null,null,null,null,null,null,null,null,null,null,null,null,null,null,null,null,null,null,null,null,null,null,null,null,null,null,null,null,null,null,null,null,null,null,null,null,null,null,null,null,null,null,null,null,null,null,null,null,null,null,null,null,null,null,null,null,null,null,null,null,null,null,1988,12,1.5,22.5]
["'459376'",1952,3,0.05,47,34.6,22.1,null,null,null,null,"1952-03-01",null,null,null,null,null,null,null,null,null,null,null,null,null,null,null,null,null,null,null,null,null,null,null,null,null,null,null,null,null,null,null,null,null,null,null,null,null,null,null,null,null,null,null,null,null,null,null,null,null,null,null,null,null,null,null,null,null,null,null,null,null,null,null,1989,12,0.67,27]
["'459376'",1952,4,0.54,64.5,48.7,32.9,null,null,null,null,"1952-04-01",null,null,null,null,null,null,null,null,null,null,null,null,null,null,null,null,null,null,null,null,null,null,null,null,null,null,null,null,null,null,null,null,null,null,null,null,null,null,null,null,null,null,null,null,null,null,null,null,null,null,null,null,null,null,null,null,null,null,null,null,null,null,null,1990,12,1.37,15.9]
["'459376'",1952,5,0.65,71.900000000000006,55.1,38.200000000000003,null,null,null,null,"1952-05-01",null,null,null,null,null,null,null,null,null,null,null,null,null,null,null,null,null,null,null,null,null,null,null,null,null,null,null,null,null,null,null,null,null,null,null,null,null,null,null,null,null,null,null,null,null,null,null,null,null,null,null,null,null,null,null,null,null,null,null,null,null,null,null,1991,12,1.39,25.4]
["'459376'",1952,6,1.1000000000000001,76.099999999999994,60.1,44,null,null,null,null,"1952-06-01",null,null,null,null,null,null,null,null,null,null,null,null,null,null,null,null,null,null,null,null,null,null,null,null,null,null,null,null,null,null,null,null,null,null,null,null,null,null,null,null,null,null,null,null,null,null,null,null,null,null,null,null,null,null,null,null,null,null,null,null,null,null,null,1992,12,2.25,16.5]
["'459376'",1952,7,0.18,86.8,67.599999999999994,48.3,null,null,null,null,"1952-07-01",null,null,null,null,null,null,null,null,null,null,null,null,null,null,null,null,null,null,null,null,null,null,null,null,null,null,null,null,null,null,null,null,null,null,null,null,null,null,null,null,null,null,null,null,null,null,null,null,null,null,null,null,null,null,null,null,null,null,null,null,null,null,null,1993,12,2.83,23.3]
["'459376'",1952,8,0.01,85.4,66.8,48.2,null,null,null,null,"1952-08-01",null,null,null,null,null,null,null,null,null,null,null,null,null,null,null,null,null,null,null,null,null,null,null,null,null,null,null,null,null,null,null,null,null,null,null,null,null,null,null,null,null,null,null,null,null,null,null,null,null,null,null,null,null,null,null,null,null,null,null,null,null,null,null,1994,12,2.27,21.6]
["'459376'",1952,9,0.72,80.7,60.9,41.1,null,null,null,null,"1952-09-01",null,null,null,null,null,null,null,null,null,null,null,null,null,null,null,null,null,null,null,null,null,null,null,null,null,null,null,null,null,null,null,null,null,null,null,null,null,null,null,null,null,null,null,null,null,null,null,null,null,null,null,null,null,null,null,null,null,null,null,null,null,null,null,1995,12,2.66,23.5]
["'459376'",1952,10,0.06,71,51.2,31.3,null,null,null,null,"1952-10-01",null,null,null,null,null,null,null,null,null,null,null,null,null,null,null,null,null,null,null,null,null,null,null,null,null,null,null,null,null,null,null,null,null,null,null,null,null,null,null,null,null,null,null,null,null,null,null,null,null,null,null,null,null,null,null,null,null,null,null,null,null,null,null,1996,12,7.17,15.6]
["'459376'",1952,11,0.15,42.5,30.9,19.3,null,null,null,null,"1952-11-01",null,null,null,null,null,null,null,null,null,null,null,null,null,null,null,null,null,null,null,null,null,null,null,null,null,null,null,null,null,null,null,null,null,null,null,null,null,null,null,null,null,null,null,null,null,null,null,null,null,null,null,null,null,null,null,null,null,null,null,null,null,null,null,1997,12,0.81,24.4]
["'459376'",1952,12,2.4500000000000002,34.299999999999997,28,21.7,null,null,null,null,"1952-12-01",null,null,null,null,null,null,null,null,null,null,null,null,null,null,null,null,null,null,null,null,null,null,null,null,null,null,null,null,null,null,null,null,null,null,null,null,null,null,null,null,null,null,null,null,null,null,null,null,null,null,null,null,null,null,null,null,null,null,null,null,null,null,null,1998,12,2.77,21.7]
["'459376'",1953,1,4.87,35.4,27.2,19,null,null,null,null,"1953-01-01",{"$f":"SUM($D352:$D354)","v":8.1300000000000008},{"$f":"M353/M$1052","v":1.4064295570154659},{"$f":"AVERAGE($E352:$E354)","v":37.199999999999996},{"$f":"AVERAGE($F352:$F354)","v":27.966666666666669},{"$f":"AVERAGE($G352:$G354)","v":18.733333333333334},{"$f":"SUM($D355:$D357)","v":2.9000000000000004},{"$f":"R353/R$1052","v":1.1648257064983507},{"$f":"AVERAGE($E355:$E357)","v":59.9},{"$f":"AVERAGE($F355:$F357)","v":45.866666666666667},{"$f":"AVERAGE($G355:$G357)","v":31.766666666666669},{"$f":"SUM($D358:$D360)","v":3.25},{"$f":"W353/W$1052","v":1.465299769201867},{"$f":"AVERAGE($E358:$E360)","v":79.533333333333331},{"$f":"AVERAGE($F358:$F360)","v":62.733333333333327},{"$f":"AVERAGE($G358:$G360)","v":45.9},{"$f":"SUM($D361:$D363)","v":1.85},{"$f":"AB353/AB$1052","v":0.55563501144164784},{"$f":"AVERAGE($E361:$E363)","v":62.933333333333337},{"$f":"AVERAGE($F361:$F363)","v":47.333333333333336},{"$f":"AVERAGE($G361:$G363)","v":31.633333333333329},{"$f":"SUM(D350:D361)","v":14.689999999999998},{"$f":"AG353/AG$1052","v":1.0632728150069366},{"$f":"AVERAGE(E350:E361)","v":60.066666666666663},{"$f":"AVERAGE(F350:F361)","v":45.849999999999994},{"$f":"AVERAGE(G350:G361)","v":31.591666666666669},{"$f":"SUM(D350:D355)","v":8.68},{"$f":"AL353/AL$1052","v":0.88700953186391074},{"$f":"AVERAGE(E350:E355)","v":46.20000000000001},{"$f":"AVERAGE(F350:F355)","v":34.166666666666664},{"$f":"AVERAGE(G350:G355)","v":22.099999999999998},null,null,null,null,null,null,null,null,null,null,null,null,null,null,null,null,null,null,null,null,null,null,null,null,null,null,null,null,null,null,null,null,null,1999,12,1.64,28.6]
["'459376'",1953,2,0.81,41.9,28.7,15.5,null,null,null,null,"1953-02-01",null,null,null,null,null,null,null,null,null,null,null,null,null,null,null,null,null,null,null,null,null,null,null,null,null,null,null,null,null,null,null,null,null,null,null,null,null,null,null,null,null,null,null,null,null,null,null,null,null,null,null,null,null,null,null,null,null,null,null,null,null,null,null,2000,12,1.23,21.2]
["'459376'",1953,3,0.34,52.1,39,25.8,null,null,null,null,"1953-03-01",null,null,null,null,null,null,null,null,null,null,null,null,null,null,null,null,null,null,null,null,null,null,null,null,null,null,null,null,null,null,null,null,null,null,null,null,null,null,null,null,null,null,null,null,null,null,null,null,null,null,null,null,null,null,null,null,null,null,null,null,null,null,null,2001,12,2.39,23.6]
["'459376'",1953,4,0.79,58.9,45.5,32.1,null,null,null,null,"1953-04-01",null,null,null,null,null,null,null,null,null,null,null,null,null,null,null,null,null,null,null,null,null,null,null,null,null,null,null,null,null,null,null,null,null,null,null,null,null,null,null,null,null,null,null,null,null,null,null,null,null,null,null,null,null,null,null,null,null,null,null,null,null,null,null,2002,12,4.3099999999999996,29.4]
["'459376'",1953,5,1.77,68.7,53.1,37.4,null,null,null,null,"1953-05-01",null,null,null,null,null,null,null,null,null,null,null,null,null,null,null,null,null,null,null,null,null,null,null,null,null,null,null,null,null,null,null,null,null,null,null,null,null,null,null,null,null,null,null,null,null,null,null,null,null,null,null,null,null,null,null,null,null,null,null,null,null,null,null,2003,12,2.31,19.5]
["'459376'",1953,6,2.29,70.5,56.7,42.9,null,null,null,null,"1953-06-01",null,null,null,null,null,null,null,null,null,null,null,null,null,null,null,null,null,null,null,null,null,null,null,null,null,null,null,null,null,null,null,null,null,null,null,null,null,null,null,null,null,null,null,null,null,null,null,null,null,null,null,null,null,null,null,null,null,null,null,null,null,null,null,2004,12,2.15,27.4]
["'459376'",1953,7,0,85.1,66.099999999999994,47,null,null,null,null,"1953-07-01",null,null,null,null,null,null,null,null,null,null,null,null,null,null,null,null,null,null,null,null,null,null,null,null,null,null,null,null,null,null,null,null,null,null,null,null,null,null,null,null,null,null,null,null,null,null,null,null,null,null,null,null,null,null,null,null,null,null,null,null,null,null,null,2005,12,2.25,20.2]
["'459376'",1953,8,0.96,83,65.400000000000006,47.8,null,null,null,null,"1953-08-01",null,null,null,null,null,null,null,null,null,null,null,null,null,null,null,null,null,null,null,null,null,null,null,null,null,null,null,null,null,null,null,null,null,null,null,null,null,null,null,null,null,null,null,null,null,null,null,null,null,null,null,null,null,null,null,null,null,null,null,null,null,null,null,2006,12,3.85,20.8]
["'459376'",1953,9,0.2,77.400000000000006,58.4,39.299999999999997,null,null,null,null,"1953-09-01",null,null,null,null,null,null,null,null,null,null,null,null,null,null,null,null,null,null,null,null,null,null,null,null,null,null,null,null,null,null,null,null,null,null,null,null,null,null,null,null,null,null,null,null,null,null,null,null,null,null,null,null,null,null,null,null,null,null,null,null,null,null,null,2007,12,3.96,18.5]
["'459376'",1953,10,0.16,66.400000000000006,48.4,30.3,null,null,null,null,"1953-10-01",null,null,null,null,null,null,null,null,null,null,null,null,null,null,null,null,null,null,null,null,null,null,null,null,null,null,null,null,null,null,null,null,null,null,null,null,null,null,null,null,null,null,null,null,null,null,null,null,null,null,null,null,null,null,null,null,null,null,null,null,null,null,null,2008,12,1.52,17.8]
["'459376'",1953,11,1.49,45,35.200000000000003,25.3,null,null,null,null,"1953-11-01",null,null,null,null,null,null,null,null,null,null,null,null,null,null,null,null,null,null,null,null,null,null,null,null,null,null,null,null,null,null,null,null,null,null,null,null,null,null,null,null,null,null,null,null,null,null,null,null,null,null,null,null,null,null,null,null,null,null,null,null,null,null,null,2009,12,0.87,20]
["'459376'",1953,12,1.28,36.299999999999997,26.7,17.100000000000001,null,null,null,null,"1953-12-01",null,null,null,null,null,null,null,null,null,null,null,null,null,null,null,null,null,null,null,null,null,null,null,null,null,null,null,null,null,null,null,null,null,null,null,null,null,null,null,null,null,null,null,null,null,null,null,null,null,null,null,null,null,null,null,null,null,null,null,null,null,null,null,2010,12,3.25,24.5]
["'459376'",1954,1,3.57,25.4,15.8,6.1,null,null,null,null,"1954-01-01",{"$f":"SUM($D364:$D366)","v":6.27},{"$f":"M365/M$1052","v":1.0846633852997503},{"$f":"AVERAGE($E364:$E366)","v":33.633333333333333},{"$f":"AVERAGE($F364:$F366)","v":23.933333333333334},{"$f":"AVERAGE($G364:$G366)","v":14.200000000000001},{"$f":"SUM($D367:$D369)","v":1.42},{"$f":"R365/R$1052","v":0.57036293214746814},{"$f":"AVERAGE($E367:$E369)","v":58.433333333333337},{"$f":"AVERAGE($F367:$F369)","v":43},{"$f":"AVERAGE($G367:$G369)","v":27.5},{"$f":"SUM($D370:$D372)","v":2.46},{"$f":"W365/W$1052","v":1.1091192099189515},{"$f":"AVERAGE($E370:$E372)","v":77.166666666666671},{"$f":"AVERAGE($F370:$F372)","v":60.70000000000001},{"$f":"AVERAGE($G370:$G372)","v":44.133333333333333},{"$f":"SUM($D373:$D375)","v":3.06},{"$f":"AB365/AB$1052","v":0.91905034324942825},{"$f":"AVERAGE($E373:$E375)","v":59.566666666666663},{"$f":"AVERAGE($F373:$F375)","v":46.066666666666663},{"$f":"AVERAGE($G373:$G375)","v":32.5},{"$f":"SUM(D362:D373)","v":12.960000000000003},{"$f":"AG365/AG$1052","v":0.93805416490741333},{"$f":"AVERAGE(E362:E373)","v":57.550000000000004},{"$f":"AVERAGE(F362:F373)","v":43.516666666666673},{"$f":"AVERAGE(G362:G373)","v":29.408333333333331},{"$f":"SUM(D362:D367)","v":8.4700000000000006},{"$f":"AL365/AL$1052","v":0.86554962383494527},{"$f":"AVERAGE(E362:E367)","v":43.25},{"$f":"AVERAGE(F362:F367)","v":31.316666666666666},{"$f":"AVERAGE(G362:G367)","v":19.316666666666666}]
["'459376'",1954,2,1.42,39.200000000000003,29.3,19.399999999999999,null,null,null,null,"1954-02-01"]
["'459376'",1954,3,0.55000000000000004,47.2,32.5,17.7,null,null,null,null,"1954-03-01"]
["'459376'",1954,4,0.13,57.2,42.4,27.5,null,null,null,null,"1954-04-01"]
["'459376'",1954,5,0.74,70.900000000000006,54.1,37.299999999999997,null,null,null,null,"1954-05-01"]
["'459376'",1954,6,0.49,70.599999999999994,55.5,40.299999999999997,null,null,null,null,"1954-06-01"]
["'459376'",1954,7,0.92,82,63.9,45.7,null,null,null,null,"1954-07-01"]
["'459376'",1954,8,1.05,78.900000000000006,62.7,46.4,null,null,null,null,"1954-08-01"]
["'459376'",1954,9,1.1599999999999999,71.5,55.7,39.799999999999997,null,null,null,null,"1954-09-01"]
["'459376'",1954,10,0.28999999999999998,58.9,43.4,27.8,null,null,null,null,"1954-10-01"]
["'459376'",1954,11,1.61,48.3,39.1,29.9,null,null,null,null,"1954-11-01"]
["'459376'",1954,12,2.17,29.9,21.5,13.1,null,null,null,null,"1954-12-01"]
["'459376'",1955,1,0.76,27.3,18.7,10.1,null,null,null,null,"1955-01-01",{"$f":"SUM($D376:$D378)","v":5.81},{"$f":"M377/M$1052","v":1.0050868051980142},{"$f":"AVERAGE($E376:$E378)","v":30.400000000000002},{"$f":"AVERAGE($F376:$F378)","v":20.933333333333334},{"$f":"AVERAGE($G376:$G378)","v":11.433333333333332},{"$f":"SUM($D379:$D381)","v":2.25},{"$f":"R377/R$1052","v":0.90374408262803063},{"$f":"AVERAGE($E379:$E381)","v":52.5},{"$f":"AVERAGE($F379:$F381)","v":39.266666666666666},{"$f":"AVERAGE($G379:$G381)","v":25.933333333333334},{"$f":"SUM($D382:$D384)","v":1.51},{"$f":"W377/W$1052","v":0.68080081584455976},{"$f":"AVERAGE($E382:$E384)","v":80.966666666666683},{"$f":"AVERAGE($F382:$F384)","v":63.566666666666663},{"$f":"AVERAGE($G382:$G384)","v":46.166666666666664},{"$f":"SUM($D385:$D387)","v":4.3},{"$f":"AB377/AB$1052","v":1.2914759725400462},{"$f":"AVERAGE($E385:$E387)","v":55.29999999999999},{"$f":"AVERAGE($F385:$F387)","v":41.166666666666664},{"$f":"AVERAGE($G385:$G387)","v":27.033333333333335},{"$f":"SUM(D374:D385)","v":11.69},{"$f":"AG377/AG$1052","v":0.84613064720429476},{"$f":"AVERAGE(E374:E385)","v":56.275000000000006},{"$f":"AVERAGE(F374:F385)","v":42.616666666666674},{"$f":"AVERAGE(G374:G385)","v":28.916666666666668},{"$f":"SUM(D374:D379)","v":8.94},{"$f":"AL377/AL$1052","v":0.91357894180453469},{"$f":"AVERAGE(E374:E379)","v":39.683333333333337},{"$f":"AVERAGE(F374:F379)","v":28.666666666666668},{"$f":"AVERAGE(G374:G379)","v":17.599999999999998}]
["'459376'",1955,2,2.88,34,22.6,11.1,null,null,null,null,"1955-02-01"]
["'459376'",1955,3,1.23,39.700000000000003,26.7,13.6,null,null,null,null,"1955-03-01"]
["'459376'",1955,4,0.66,53.8,40.799999999999997,27.7,null,null,null,null,"1955-04-01"]
["'459376'",1955,5,0.36,64,50.3,36.5,null,null,null,null,"1955-05-01"]
["'459376'",1955,6,0.53,76.900000000000006,60.8,44.7,null,null,null,null,"1955-06-01"]
["'459376'",1955,7,0.97,80.7,64.900000000000006,49.1,null,null,null,null,"1955-07-01"]
["'459376'",1955,8,0.01,85.3,65,44.7,null,null,null,null,"1955-08-01"]
["'459376'",1955,9,0.22,76.5,57.6,38.700000000000003,null,null,null,null,"1955-09-01"]
["'459376'",1955,10,1.22,58.2,43.9,29.6,null,null,null,null,"1955-10-01"]
["'459376'",1955,11,2.86,31.2,22,12.8,null,null,null,null,"1955-11-01"]
["'459376'",1955,12,4.78,24.8,14.9,4.9000000000000004,null,null,null,null,"1955-12-01"]
["'459376'",1956,1,2.79,27.7,20.100000000000001,12.4,null,null,null,null,"1956-01-01",{"$f":"SUM($D388:$D390)","v":8.77},{"$f":"M389/M$1052","v":1.517144798896142},{"$f":"AVERAGE($E388:$E390)","v":25.866666666666664},{"$f":"AVERAGE($F388:$F390)","v":16.3},{"$f":"AVERAGE($G388:$G390)","v":6.666666666666667},{"$f":"SUM($D391:$D393)","v":1.93},{"$f":"R389/R$1052","v":0.7752115908764885},{"$f":"AVERAGE($E391:$E393)","v":59.233333333333327},{"$f":"AVERAGE($F391:$F393)","v":43.9},{"$f":"AVERAGE($G391:$G393)","v":28.533333333333331},{"$f":"SUM($D394:$D396)","v":4.26},{"$f":"W389/W$1052","v":1.9206698513230624},{"$f":"AVERAGE($E394:$E396)","v":81.733333333333334},{"$f":"AVERAGE($F394:$F396)","v":64.36666666666666},{"$f":"AVERAGE($G394:$G396)","v":46.933333333333337},{"$f":"SUM($D397:$D399)","v":3.31},{"$f":"AB389/AB$1052","v":0.99413615560640767},{"$f":"AVERAGE($E397:$E399)","v":56.5},{"$f":"AVERAGE($F397:$F399)","v":42.766666666666673},{"$f":"AVERAGE($G397:$G399)","v":29.033333333333331},{"$f":"SUM(D386:D397)","v":19.549999999999997},{"$f":"AG389/AG$1052","v":1.4150431268472166},{"$f":"AVERAGE(E386:E397)","v":55.408333333333339},{"$f":"AVERAGE(F386:F397)","v":41.358333333333334},{"$f":"AVERAGE(G386:G397)","v":27.266666666666666},{"$f":"SUM(D386:D391)","v":13.739999999999998},{"$f":"AL389/AL$1052","v":1.404091125323748},{"$f":"AVERAGE(E386:E391)","v":34.633333333333333},{"$f":"AVERAGE(F386:F391)","v":23.950000000000003},{"$f":"AVERAGE(G386:G391)","v":13.216666666666669}]
["'459376'",1956,2,1.2,25.1,13.9,2.7,null,null,null,null,"1956-02-01"]
["'459376'",1956,3,0.89,40.799999999999997,28.9,16.899999999999999,null,null,null,null,"1956-03-01"]
["'459376'",1956,4,0.28999999999999998,63,46.1,29.2,null,null,null,null,"1956-04-01"]
["'459376'",1956,5,0.75,73.900000000000006,56.7,39.5,null,null,null,null,"1956-05-01"]
["'459376'",1956,6,2.04,72.3,57.7,43.1,null,null,null,null,"1956-06-01"]
["'459376'",1956,7,0.4,88,68.8,49.5,null,null,null,null,"1956-07-01"]
["'459376'",1956,8,1.82,84.9,66.599999999999994,48.2,null,null,null,null,"1956-08-01"]
["'459376'",1956,9,0.51,75,56.7,38.4,null,null,null,null,"1956-09-01"]
["'459376'",1956,10,1.84,57.8,44.3,30.8,null,null,null,null,"1956-10-01"]
["'459376'",1956,11,0.96,36.700000000000003,27.3,17.899999999999999,null,null,null,null,"1956-11-01"]
["'459376'",1956,12,1.67,29.4,21.5,13.5,null,null,null,null,"1956-12-01"]
["'459376'",1957,1,1.4,17,6.8,-3.5,null,null,null,null,"1957-01-01",{"$f":"SUM($D400:$D402)","v":4.4000000000000004},{"$f":"M401/M$1052","v":0.76116728792964949},{"$f":"AVERAGE($E400:$E402)","v":26.2},{"$f":"AVERAGE($F400:$F402)","v":16.2},{"$f":"AVERAGE($G400:$G402)","v":6.1333333333333329},{"$f":"SUM($D403:$D405)","v":3.84},{"$f":"R401/R$1052","v":1.5423899010185056},{"$f":"AVERAGE($E403:$E405)","v":61.6},{"$f":"AVERAGE($F403:$F405)","v":47.29999999999999},{"$f":"AVERAGE($G403:$G405)","v":32.9},{"$f":"SUM($D406:$D408)","v":1.89},{"$f":"W401/W$1052","v":0.85212817347431646},{"$f":"AVERAGE($E406:$E408)","v":79.3},{"$f":"AVERAGE($F406:$F408)","v":62.466666666666669},{"$f":"AVERAGE($G406:$G408)","v":45.566666666666663},{"$f":"SUM($D409:$D411)","v":1.67},{"$f":"AB401/AB$1052","v":0.50157322654462255},{"$f":"AVERAGE($E409:$E411)","v":60.366666666666674},{"$f":"AVERAGE($F409:$F411)","v":46},{"$f":"AVERAGE($G409:$G411)","v":31.599999999999998},{"$f":"SUM(D398:D409)","v":12.959999999999999},{"$f":"AG401/AG$1052","v":0.93805416490741311},{"$f":"AVERAGE(E398:E409)","v":56.375000000000007},{"$f":"AVERAGE(F398:F409)","v":42.500000000000007},{"$f":"AVERAGE(G398:G409)","v":28.566666666666666},{"$f":"SUM(D398:D403)","v":8.91},{"$f":"AL401/AL$1052","v":0.91051324065753969},{"$f":"AVERAGE(E398:E403)","v":36.900000000000006},{"$f":"AVERAGE(F398:F403)","v":25.916666666666668},{"$f":"AVERAGE(G398:G403)","v":14.883333333333335}]
["'459376'",1957,2,1.33,32.200000000000003,20.3,8.4,null,null,null,null,"1957-02-01"]
["'459376'",1957,3,1.71,48.3,35.299999999999997,22.2,null,null,null,null,"1957-03-01"]
["'459376'",1957,4,0.74,62.2,47.4,32.5,null,null,null,null,"1957-04-01"]
["'459376'",1957,5,1.39,74.3,59.2,44,null,null,null,null,"1957-05-01"]
["'459376'",1957,6,0.44,77.3,61.5,45.6,null,null,null,null,"1957-06-01"]
["'459376'",1957,7,1.01,82.2,64.8,47.4,null,null,null,null,"1957-07-01"]
["'459376'",1957,8,0.44,78.400000000000006,61.1,43.7,null,null,null,null,"1957-08-01"]
["'459376'",1957,9,0.03,80.7,60.5,40.299999999999997,null,null,null,null,"1957-09-01"]
["'459376'",1957,10,1.27,57.2,44.7,32.200000000000003,null,null,null,null,"1957-10-01"]
["'459376'",1957,11,0.37,43.2,32.799999999999997,22.3,null,null,null,null,"1957-11-01"]
["'459376'",1957,12,2.94,32.200000000000003,25.3,18.3,null,null,null,null,"1957-12-01"]
["'459376'",1958,1,2.4,31.8,23.9,15.9,null,null,null,null,"1958-01-01",{"$f":"SUM($D412:$D414)","v":7.59},{"$f":"M413/M$1052","v":1.3130135716786451},{"$f":"AVERAGE($E412:$E414)","v":35.06666666666667},{"$f":"AVERAGE($F412:$F414)","v":27.8},{"$f":"AVERAGE($G412:$G414)","v":20.466666666666669},{"$f":"SUM($D415:$D417)","v":3.77},{"$f":"R413/R$1052","v":1.5142734184478557},{"$f":"AVERAGE($E415:$E417)","v":62.233333333333327},{"$f":"AVERAGE($F415:$F417)","v":47.633333333333333},{"$f":"AVERAGE($G415:$G417)","v":32.966666666666669},{"$f":"SUM($D418:$D420)","v":3.54},{"$f":"W413/W$1052","v":1.5960495947614182},{"$f":"AVERAGE($E418:$E420)","v":86.733333333333334},{"$f":"AVERAGE($F418:$F420)","v":68.733333333333334},{"$f":"AVERAGE($G418:$G420)","v":50.666666666666664},{"$f":"SUM($D421:$D423)","v":5.65},{"$f":"AB413/AB$1052","v":1.6969393592677353},{"$f":"AVERAGE($E421:$E423)","v":56.5},{"$f":"AVERAGE($F421:$F423)","v":42.6},{"$f":"AVERAGE($G421:$G423)","v":28.633333333333336},{"$f":"SUM(D410:D421)","v":16.800000000000004},{"$f":"AG413/AG$1052","v":1.2159961396947951},{"$f":"AVERAGE(E410:E421)","v":60.391666666666673},{"$f":"AVERAGE(F410:F421)","v":47.133333333333326},{"$f":"AVERAGE(G410:G421)","v":33.81666666666667},{"$f":"SUM(D410:D415)","v":11.32},{"$f":"AL413/AL$1052","v":1.156791232799478},{"$f":"AVERAGE(E410:E415)","v":42.56666666666667},{"$f":"AVERAGE(F410:F415)","v":33.083333333333329},{"$f":"AVERAGE(G410:G415)","v":23.55}]
["'459376'",1958,2,2.25,41.2,34.200000000000003,27.2,null,null,null,null,"1958-02-01"]
["'459376'",1958,3,2.09,49.8,37.6,25.4,null,null,null,null,"1958-03-01"]
["'459376'",1958,4,1.37,58.6,45.4,32.1,null,null,null,null,"1958-04-01"]
["'459376'",1958,5,0.31,78.3,59.9,41.4,null,null,null,null,"1958-05-01"]
["'459376'",1958,6,0.81,81.099999999999994,65.400000000000006,49.6,null,null,null,null,"1958-06-01"]
["'459376'",1958,7,2.68,89.3,70.7,52.1,null,null,null,null,"1958-07-01"]
["'459376'",1958,8,0.05,89.8,70.099999999999994,50.3,null,null,null,null,"1958-08-01"]
["'459376'",1958,9,0.26,72.2,55.6,39,null,null,null,null,"1958-09-01"]
["'459376'",1958,10,0.84,62.3,46.3,30.2,null,null,null,null,"1958-10-01"]
["'459376'",1958,11,4.55,35,25.9,16.7,null,null,null,null,"1958-11-01"]
["'459376'",1958,12,2.39,30.6,23.4,16.2,null,null,null,null,"1958-12-01"]
["'459376'",1959,1,3.94,28.1,18.3,8.5,null,null,null,null,"1959-01-01",{"$f":"SUM($D424:$D426)","v":8.26},{"$f":"M425/M$1052","v":1.4289185905224782},{"$f":"AVERAGE($E424:$E426)","v":31.100000000000005},{"$f":"AVERAGE($F424:$F426)","v":21.566666666666666},{"$f":"AVERAGE($G424:$G426)","v":12.033333333333333},{"$f":"SUM($D427:$D429)","v":1.06},{"$f":"R425/R$1052","v":0.42576387892698331},{"$f":"AVERAGE($E427:$E429)","v":59.300000000000004},{"$f":"AVERAGE($F427:$F429)","v":44.166666666666664},{"$f":"AVERAGE($G427:$G429)","v":29},{"$f":"SUM($D430:$D432)","v":1.01},{"$f":"W425/W$1052","v":0.45537008212119556},{"$f":"AVERAGE($E430:$E432)","v":80.866666666666674},{"$f":"AVERAGE($F430:$F432)","v":62.733333333333327},{"$f":"AVERAGE($G430:$G432)","v":44.566666666666663},{"$f":"SUM($D433:$D435)","v":6.54},{"$f":"AB425/AB$1052","v":1.9642448512585819},{"$f":"AVERAGE($E433:$E435)","v":56},{"$f":"AVERAGE($F433:$F435)","v":42.666666666666664},{"$f":"AVERAGE($G433:$G435)","v":29.333333333333332},{"$f":"SUM(D422:D433)","v":18.45},{"$f":"AG425/AG$1052","v":1.335424331986248},{"$f":"AVERAGE(E422:E433)","v":56.708333333333336},{"$f":"AVERAGE(F422:F433)","v":42.65},{"$f":"AVERAGE(G422:G433)","v":28.558333333333337},{"$f":"SUM(D422:D427)","v":14.29},{"$f":"AL425/AL$1052","v":1.4602956463519912},{"$f":"AVERAGE(E422:E427)","v":39.616666666666667},{"$f":"AVERAGE(F422:F427)","v":28.533333333333331},{"$f":"AVERAGE(G422:G427)","v":17.416666666666668}]
["'459376'",1959,2,1.93,34.6,23,11.4,null,null,null,null,"1959-02-01"]
["'459376'",1959,3,0.64,47.1,34.299999999999997,21.5,null,null,null,null,"1959-03-01"]
["'459376'",1959,4,0.09,62.1,45.9,29.7,null,null,null,null,"1959-04-01"]
["'459376'",1959,5,0.33,68.7,52.3,35.799999999999997,null,null,null,null,"1959-05-01"]
["'459376'",1959,6,0.72,75.400000000000006,59.5,43.6,null,null,null,null,"1959-06-01"]
["'459376'",1959,7,0.18,87.5,67,46.5,null,null,null,null,"1959-07-01"]
["'459376'",1959,8,0.11,79.7,61.7,43.6,null,null,null,null,"1959-08-01"]
["'459376'",1959,9,2.73,69.400000000000006,54.2,39,null,null,null,null,"1959-09-01"]
["'459376'",1959,10,1.61,58.8,45,31.2,null,null,null,null,"1959-10-01"]
["'459376'",1959,11,2.2000000000000002,39.799999999999997,28.8,17.8,null,null,null,null,"1959-11-01"]
["'459376'",1959,12,1.49,31.8,23.6,15.3,null,null,null,null,"1959-12-01"]
["'459376'",1960,1,0.96,26.1,16.8,7.4,null,null,null,null,"1960-01-01",{"$f":"SUM($D436:$D438)","v":5.0600000000000005},{"$f":"M437/M$1052","v":0.8753423811190969},{"$f":"AVERAGE($E436:$E438)","v":31.633333333333336},{"$f":"AVERAGE($F436:$F438)","v":22.200000000000003},{"$f":"AVERAGE($G436:$G438)","v":12.700000000000001},{"$f":"SUM($D439:$D441)","v":3.1799999999999997},{"$f":"R437/R$1052","v":1.2772916367809497},{"$f":"AVERAGE($E439:$E441)","v":57.466666666666661},{"$f":"AVERAGE($F439:$F441)","v":43.199999999999996},{"$f":"AVERAGE($G439:$G441)","v":28.866666666666664},{"$f":"SUM($D442:$D444)","v":0.65},{"$f":"W437/W$1052","v":0.29305995384037342},{"$f":"AVERAGE($E442:$E444)","v":83.166666666666671},{"$f":"AVERAGE($F442:$F444)","v":64.533333333333331},{"$f":"AVERAGE($G442:$G444)","v":45.866666666666674},{"$f":"SUM($D445:$D447)","v":2.6399999999999997},{"$f":"AB437/AB$1052","v":0.79290617848970268},{"$f":"AVERAGE($E445:$E447)","v":60},{"$f":"AVERAGE($F445:$F447)","v":43.866666666666674},{"$f":"AVERAGE($G445:$G447)","v":27.7},{"$f":"SUM(D434:D445)","v":12.850000000000001},{"$f":"AG437/AG$1052","v":0.93009228542131639},{"$f":"AVERAGE(E434:E445)","v":57.708333333333336},{"$f":"AVERAGE(F434:F445)","v":43.308333333333337},{"$f":"AVERAGE(G434:G445)","v":28.866666666666671},{"$f":"SUM(D434:D439)","v":9.6700000000000017},{"$f":"AL437/AL$1052","v":0.98817766971474863},{"$f":"AVERAGE(E434:E439)","v":40.133333333333333},{"$f":"AVERAGE(F434:F439)","v":28.966666666666669},{"$f":"AVERAGE(G434:G439)","v":17.766666666666669}]
["'459376'",1960,2,2.61,37,26.2,15.4,null,null,null,null,"1960-02-01"]
["'459376'",1960,3,0.8,47.3,33.4,19.5,null,null,null,null,"1960-03-01"]
["'459376'",1960,4,0.85,60,45.2,30.3,null,null,null,null,"1960-04-01"]
["'459376'",1960,5,1.53,65.099999999999994,51,36.799999999999997,null,null,null,null,"1960-05-01"]
["'459376'",1960,6,0.26,77.2,59.6,41.9,null,null,null,null,"1960-06-01"]
["'459376'",1960,7,0,91.8,70.400000000000006,49,null,null,null,null,"1960-07-01"]
["'459376'",1960,8,0.39,80.5,63.6,46.7,null,null,null,null,"1960-08-01"]
["'459376'",1960,9,0.15,77.099999999999994,56.1,35.1,null,null,null,null,"1960-09-01"]
["'459376'",1960,10,0.23,63.5,46.7,29.9,null,null,null,null,"1960-10-01"]
["'459376'",1960,11,2.2599999999999998,39.4,28.8,18.100000000000001,null,null,null,null,"1960-11-01"]
["'459376'",1960,12,1.02,25.5,16.899999999999999,8.1999999999999993,null,null,null,null,"1960-12-01"]
["'459376'",1961,1,1.55,28.9,20.6,12.3,null,null,null,null,"1961-01-01",{"$f":"SUM($D448:$D450)","v":4.9600000000000009},{"$f":"M449/M$1052","v":0.85804312457524123},{"$f":"AVERAGE($E448:$E450)","v":31.3},{"$f":"AVERAGE($F448:$F450)","v":22.833333333333332},{"$f":"AVERAGE($G448:$G450)","v":14.333333333333334},{"$f":"SUM($D451:$D453)","v":4.8599999999999994},{"$f":"R449/R$1052","v":1.9520872184765459},{"$f":"AVERAGE($E451:$E453)","v":58.79999999999999},{"$f":"AVERAGE($F451:$F453)","v":45.199999999999996},{"$f":"AVERAGE($G451:$G453)","v":31.533333333333331},{"$f":"SUM($D454:$D456)","v":1.9100000000000001},{"$f":"W449/W$1052","v":0.86114540282325114},{"$f":"AVERAGE($E454:$E456)","v":87.7},{"$f":"AVERAGE($F454:$F456)","v":67.766666666666666},{"$f":"AVERAGE($G454:$G456)","v":47.733333333333327},{"$f":"SUM($D457:$D459)","v":1.83},{"$f":"AB449/AB$1052","v":0.54962814645308944},{"$f":"AVERAGE($E457:$E459)","v":55.533333333333339},{"$f":"AVERAGE($F457:$F459)","v":40.699999999999996},{"$f":"AVERAGE($G457:$G459)","v":25.833333333333332},{"$f":"SUM(D446:D457)","v":14.55},{"$f":"AG449/AG$1052","v":1.0531395138428135},{"$f":"AVERAGE(E446:E457)","v":59.06666666666667},{"$f":"AVERAGE(F446:F457)","v":44.775000000000006},{"$f":"AVERAGE(G446:G457)","v":30.425000000000001},{"$f":"SUM(D446:D451)","v":9.68},{"$f":"AL449/AL$1052","v":0.98919957009708015},{"$f":"AVERAGE(E446:E451)","v":40.866666666666667},{"$f":"AVERAGE(F446:F451)","v":30.05},{"$f":"AVERAGE(G446:G451)","v":19.183333333333334}]
["'459376'",1961,2,2.39,39.5,31,22.5,null,null,null,null,"1961-02-01"]
["'459376'",1961,3,2.23,48.4,36.299999999999997,24.1,null,null,null,null,"1961-03-01"]
["'459376'",1961,4,0.49,59.9,45.5,31.1,null,null,null,null,"1961-04-01"]
["'459376'",1961,5,2.14,68.099999999999994,53.8,39.4,null,null,null,null,"1961-05-01"]
["'459376'",1961,6,0.73,83.2,64.099999999999994,44.9,null,null,null,null,"1961-06-01"]
["'459376'",1961,7,0.81,89,69.400000000000006,49.7,null,null,null,null,"1961-07-01"]
["'459376'",1961,8,0.37,90.9,69.8,48.6,null,null,null,null,"1961-08-01"]
["'459376'",1961,9,0.33,72.5,54.4,36.299999999999997,null,null,null,null,"1961-09-01"]
["'459376'",1961,10,0.4,57.9,42.2,26.4,null,null,null,null,"1961-10-01"]
["'459376'",1961,11,1.1000000000000001,36.200000000000003,25.5,14.8,null,null,null,null,"1961-11-01"]
["'459376'",1961,12,2.61,27.4,19,10.6,null,null,null,null,"1961-12-01"]
["'459376'",1962,1,0.39,25.3,15.1,4.8,null,null,null,null,"1962-01-01",{"$f":"SUM($D460:$D462)","v":4.21},{"$f":"M461/M$1052","v":0.72829870049632361},{"$f":"AVERAGE($E460:$E462)","v":30.400000000000002},{"$f":"AVERAGE($F460:$F462)","v":21.3},{"$f":"AVERAGE($G460:$G462)","v":12.166666666666666},{"$f":"SUM($D463:$D465)","v":2.97},{"$f":"R461/R$1052","v":1.1929421890690004},{"$f":"AVERAGE($E463:$E465)","v":59.1},{"$f":"AVERAGE($F463:$F465)","v":44.5},{"$f":"AVERAGE($G463:$G465)","v":29.833333333333332},{"$f":"SUM($D466:$D468)","v":1.88},{"$f":"W461/W$1052","v":0.84761955879984918},{"$f":"AVERAGE($E466:$E468)","v":80.566666666666663},{"$f":"AVERAGE($F466:$F468)","v":62.366666666666667},{"$f":"AVERAGE($G466:$G468)","v":44.166666666666664},{"$f":"SUM($D469:$D471)","v":4.1099999999999994},{"$f":"AB461/AB$1052","v":1.2344107551487415},{"$f":"AVERAGE($E469:$E471)","v":60.933333333333337},{"$f":"AVERAGE($F469:$F471)","v":46},{"$f":"AVERAGE($G469:$G471)","v":31},{"$f":"SUM(D458:D469)","v":10.59},{"$f":"AG461/AG$1052","v":0.76651185234332608},{"$f":"AVERAGE(E458:E469)","v":56.933333333333337},{"$f":"AVERAGE(F458:F469)","v":42.491666666666667},{"$f":"AVERAGE(G458:G469)","v":28.008333333333329},{"$f":"SUM(D458:D463)","v":6.27},{"$f":"AL461/AL$1052","v":0.64073153972197239},{"$f":"AVERAGE(E458:E463)","v":38.766666666666673},{"$f":"AVERAGE(F458:F463)","v":27.599999999999998},{"$f":"AVERAGE(G458:G463)","v":16.400000000000002}]
["'459376'",1962,2,1.21,38.5,29.8,21.1,null,null,null,null,"1962-02-01"]
["'459376'",1962,3,0.56000000000000005,47.3,34,20.7,null,null,null,null,"1962-03-01"]
["'459376'",1962,4,1.1200000000000001,64.8,48.2,31.5,null,null,null,null,"1962-04-01"]
["'459376'",1962,5,1.29,65.2,51.3,37.299999999999997,null,null,null,null,"1962-05-01"]
["'459376'",1962,6,0.39,76.599999999999994,58.8,41,null,null,null,null,"1962-06-01"]
["'459376'",1962,7,0.09,84.6,65.2,45.8,null,null,null,null,"1962-07-01"]
["'459376'",1962,8,1.4,80.5,63.1,45.7,null,null,null,null,"1962-08-01"]
["'459376'",1962,9,0.03,78.900000000000006,57.7,36.4,null,null,null,null,"1962-09-01"]
["'459376'",1962,10,1.32,61.4,45.7,29.9,null,null,null,null,"1962-10-01"]
["'459376'",1962,11,2.76,42.5,34.6,26.7,null,null,null,null,"1962-11-01"]
["'459376'",1962,12,1.67,34.299999999999997,26.6,18.8,null,null,null,null,"1962-12-01"]
["'459376'",1963,1,0.28999999999999998,29.2,18.2,7.1,null,null,null,null,"1963-01-01",{"$f":"SUM($D472:$D474)","v":2.27},{"$f":"M473/M$1052","v":0.39269312354552366},{"$f":"AVERAGE($E472:$E474)","v":36.166666666666664},{"$f":"AVERAGE($F472:$F474)","v":25.599999999999998},{"$f":"AVERAGE($G472:$G474)","v":14.966666666666667},{"$f":"SUM($D475:$D477)","v":4.13},{"$f":"R473/R$1052","v":1.6588724716683405},{"$f":"AVERAGE($E475:$E477)","v":59.966666666666661},{"$f":"AVERAGE($F475:$F477)","v":45.533333333333331},{"$f":"AVERAGE($G475:$G477)","v":31.099999999999998},{"$f":"SUM($D478:$D480)","v":2.2999999999999998},{"$f":"W473/W$1052","v":1.036981375127475},{"$f":"AVERAGE($E478:$E480)","v":80.900000000000006},{"$f":"AVERAGE($F478:$F480)","v":64},{"$f":"AVERAGE($G478:$G480)","v":47.033333333333331},{"$f":"SUM($D481:$D483)","v":3.41},{"$f":"AB473/AB$1052","v":1.0241704805491996},{"$f":"AVERAGE($E481:$E483)","v":61.133333333333333},{"$f":"AVERAGE($F481:$F483)","v":47.133333333333333},{"$f":"AVERAGE($G481:$G483)","v":33.1},{"$f":"SUM(D470:D481)","v":13.979999999999999},{"$f":"AG473/AG$1052","v":1.0118825019603113},{"$f":"AVERAGE(E470:E481)","v":59.666666666666657},{"$f":"AVERAGE(F470:F481)","v":45.6},{"$f":"AVERAGE(G470:G481)","v":31.491666666666664},{"$f":"SUM(D470:D475)","v":7.38},{"$f":"AL473/AL$1052","v":0.7541624821607904},{"$f":"AVERAGE(E470:E475)","v":44.199999999999996},{"$f":"AVERAGE(F470:F475)","v":32.666666666666671},{"$f":"AVERAGE(G470:G475)","v":21.083333333333332}]
["'459376'",1963,2,0.31,45,32,19,null,null,null,null,"1963-02-01"]
["'459376'",1963,3,1.03,52.8,38.9,25,null,null,null,null,"1963-03-01"]
["'459376'",1963,4,2.4300000000000002,56.5,44.4,32.299999999999997,null,null,null,null,"1963-04-01"]
["'459376'",1963,5,0.67,70.599999999999994,53.3,36,null,null,null,null,"1963-05-01"]
["'459376'",1963,6,0.51,76.900000000000006,61.1,45.3,null,null,null,null,"1963-06-01"]
["'459376'",1963,7,1.02,80.400000000000006,64.400000000000006,48.3,null,null,null,null,"1963-07-01"]
["'459376'",1963,8,0.77,85.4,66.5,47.5,null,null,null,null,"1963-08-01"]
["'459376'",1963,9,1.2,81,61.5,42,null,null,null,null,"1963-09-01"]
["'459376'",1963,10,0.41,62,47.7,33.4,null,null,null,null,"1963-10-01"]
["'459376'",1963,11,1.8,40.4,32.200000000000003,23.9,null,null,null,null,"1963-11-01"]
["'459376'",1963,12,2,29.5,22,14.5,null,null,null,null,"1963-12-01"]
["'459376'",1964,1,4.1100000000000003,28,20.100000000000001,12.2,null,null,null,null,"1964-01-01",{"$f":"SUM($D484:$D486)","v":6.3100000000000005},{"$f":"M485/M$1052","v":1.0915830879172927},{"$f":"AVERAGE($E484:$E486)","v":30.933333333333334},{"$f":"AVERAGE($F484:$F486)","v":21.7},{"$f":"AVERAGE($G484:$G486)","v":12.466666666666667},{"$f":"SUM($D487:$D489)","v":0.59000000000000008},{"$f":"R485/R$1052","v":0.23698178166690584},{"$f":"AVERAGE($E487:$E489)","v":58.033333333333331},{"$f":"AVERAGE($F487:$F489)","v":43.366666666666674},{"$f":"AVERAGE($G487:$G489)","v":28.7},{"$f":"SUM($D490:$D492)","v":2.59},{"$f":"W485/W$1052","v":1.1677312006870262},{"$f":"AVERAGE($E490:$E492)","v":79.433333333333323},{"$f":"AVERAGE($F490:$F492)","v":62.166666666666664},{"$f":"AVERAGE($G490:$G492)","v":44.866666666666674},{"$f":"SUM($D493:$D495)","v":2.8499999999999996},{"$f":"AB485/AB$1052","v":0.85597826086956541},{"$f":"AVERAGE($E493:$E495)","v":58.800000000000004},{"$f":"AVERAGE($F493:$F495)","v":43.766666666666659},{"$f":"AVERAGE($G493:$G495)","v":28.666666666666668},{"$f":"SUM(D482:D493)","v":12.12},{"$f":"AG485/AG$1052","v":0.87725435792267337},{"$f":"AVERAGE(E482:E493)","v":56.724999999999994},{"$f":"AVERAGE(F482:F493)","v":43.016666666666673},{"$f":"AVERAGE(G482:G493)","v":29.283333333333335},{"$f":"SUM(D482:D487)","v":8.9},{"$f":"AL485/AL$1052","v":0.90949134027520806},{"$f":"AVERAGE(E482:E487)","v":40.199999999999996},{"$f":"AVERAGE(F482:F487)","v":29.716666666666669},{"$f":"AVERAGE(G482:G487)","v":19.216666666666669}]
["'459376'",1964,2,0.2,35.299999999999997,23,10.7,null,null,null,null,"1964-02-01"]
["'459376'",1964,3,0.38,46,33.299999999999997,20.6,null,null,null,null,"1964-03-01"]
["'459376'",1964,4,0.02,59.6,44.6,29.6,null,null,null,null,"1964-04-01"]
["'459376'",1964,5,0.19,68.5,52.2,35.9,null,null,null,null,"1964-05-01"]
["'459376'",1964,6,1.37,74.599999999999994,59.2,43.8,null,null,null,null,"1964-06-01"]
["'459376'",1964,7,0.69,84.8,66,47.1,null,null,null,null,"1964-07-01"]
["'459376'",1964,8,0.53,78.900000000000006,61.3,43.7,null,null,null,null,"1964-08-01"]
["'459376'",1964,9,0.42,73.099999999999994,54.6,36,null,null,null,null,"1964-09-01"]
["'459376'",1964,10,0.34,63.4,45.5,27.5,null,null,null,null,"1964-10-01"]
["'459376'",1964,11,2.09,39.9,31.2,22.5,null,null,null,null,"1964-11-01"]
["'459376'",1964,12,3.37,24.9,16.100000000000001,7.3,null,null,null,null,"1964-12-01"]
["'459376'",1965,1,2.92,29.5,21.9,14.3,null,null,null,null,"1965-01-01",{"$f":"SUM($D496:$D498)","v":6.8100000000000005},{"$f":"M497/M$1052","v":1.1780793706365711},{"$f":"AVERAGE($E496:$E498)","v":30.833333333333332},{"$f":"AVERAGE($F496:$F498)","v":21.266666666666666},{"$f":"AVERAGE($G496:$G498)","v":11.700000000000001},{"$f":"SUM($D499:$D501)","v":2.13},{"$f":"R497/R$1052","v":0.85554439822120232},{"$f":"AVERAGE($E499:$E501)","v":59.5},{"$f":"AVERAGE($F499:$F501)","v":44.466666666666669},{"$f":"AVERAGE($G499:$G501)","v":29.399999999999995},{"$f":"SUM($D502:$D504)","v":2.92},{"$f":"W497/W$1052","v":1.3165154849444465},{"$f":"AVERAGE($E502:$E504)","v":82.899999999999991},{"$f":"AVERAGE($F502:$F504)","v":65.466666666666669},{"$f":"AVERAGE($G502:$G504)","v":47.966666666666669},{"$f":"SUM($D505:$D507)","v":1.89},{"$f":"AB497/AB$1052","v":0.56764874141876442},{"$f":"AVERAGE($E505:$E507)","v":60.533333333333339},{"$f":"AVERAGE($F505:$F507)","v":45.333333333333336},{"$f":"AVERAGE($G505:$G507)","v":30.099999999999998},{"$f":"SUM(D494:D505)","v":14.469999999999999},{"$f":"AG497/AG$1052","v":1.0473490560347429},{"$f":"AVERAGE(E494:E505)","v":57.908333333333331},{"$f":"AVERAGE(F494:F505)","v":43.633333333333333},{"$f":"AVERAGE(G494:G505)","v":29.324999999999999},{"$f":"SUM(D494:D499)","v":9.3699999999999992},{"$f":"AL497/AL$1052","v":0.9575206582447976},{"$f":"AVERAGE(E494:E499)","v":40.599999999999994},{"$f":"AVERAGE(F494:F499)","v":29.000000000000004},{"$f":"AVERAGE(G494:G499)","v":17.383333333333333}]
["'459376'",1965,2,0.52,38.1,25.8,13.5,null,null,null,null,"1965-02-01"]
["'459376'",1965,3,0.13,47.8,33.5,19.2,null,null,null,null,"1965-03-01"]
["'459376'",1965,4,1.38,62.3,47.9,33.4,null,null,null,null,"1965-04-01"]
["'459376'",1965,5,0.62,68.400000000000006,52,35.6,null,null,null,null,"1965-05-01"]
["'459376'",1965,6,0.83,78.7,62,45.2,null,null,null,null,"1965-06-01"]
["'459376'",1965,7,0.54,87,67.8,48.5,null,null,null,null,"1965-07-01"]
["'459376'",1965,8,1.55,83,66.599999999999994,50.2,null,null,null,null,"1965-08-01"]
["'459376'",1965,9,0.18,71.900000000000006,53.3,34.700000000000003,null,null,null,null,"1965-09-01"]
["'459376'",1965,10,0.05,66.5,47.7,28.8,null,null,null,null,"1965-10-01"]
["'459376'",1965,11,1.66,43.2,35,26.8,null,null,null,null,"1965-11-01"]
["'459376'",1965,12,2.67,29.4,22.5,15.6,null,null,null,null,"1965-12-01"]
["'459376'",1966,1,1.46,24.1,15.9,7.6,null,null,null,null,"1966-01-01",{"$f":"SUM($D508:$D510)","v":4.8599999999999994},{"$f":"M509/M$1052","v":0.84074386803138534},{"$f":"AVERAGE($E508:$E510)","v":29.966666666666669},{"$f":"AVERAGE($F508:$F510)","v":22.133333333333336},{"$f":"AVERAGE($G508:$G510)","v":14.233333333333334},{"$f":"SUM($D511:$D513)","v":1.3},{"$f":"R509/R$1052","v":0.52216324774063994},{"$f":"AVERAGE($E511:$E513)","v":60.966666666666661},{"$f":"AVERAGE($F511:$F513)","v":45.066666666666663},{"$f":"AVERAGE($G511:$G513)","v":29.066666666666663},{"$f":"SUM($D514:$D516)","v":1.87},{"$f":"W509/W$1052","v":0.8431109441253819},{"$f":"AVERAGE($E514:$E516)","v":79.033333333333331},{"$f":"AVERAGE($F514:$F516)","v":62.166666666666664},{"$f":"AVERAGE($G514:$G516)","v":45.266666666666673},{"$f":"SUM($D517:$D519)","v":4.2300000000000004},{"$f":"AB509/AB$1052","v":1.2704519450800922},{"$f":"AVERAGE($E517:$E519)","v":61.5},{"$f":"AVERAGE($F517:$F519)","v":47.9},{"$f":"AVERAGE($G517:$G519)","v":34.233333333333327},{"$f":"SUM(D506:D517)","v":10.940000000000001},{"$f":"AG509/AG$1052","v":0.79184510525363438},{"$f":"AVERAGE(E506:E517)","v":58.341666666666669},{"$f":"AVERAGE(F506:F517)","v":44.425000000000004},{"$f":"AVERAGE(G506:G517)","v":30.441666666666666},{"$f":"SUM(D506:D511)","v":7.48},{"$f":"AL509/AL$1052","v":0.76438148598410749},{"$f":"AVERAGE(E506:E511)","v":41.166666666666664},{"$f":"AVERAGE(F506:F511)","v":30.500000000000004},{"$f":"AVERAGE(G506:G511)","v":19.766666666666666}]
["'459376'",1966,2,0.73,36.4,28,19.5,null,null,null,null,"1966-02-01"]
["'459376'",1966,3,0.91,47.4,33.9,20.3,null,null,null,null,"1966-03-01"]
["'459376'",1966,4,0.02,62.2,45.4,28.5,null,null,null,null,"1966-04-01"]
["'459376'",1966,5,0.37,73.3,55.9,38.4,null,null,null,null,"1966-05-01"]
["'459376'",1966,6,0.76,74,58.1,42.1,null,null,null,null,"1966-06-01"]
["'459376'",1966,7,0.98,79.099999999999994,62.6,46.1,null,null,null,null,"1966-07-01"]
["'459376'",1966,8,0.13,84,65.8,47.6,null,null,null,null,"1966-08-01"]
["'459376'",1966,9,1.2,80.5,62.3,44,null,null,null,null,"1966-09-01"]
["'459376'",1966,10,0.4,59.7,45.2,30.6,null,null,null,null,"1966-10-01"]
["'459376'",1966,11,2.63,44.3,36.200000000000003,28.1,null,null,null,null,"1966-11-01"]
["'459376'",1966,12,2.13,34.200000000000003,28.7,23.1,null,null,null,null,"1966-12-01"]
["'459376'",1967,1,1.98,33.9,26.1,18.2,null,null,null,null,"1967-01-01",{"$f":"SUM($D520:$D522)","v":4.6399999999999997},{"$f":"M521/M$1052","v":0.80268550363490299},{"$f":"AVERAGE($E520:$E522)","v":37.866666666666667},{"$f":"AVERAGE($F520:$F522)","v":29.466666666666669},{"$f":"AVERAGE($G520:$G522)","v":21},{"$f":"SUM($D523:$D525)","v":3.06},{"$f":"R521/R$1052","v":1.2290919523741217},{"$f":"AVERAGE($E523:$E525)","v":58},{"$f":"AVERAGE($F523:$F525)","v":44.533333333333331},{"$f":"AVERAGE($G523:$G525)","v":31.033333333333331},{"$f":"SUM($D526:$D528)","v":2.0099999999999998},{"$f":"W521/W$1052","v":0.90623154956792373},{"$f":"AVERAGE($E526:$E528)","v":86.399999999999991},{"$f":"AVERAGE($F526:$F528)","v":66.533333333333331},{"$f":"AVERAGE($G526:$G528)","v":46.666666666666664},{"$f":"SUM($D529:$D531)","v":2.78},{"$f":"AB521/AB$1052","v":0.83495423340961117},{"$f":"AVERAGE($E529:$E531)","v":62.43333333333333},{"$f":"AVERAGE($F529:$F531)","v":47.766666666666673},{"$f":"AVERAGE($G529:$G531)","v":33.06666666666667},{"$f":"SUM(D518:D529)","v":12.84},{"$f":"AG521/AG$1052","v":0.92936847819530755},{"$f":"AVERAGE(E518:E529)","v":61.216666666666661},{"$f":"AVERAGE(F518:F529)","v":47.166666666666664},{"$f":"AVERAGE(G518:G529)","v":33.083333333333336},{"$f":"SUM(D518:D523)","v":8.2800000000000011},{"$f":"AL521/AL$1052","v":0.84613351657064306},{"$f":"AVERAGE(E518:E523)","v":44.4},{"$f":"AVERAGE(F518:F523)","v":34.550000000000004},{"$f":"AVERAGE(G518:G523)","v":24.650000000000002}]
["'459376'",1967,2,0.53,45.5,33.6,21.7,null,null,null,null,"1967-02-01"]
["'459376'",1967,3,0.61,48.8,37.5,26.2,null,null,null,null,"1967-03-01"]
["'459376'",1967,4,1.45,55.5,42.6,29.6,null,null,null,null,"1967-04-01"]
["'459376'",1967,5,1,69.7,53.5,37.299999999999997,null,null,null,null,"1967-05-01"]
["'459376'",1967,6,2,79.7,63.1,46.5,null,null,null,null,"1967-06-01"]
["'459376'",1967,7,0.01,86.8,67.099999999999994,47.4,null,null,null,null,"1967-07-01"]
["'459376'",1967,8,0,92.7,69.400000000000006,46.1,null,null,null,null,"1967-08-01"]
["'459376'",1967,9,0.1,83.8,63,42.2,null,null,null,null,"1967-09-01"]
["'459376'",1967,10,2.38,58.4,46,33.6,null,null,null,null,"1967-10-01"]
["'459376'",1967,11,0.3,45.1,34.299999999999997,23.4,null,null,null,null,"1967-11-01"]
["'459376'",1967,12,2.21,30.7,21.2,11.6,null,null,null,null,"1967-12-01"]
["'459376'",1968,1,3.83,30,22.4,14.8,null,null,null,null,"1968-01-01",{"$f":"SUM($D532:$D534)","v":7.22},{"$f":"M533/M$1052","v":1.2490063224663792},{"$f":"AVERAGE($E532:$E534)","v":33.5},{"$f":"AVERAGE($F532:$F534)","v":24.233333333333331},{"$f":"AVERAGE($G532:$G534)","v":14.9},{"$f":"SUM($D535:$D537)","v":1.6},{"$f":"R533/R$1052","v":0.64266245875771066},{"$f":"AVERAGE($E535:$E537)","v":60.066666666666663},{"$f":"AVERAGE($F535:$F537)","v":45.033333333333339},{"$f":"AVERAGE($G535:$G537)","v":29.966666666666669},{"$f":"SUM($D538:$D540)","v":1.1800000000000002},{"$f":"W533/W$1052","v":0.53201653158713946},{"$f":"AVERAGE($E538:$E540)","v":81.233333333333334},{"$f":"AVERAGE($F538:$F540)","v":63.20000000000001},{"$f":"AVERAGE($G538:$G540)","v":45.133333333333333},{"$f":"SUM($D541:$D543)","v":2.6100000000000003},{"$f":"AB533/AB$1052","v":0.78389588100686536},{"$f":"AVERAGE($E541:$E543)","v":57.5},{"$f":"AVERAGE($F541:$F543)","v":44.266666666666673},{"$f":"AVERAGE($G541:$G543)","v":31.033333333333331},{"$f":"SUM(D530:D541)","v":12.799999999999999},{"$f":"AG533/AG$1052","v":0.92647324929127217},{"$f":"AVERAGE(E530:E541)","v":58.633333333333347},{"$f":"AVERAGE(F530:F541)","v":44.583333333333336},{"$f":"AVERAGE(G530:G541)","v":30.491666666666664},{"$f":"SUM(D530:D535)","v":10.379999999999999},{"$f":"AL533/AL$1052","v":1.0607325968602987},{"$f":"AVERAGE(E530:E535)","v":42.6},{"$f":"AVERAGE(F530:F535)","v":32},{"$f":"AVERAGE(G530:G535)","v":21.333333333333332}]
["'459376'",1968,2,1.18,39.799999999999997,29.1,18.3,null,null,null,null,"1968-02-01"]
["'459376'",1968,3,0.48,51.6,39,26.3,null,null,null,null,"1968-03-01"]
["'459376'",1968,4,0.16,59,43.4,27.8,null,null,null,null,"1968-04-01"]
["'459376'",1968,5,0.96,69.599999999999994,52.7,35.799999999999997,null,null,null,null,"1968-05-01"]
["'459376'",1968,6,0.05,76.400000000000006,59.1,41.8,null,null,null,null,"1968-06-01"]
["'459376'",1968,7,0.04,88.1,68.3,48.5,null,null,null,null,"1968-07-01"]
["'459376'",1968,8,1.0900000000000001,79.2,62.2,45.1,null,null,null,null,"1968-08-01"]
["'459376'",1968,9,0.12,75.7,57.3,38.9,null,null,null,null,"1968-09-01"]
["'459376'",1968,10,0.39,57.4,43.1,28.8,null,null,null,null,"1968-10-01"]
["'459376'",1968,11,2.1,39.4,32.4,25.4,null,null,null,null,"1968-11-01"]
["'459376'",1968,12,7.01,26.1,18.5,10.8,null,null,null,null,"1968-12-01"]
["'459376'",1969,1,3.03,13.1,4.0999999999999996,-5,null,null,null,null,"1969-01-01",{"$f":"SUM($D544:$D546)","v":11.879999999999999},{"$f":"M545/M$1052","v":2.0551516774100533},{"$f":"AVERAGE($E544:$E546)","v":23.733333333333334},{"$f":"AVERAGE($F544:$F546)","v":14.766666666666666},{"$f":"AVERAGE($G544:$G546)","v":5.7333333333333343},{"$f":"SUM($D547:$D549)","v":1.8900000000000001},{"$f":"R545/R$1052","v":0.7591450294075458},{"$f":"AVERAGE($E547:$E549)","v":60.366666666666667},{"$f":"AVERAGE($F547:$F549)","v":45.333333333333336},{"$f":"AVERAGE($G547:$G549)","v":30.266666666666666},{"$f":"SUM($D550:$D552)","v":1.36},{"$f":"W545/W$1052","v":0.61317159572755053},{"$f":"AVERAGE($E550:$E552)","v":83.63333333333334},{"$f":"AVERAGE($F550:$F552)","v":65.2},{"$f":"AVERAGE($G550:$G552)","v":46.666666666666664},{"$f":"SUM($D553:$D555)","v":1.17},{"$f":"AB545/AB$1052","v":0.35140160183066371},{"$f":"AVERAGE($E553:$E555)","v":59.466666666666661},{"$f":"AVERAGE($F553:$F555)","v":44.733333333333327},{"$f":"AVERAGE($G553:$G555)","v":29.966666666666665},{"$f":"SUM(D542:D553)","v":18.02},{"$f":"AG545/AG$1052","v":1.3043006212678692},{"$f":"AVERAGE(E542:E553)","v":56.291666666666664},{"$f":"AVERAGE(F542:F553)","v":42.4},{"$f":"AVERAGE(G542:G553)","v":28.458333333333332},{"$f":"SUM(D542:D547)","v":14.479999999999999},{"$f":"AL545/AL$1052","v":1.4797117536162934},{"$f":"AVERAGE(E542:E547)","v":35.75},{"$f":"AVERAGE(F542:F547)","v":25.5},{"$f":"AVERAGE(G542:G547)","v":15.216666666666669}]
["'459376'",1969,2,1.84,32,21.7,11.4,null,null,null,null,"1969-02-01"]
["'459376'",1969,3,0.11,46.5,33.200000000000003,19.899999999999999,null,null,null,null,"1969-03-01"]
["'459376'",1969,4,1.46,59.3,45.5,31.7,null,null,null,null,"1969-04-01"]
["'459376'",1969,5,0.32,75.3,57.3,39.200000000000003,null,null,null,null,"1969-05-01"]
["'459376'",1969,6,0.89,83.5,66.5,49.4,null,null,null,null,"1969-06-01"]
["'459376'",1969,7,0.19,83.8,65.3,46.7,null,null,null,null,"1969-07-01"]
["'459376'",1969,8,0.28000000000000003,83.6,63.8,43.9,null,null,null,null,"1969-08-01"]
["'459376'",1969,9,0.4,75.5,57.4,39.299999999999997,null,null,null,null,"1969-09-01"]
["'459376'",1969,10,0.53,59.7,44,28.3,null,null,null,null,"1969-10-01"]
["'459376'",1969,11,0.24,43.2,32.799999999999997,22.3,null,null,null,null,"1969-11-01"]
["'459376'",1969,12,2.7,29.7,24.1,18.399999999999999,null,null,null,null,"1969-12-01"]
["'459376'",1970,1,3.03,24.2,16.899999999999999,9.5,null,null,null,null,"1970-01-01",{"$f":"SUM($D556:$D558)","v":6.0200000000000005},{"$f":"M557/M$1052","v":1.0414152439401112},{"$f":"AVERAGE($E556:$E558)","v":31.133333333333336},{"$f":"AVERAGE($F556:$F558)","v":23.233333333333334},{"$f":"AVERAGE($G556:$G558)","v":15.266666666666666},{"$f":"SUM($D559:$D561)","v":1.65},{"$f":"R557/R$1052","v":0.66274566059388906},{"$f":"AVERAGE($E559:$E561)","v":58.79999999999999},{"$f":"AVERAGE($F559:$F561)","v":44.20000000000001},{"$f":"AVERAGE($G559:$G561)","v":29.533333333333331},{"$f":"SUM($D562:$D564)","v":0.71000000000000008},{"$f":"W557/W$1052","v":0.32011164188717711},{"$f":"AVERAGE($E562:$E564)","v":86.366666666666674},{"$f":"AVERAGE($F562:$F564)","v":67.333333333333329},{"$f":"AVERAGE($G562:$G564)","v":48.199999999999996},{"$f":"SUM($D565:$D567)","v":3.51},{"$f":"AB557/AB$1052","v":1.054204805491991},{"$f":"AVERAGE($E565:$E567)","v":56.800000000000004},{"$f":"AVERAGE($F565:$F567)","v":42.566666666666663},{"$f":"AVERAGE($G565:$G567)","v":28.233333333333334},{"$f":"SUM(D554:D565)","v":9.4699999999999989},{"$f":"AG557/AG$1052","v":0.68544544303033961},{"$f":"AVERAGE(E554:E565)","v":58.574999999999996},{"$f":"AVERAGE(F554:F565)","v":44.583333333333336},{"$f":"AVERAGE(G554:G565)","v":30.516666666666666},{"$f":"SUM(D554:D559)","v":7.4},{"$f":"AL557/AL$1052","v":0.75620628292545389},{"$f":"AVERAGE(E554:E559)","v":40.783333333333331},{"$f":"AVERAGE(F554:F559)","v":30.366666666666664},{"$f":"AVERAGE(G554:G559)","v":19.900000000000002}]
["'459376'",1970,2,0.28999999999999998,39.5,28.7,17.899999999999999,null,null,null,null,"1970-02-01"]
["'459376'",1970,3,0.61,48.4,35.700000000000003,23,null,null,null,null,"1970-03-01"]
["'459376'",1970,4,0.68,56.4,42.7,28.9,null,null,null,null,"1970-04-01"]
["'459376'",1970,5,0.36,71.599999999999994,54.2,36.700000000000003,null,null,null,null,"1970-05-01"]
["'459376'",1970,6,0.17,83.2,65.5,47.7,null,null,null,null,"1970-06-01"]
["'459376'",1970,7,0,88.3,69.900000000000006,51.4,null,null,null,null,"1970-07-01"]
["'459376'",1970,8,0.54,87.6,66.599999999999994,45.5,null,null,null,null,"1970-08-01"]
["'459376'",1970,9,0.32,71.099999999999994,53.9,36.6,null,null,null,null,"1970-09-01"]
["'459376'",1970,10,0.5,60.4,43.8,27.1,null,null,null,null,"1970-10-01"]
["'459376'",1970,11,2.69,38.9,30,21,null,null,null,null,"1970-11-01"]
["'459376'",1970,12,4.57,25.4,17.600000000000001,9.6999999999999993,null,null,null,null,"1970-12-01"]
["'459376'",1971,1,3.33,28.2,20.399999999999999,12.6,null,null,null,null,"1971-01-01",{"$f":"SUM($D568:$D570)","v":8.370000000000001},{"$f":"M569/M$1052","v":1.4479477727207195},{"$f":"AVERAGE($E568:$E570)","v":30.2},{"$f":"AVERAGE($F568:$F570)","v":21.366666666666664},{"$f":"AVERAGE($G568:$G570)","v":12.466666666666667},{"$f":"SUM($D571:$D573)","v":1.7400000000000002},{"$f":"R569/R$1052","v":0.69889542389901038},{"$f":"AVERAGE($E571:$E573)","v":57.633333333333326},{"$f":"AVERAGE($F571:$F573)","v":43.6},{"$f":"AVERAGE($G571:$G573)","v":29.533333333333331},{"$f":"SUM($D574:$D576)","v":2.6399999999999997},{"$f":"W569/W$1052","v":1.1902742740593626},{"$f":"AVERAGE($E574:$E576)","v":84.066666666666663},{"$f":"AVERAGE($F574:$F576)","v":65.033333333333331},{"$f":"AVERAGE($G574:$G576)","v":45.933333333333337},{"$f":"SUM($D577:$D579)","v":3.72},{"$f":"AB569/AB$1052","v":1.117276887871854},{"$f":"AVERAGE($E577:$E579)","v":54.866666666666667},{"$f":"AVERAGE($F577:$F579)","v":42.300000000000004},{"$f":"AVERAGE($G577:$G579)","v":29.633333333333329},{"$f":"SUM(D566:D577)","v":17.200000000000003},{"$f":"AG569/AG$1052","v":1.2449484287351473},{"$f":"AVERAGE(E566:E577)","v":57.008333333333333},{"$f":"AVERAGE(F566:F577)","v":42.975000000000001},{"$f":"AVERAGE(G566:G577)","v":28.875},{"$f":"SUM(D566:D571)","v":12.63},{"$f":"AL569/AL$1052","v":1.29066018288493},{"$f":"AVERAGE(E566:E571)","v":38.633333333333333},{"$f":"AVERAGE(F566:F571)","v":28},{"$f":"AVERAGE(G566:G571)","v":17.299999999999997}]
["'459376'",1971,2,0.47,37,26.1,15.1,null,null,null,null,"1971-02-01"]
["'459376'",1971,3,1.07,41.9,30.1,18.3,null,null,null,null,"1971-03-01"]
["'459376'",1971,4,0.32,57.7,43.7,29.7,null,null,null,null,"1971-04-01"]
["'459376'",1971,5,0.35,73.3,57,40.6,null,null,null,null,"1971-05-01"]
["'459376'",1971,6,1.24,72.3,57.3,42.3,null,null,null,null,"1971-06-01"]
["'459376'",1971,7,0.15,88.6,68.099999999999994,47.5,null,null,null,null,"1971-07-01"]
["'459376'",1971,8,1.25,91.3,69.7,48,null,null,null,null,"1971-08-01"]
["'459376'",1971,9,1.26,69.099999999999994,51.9,34.6,null,null,null,null,"1971-09-01"]
["'459376'",1971,10,0.59,57.2,43.4,29.5,null,null,null,null,"1971-10-01"]
["'459376'",1971,11,1.87,38.299999999999997,31.6,24.8,null,null,null,null,"1971-11-01"]
["'459376'",1971,12,4.79,22.8,13.9,4.9000000000000004,null,null,null,null,"1971-12-01"]
["'459376'",1972,1,2.54,24.4,14.8,5.2,null,null,null,null,"1972-01-01",{"$f":"SUM($D580:$D582)","v":9.5399999999999991},{"$f":"M581/M$1052","v":1.6503490742838305},{"$f":"AVERAGE($E580:$E582)","v":26.966666666666669},{"$f":"AVERAGE($F580:$F582)","v":17.366666666666667},{"$f":"AVERAGE($G580:$G582)","v":7.7333333333333343},{"$f":"SUM($D583:$D585)","v":5.7200000000000006},{"$f":"R581/R$1052","v":2.2975182900588158},{"$f":"AVERAGE($E583:$E585)","v":58},{"$f":"AVERAGE($F583:$F585)","v":44.433333333333337},{"$f":"AVERAGE($G583:$G585)","v":30.766666666666669},{"$f":"SUM($D586:$D588)","v":3.08},{"$f":"W581/W$1052","v":1.3886533197359232},{"$f":"AVERAGE($E586:$E588)","v":81.2},{"$f":"AVERAGE($F586:$F588)","v":63.433333333333337},{"$f":"AVERAGE($G586:$G588)","v":45.666666666666664},{"$f":"SUM($D589:$D591)","v":2.14},{"$f":"AB581/AB$1052","v":0.64273455377574396},{"$f":"AVERAGE($E589:$E591)","v":57.433333333333337},{"$f":"AVERAGE($F589:$F591)","v":43.666666666666664},{"$f":"AVERAGE($G589:$G591)","v":29.866666666666664},{"$f":"SUM(D578:D589)","v":21.200000000000003},{"$f":"AG581/AG$1052","v":1.5344713191386699},{"$f":"AVERAGE(E578:E589)","v":55.166666666666664},{"$f":"AVERAGE(F578:F589)","v":41.841666666666661},{"$f":"AVERAGE(G578:G589)","v":28.458333333333332},{"$f":"SUM(D578:D583)","v":14.72},{"$f":"AL581/AL$1052","v":1.5042373627922543},{"$f":"AVERAGE(E578:E583)","v":37.316666666666663},{"$f":"AVERAGE(F578:F583)","v":27.133333333333336},{"$f":"AVERAGE(G578:G583)","v":16.883333333333329}]
["'459376'",1972,2,2.21,33.700000000000003,23.4,13.1,null,null,null,null,"1972-02-01"]
["'459376'",1972,3,2.72,47.5,35.700000000000003,23.8,null,null,null,null,"1972-03-01"]
["'459376'",1972,4,0.79,55,41.7,28.3,null,null,null,null,"1972-04-01"]
["'459376'",1972,5,2.21,71.5,55.9,40.200000000000003,null,null,null,null,"1972-05-01"]
["'459376'",1972,6,1.23,76.099999999999994,60.5,44.9,null,null,null,null,"1972-06-01"]
["'459376'",1972,7,0.18,82.1,63.4,44.7,null,null,null,null,"1972-07-01"]
["'459376'",1972,8,1.67,85.4,66.400000000000006,47.4,null,null,null,null,"1972-08-01"]
["'459376'",1972,9,0.4,68,51.4,34.700000000000003,null,null,null,null,"1972-09-01"]
["'459376'",1972,10,0.16,63.8,44.9,26,null,null,null,null,"1972-10-01"]
["'459376'",1972,11,1.58,40.5,34.700000000000003,28.9,null,null,null,null,"1972-11-01"]
["'459376'",1972,12,4.8099999999999996,25.6,18.600000000000001,11.6,null,null,null,null,"1972-12-01"]
["'459376'",1973,1,1.28,27.3,17.5,7.7,null,null,null,null,"1973-01-01",{"$f":"SUM($D592:$D594)","v":6.6899999999999995},{"$f":"M593/M$1052","v":1.1573202627839441},{"$f":"AVERAGE($E592:$E594)","v":30.733333333333334},{"$f":"AVERAGE($F592:$F594)","v":21.533333333333331},{"$f":"AVERAGE($G592:$G594)","v":12.300000000000002},{"$f":"SUM($D595:$D597)","v":0.5},{"$f":"R593/R$1052","v":0.20083201836178458},{"$f":"AVERAGE($E595:$E597)","v":62.966666666666669},{"$f":"AVERAGE($F595:$F597)","v":47.166666666666664},{"$f":"AVERAGE($G595:$G597)","v":31.3},{"$f":"SUM($D598:$D600)","v":0.38},{"$f":"W593/W$1052","v":0.17132735762975676},{"$f":"AVERAGE($E598:$E600)","v":84.2},{"$f":"AVERAGE($F598:$F600)","v":65.433333333333323},{"$f":"AVERAGE($G598:$G600)","v":46.633333333333333},{"$f":"SUM($D601:$D603)","v":5.4},{"$f":"AB593/AB$1052","v":1.6218535469107558},{"$f":"AVERAGE($E601:$E603)","v":56.5},{"$f":"AVERAGE($F601:$F603)","v":44},{"$f":"AVERAGE($G601:$G603)","v":31.433333333333334},{"$f":"SUM(D590:D601)","v":11.22},{"$f":"AG593/AG$1052","v":0.81211170758188089},{"$f":"AVERAGE(E590:E601)","v":59.5},{"$f":"AVERAGE(F590:F601)","v":45.083333333333336},{"$f":"AVERAGE(G590:G601)","v":30.633333333333336},{"$f":"SUM(D590:D595)","v":8.7899999999999991},{"$f":"AL593/AL$1052","v":0.89825043606955934},{"$f":"AVERAGE(E590:E595)","v":41.449999999999996},{"$f":"AVERAGE(F590:F595)","v":30.616666666666664},{"$f":"AVERAGE(G590:G595)","v":19.766666666666669}]
["'459376'",1973,2,0.6,39.299999999999997,28.5,17.600000000000001,null,null,null,null,"1973-02-01"]
["'459376'",1973,3,0.36,52.2,39.5,26.8,null,null,null,null,"1973-03-01"]
["'459376'",1973,4,0,63.8,46.9,29.9,null,null,null,null,"1973-04-01"]
["'459376'",1973,5,0.14000000000000001,72.900000000000006,55.1,37.200000000000003,null,null,null,null,"1973-05-01"]
["'459376'",1973,6,0.3,77.5,60.6,43.6,null,null,null,null,"1973-06-01"]
["'459376'",1973,7,0.08,88.5,68.599999999999994,48.7,null,null,null,null,"1973-07-01"]
["'459376'",1973,8,0,86.6,67.099999999999994,47.6,null,null,null,null,"1973-08-01"]
["'459376'",1973,9,1.91,76,59,42,null,null,null,null,"1973-09-01"]
["'459376'",1973,10,1.1100000000000001,58,45.1,32.1,null,null,null,null,"1973-10-01"]
["'459376'",1973,11,2.38,35.5,27.9,20.2,null,null,null,null,"1973-11-01"]
["'459376'",1973,12,5.34,32.299999999999997,25.9,19.399999999999999,null,null,null,null,"1973-12-01"]
["'459376'",1974,1,3.82,25.4,15.9,6.3,null,null,null,null,"1974-01-01",{"$f":"SUM($D604:$D606)","v":10.89},{"$f":"M605/M$1052","v":1.8838890376258823},{"$f":"AVERAGE($E604:$E606)","v":32.333333333333336},{"$f":"AVERAGE($F604:$F606)","v":23.766666666666666},{"$f":"AVERAGE($G604:$G606)","v":15.133333333333333},{"$f":"SUM($D607:$D609)","v":1.9899999999999998},{"$f":"R605/R$1052","v":0.79931143307990249},{"$f":"AVERAGE($E607:$E609)","v":57.066666666666663},{"$f":"AVERAGE($F607:$F609)","v":43.966666666666669},{"$f":"AVERAGE($G607:$G609)","v":30.833333333333332},{"$f":"SUM($D610:$D612)","v":1.05},{"$f":"W605/W$1052","v":0.47340454081906475},{"$f":"AVERAGE($E610:$E612)","v":83.5},{"$f":"AVERAGE($F610:$F612)","v":64.900000000000006},{"$f":"AVERAGE($G610:$G612)","v":46.233333333333327},{"$f":"SUM($D613:$D615)","v":2.2800000000000002},{"$f":"AB605/AB$1052","v":0.68478260869565244},{"$f":"AVERAGE($E613:$E615)","v":62.466666666666669},{"$f":"AVERAGE($F613:$F615)","v":46.933333333333337},{"$f":"AVERAGE($G613:$G615)","v":31.400000000000002},{"$f":"SUM(D602:D613)","v":17.419999999999998},{"$f":"AG605/AG$1052","v":1.2608721877073408},{"$f":"AVERAGE(E602:E613)","v":57.733333333333341},{"$f":"AVERAGE(F602:F613)","v":44.183333333333337},{"$f":"AVERAGE(G602:G613)","v":30.574999999999999},{"$f":"SUM(D602:D607)","v":15.38},{"$f":"AL605/AL$1052","v":1.5716827880261461},{"$f":"AVERAGE(E602:E607)","v":39.449999999999996},{"$f":"AVERAGE(F602:F607)","v":29.983333333333334},{"$f":"AVERAGE(G602:G607)","v":20.433333333333334}]
["'459376'",1974,2,1.73,39.299999999999997,29.5,19.7,null,null,null,null,"1974-02-01"]
["'459376'",1974,3,1,46.2,35.6,24.9,null,null,null,null,"1974-03-01"]
["'459376'",1974,4,0.59,59.3,45.7,32.1,null,null,null,null,"1974-04-01"]
["'459376'",1974,5,0.4,65.7,50.6,35.5,null,null,null,null,"1974-05-01"]
["'459376'",1974,6,0.13,82.5,63.1,43.7,null,null,null,null,"1974-06-01"]
["'459376'",1974,7,0.88,81.5,64.7,47.8,null,null,null,null,"1974-07-01"]
["'459376'",1974,8,0.04,86.5,66.900000000000006,47.2,null,null,null,null,"1974-08-01"]
["'459376'",1974,9,0,80.599999999999994,59.3,38,null,null,null,null,"1974-09-01"]
["'459376'",1974,10,0.06,65.2,47.2,29.2,null,null,null,null,"1974-10-01"]
["'459376'",1974,11,2.2200000000000002,41.6,34.299999999999997,27,null,null,null,null,"1974-11-01"]
["'459376'",1974,12,3,31.6,25.2,18.8,null,null,null,null,"1974-12-01"]
["'459376'",1975,1,3.12,26.1,17.2,8.3000000000000007,null,null,null,null,"1975-01-01",{"$f":"SUM($D616:$D618)","v":7.8},{"$f":"M617/M$1052","v":1.3493420104207421},{"$f":"AVERAGE($E616:$E618)","v":30.066666666666666},{"$f":"AVERAGE($F616:$F618)","v":21.400000000000002},{"$f":"AVERAGE($G616:$G618)","v":12.700000000000001},{"$f":"SUM($D619:$D621)","v":2.73},{"$f":"R617/R$1052","v":1.0965428202553438},{"$f":"AVERAGE($E619:$E621)","v":57.29999999999999},{"$f":"AVERAGE($F619:$F621)","v":43.4},{"$f":"AVERAGE($G619:$G621)","v":29.466666666666669},{"$f":"SUM($D622:$D624)","v":3.23},{"$f":"W617/W$1052","v":1.4562825398529324},{"$f":"AVERAGE($E622:$E624)","v":80.899999999999991},{"$f":"AVERAGE($F622:$F624)","v":64.63333333333334},{"$f":"AVERAGE($G622:$G624)","v":48.29999999999999},{"$f":"SUM($D625:$D627)","v":2.5100000000000002},{"$f":"AB617/AB$1052","v":0.75386155606407357},{"$f":"AVERAGE($E625:$E627)","v":58.099999999999994},{"$f":"AVERAGE($F625:$F627)","v":44.866666666666674},{"$f":"AVERAGE($G625:$G627)","v":31.600000000000005},{"$f":"SUM(D614:D625)","v":16.080000000000002},{"$f":"AG617/AG$1052","v":1.1638820194221609},{"$f":"AVERAGE(E614:E625)","v":57.533333333333331},{"$f":"AVERAGE(F614:F625)","v":44.033333333333331},{"$f":"AVERAGE(G614:G625)","v":30.499999999999996},{"$f":"SUM(D614:D619)","v":10.4},{"$f":"AL617/AL$1052","v":1.0627763976249622},{"$f":"AVERAGE(E614:E619)","v":40.216666666666669},{"$f":"AVERAGE(F614:F619)","v":29.766666666666669},{"$f":"AVERAGE(G614:G619)","v":19.3}]
["'459376'",1975,2,1.68,32.5,21.8,11,null,null,null,null,"1975-02-01"]
["'459376'",1975,3,0.32,44.3,32.9,21.5,null,null,null,null,"1975-03-01"]
["'459376'",1975,4,2.16,57.9,43.6,29.3,null,null,null,null,"1975-04-01"]
["'459376'",1975,5,0.25,69.7,53.7,37.6,null,null,null,null,"1975-05-01"]
["'459376'",1975,6,0.5,75.599999999999994,59.7,43.7,null,null,null,null,"1975-06-01"]
["'459376'",1975,7,1.8,88.4,70.7,52.9,null,null,null,null,"1975-07-01"]
["'459376'",1975,8,0.93,78.7,63.5,48.3,null,null,null,null,"1975-08-01"]
["'459376'",1975,9,0.04,78.8,58.6,38.4,null,null,null,null,"1975-09-01"]
["'459376'",1975,10,1.1100000000000001,56.4,45.2,34,null,null,null,null,"1975-10-01"]
["'459376'",1975,11,1.36,39.1,30.8,22.4,null,null,null,null,"1975-11-01"]
["'459376'",1975,12,2.44,32.200000000000003,24.7,17.2,null,null,null,null,"1975-12-01"]
["'459376'",1976,1,2.08,29.5,21.2,12.9,null,null,null,null,"1976-01-01",{"$f":"SUM($D628:$D630)","v":5.3599999999999994},{"$f":"M629/M$1052","v":0.92724015075066368},{"$f":"AVERAGE($E628:$E630)","v":32.9},{"$f":"AVERAGE($F628:$F630)","v":24.166666666666668},{"$f":"AVERAGE($G628:$G630)","v":15.433333333333332},{"$f":"SUM($D631:$D633)","v":0.89000000000000012},{"$f":"R629/R$1052","v":0.3574809926839766},{"$f":"AVERAGE($E631:$E633)","v":58.699999999999996},{"$f":"AVERAGE($F631:$F633)","v":44.366666666666674},{"$f":"AVERAGE($G631:$G633)","v":29.966666666666669},{"$f":"SUM($D634:$D636)","v":3.8600000000000003},{"$f":"W629/W$1052","v":1.7403252643443714},{"$f":"AVERAGE($E634:$E636)","v":78.86666666666666},{"$f":"AVERAGE($F634:$F636)","v":62.533333333333339},{"$f":"AVERAGE($G634:$G636)","v":46.133333333333333},{"$f":"SUM($D637:$D639)","v":0.5},{"$f":"AB629/AB$1052","v":0.15017162471395887},{"$f":"AVERAGE($E637:$E639)","v":61.966666666666669},{"$f":"AVERAGE($F637:$F639)","v":46.6},{"$f":"AVERAGE($G637:$G639)","v":31.233333333333331},{"$f":"SUM(D626:D637)","v":12.579999999999998},{"$f":"AG629/AG$1052","v":0.91054949031907839},{"$f":"AVERAGE(E626:E637)","v":57.199999999999996},{"$f":"AVERAGE(F626:F637)","v":44.116666666666667},{"$f":"AVERAGE(G626:G637)","v":30.991666666666664},{"$f":"SUM(D626:D631)","v":7.84},{"$f":"AL629/AL$1052","v":0.80116989974804842},{"$f":"AVERAGE(E626:E631)","v":39.916666666666664},{"$f":"AVERAGE(F626:F631)","v":30.25},{"$f":"AVERAGE(G626:G631)","v":20.55}]
["'459376'",1976,2,0.84,37,26.6,16.2,null,null,null,null,"1976-02-01"]
["'459376'",1976,3,0.01,45.3,33,20.6,null,null,null,null,"1976-03-01"]
["'459376'",1976,4,0.34,60.4,45.9,31.4,null,null,null,null,"1976-04-01"]
["'459376'",1976,5,0.54,70.400000000000006,54.2,37.9,null,null,null,null,"1976-05-01"]
["'459376'",1976,6,0.33,74.099999999999994,57.4,40.700000000000003,null,null,null,null,"1976-06-01"]
["'459376'",1976,7,0.18,83.9,66.400000000000006,48.8,null,null,null,null,"1976-07-01"]
["'459376'",1976,8,3.35,78.599999999999994,63.8,48.9,null,null,null,null,"1976-08-01"]
["'459376'",1976,9,0,79.5,60.2,40.9,null,null,null,null,"1976-09-01"]
["'459376'",1976,10,0.31,62.3,46.5,30.7,null,null,null,null,"1976-10-01"]
["'459376'",1976,11,0.19,44.1,33.1,22.1,null,null,null,null,"1976-11-01"]
["'459376'",1976,12,0.21,32,24.2,16.3,null,null,null,null,"1976-12-01"]
["'459376'",1977,1,0.09,26.2,16.899999999999999,7.5,null,null,null,null,"1977-01-01",{"$f":"SUM($D640:$D642)","v":1.25},{"$f":"M641/M$1052","v":0.21624070679819585},{"$f":"AVERAGE($E640:$E642)","v":34.133333333333333},{"$f":"AVERAGE($F640:$F642)","v":24.399999999999995},{"$f":"AVERAGE($G640:$G642)","v":14.566666666666668},{"$f":"SUM($D643:$D645)","v":1.96},{"$f":"R641/R$1052","v":0.78726151197819549},{"$f":"AVERAGE($E643:$E645)","v":61.4},{"$f":"AVERAGE($F643:$F645)","v":46.266666666666673},{"$f":"AVERAGE($G643:$G645)","v":31.066666666666666},{"$f":"SUM($D646:$D648)","v":1.93},{"$f":"W641/W$1052","v":0.87016263217218559},{"$f":"AVERAGE($E646:$E648)","v":85.466666666666654},{"$f":"AVERAGE($F646:$F648)","v":67.100000000000009},{"$f":"AVERAGE($G646:$G648)","v":48.699999999999996},{"$f":"SUM($D649:$D651)","v":4.43},{"$f":"AB641/AB$1052","v":1.3305205949656753},{"$f":"AVERAGE($E649:$E651)","v":56.199999999999996},{"$f":"AVERAGE($F649:$F651)","v":42.699999999999996},{"$f":"AVERAGE($G649:$G651)","v":29.133333333333336},{"$f":"SUM(D638:D649)","v":6.47},{"$f":"AG641/AG$1052","v":0.46830327522769777},{"$f":"AVERAGE(E638:E649)","v":59.966666666666669},{"$f":"AVERAGE(F638:F649)","v":45.608333333333327},{"$f":"AVERAGE(G638:G649)","v":31.191666666666666},{"$f":"SUM(D638:D643)","v":2.19},{"$f":"AL641/AL$1052","v":0.22379618373064106},{"$f":"AVERAGE(E638:E643)","v":43.266666666666673},{"$f":"AVERAGE(F638:F643)","v":31.816666666666663},{"$f":"AVERAGE(G638:G643)","v":20.3}]
["'459376'",1977,2,0.95,44.2,32.1,19.899999999999999,null,null,null,null,"1977-02-01"]
["'459376'",1977,3,0.44,50.8,38.1,25.3,null,null,null,null,"1977-03-01"]
["'459376'",1977,4,0.28000000000000003,67.2,49.2,31.2,null,null,null,null,"1977-04-01"]
["'459376'",1977,5,1.24,66.2,51.5,36.700000000000003,null,null,null,null,"1977-05-01"]
["'459376'",1977,6,0.38,82.5,65.2,47.8,null,null,null,null,"1977-06-01"]
["'459376'",1977,7,0.39,84.5,66.099999999999994,47.7,null,null,null,null,"1977-07-01"]
["'459376'",1977,8,1.1599999999999999,89.4,70,50.6,null,null,null,null,"1977-08-01"]
["'459376'",1977,9,0.83,70.2,54.4,38.5,null,null,null,null,"1977-09-01"]
["'459376'",1977,10,0.35,60.4,44.1,27.8,null,null,null,null,"1977-10-01"]
["'459376'",1977,11,3.25,38,29.6,21.1,null,null,null,null,"1977-11-01"]
["'459376'",1977,12,3.61,27.8,20.3,12.7,null,null,null,null,"1977-12-01"]
["'459376'",1978,1,1.39,29.1,22.2,15.2,null,null,null,null,"1978-01-01",{"$f":"SUM($D652:$D654)","v":6.49},{"$f":"M653/M$1052","v":1.122721749696233},{"$f":"AVERAGE($E652:$E654)","v":31.400000000000002},{"$f":"AVERAGE($F652:$F654)","v":23.900000000000002},{"$f":"AVERAGE($G652:$G654)","v":16.333333333333332},{"$f":"SUM($D655:$D657)","v":2.33},{"$f":"R653/R$1052","v":0.93587720556591614},{"$f":"AVERAGE($E655:$E657)","v":58.9},{"$f":"AVERAGE($F655:$F657)","v":45.6},{"$f":"AVERAGE($G655:$G657)","v":32.199999999999996},{"$f":"SUM($D658:$D660)","v":3.58},{"$f":"W653/W$1052","v":1.6140840534592873},{"$f":"AVERAGE($E658:$E660)","v":83.1},{"$f":"AVERAGE($F658:$F660)","v":65.766666666666666},{"$f":"AVERAGE($G658:$G660)","v":48.366666666666667},{"$f":"SUM($D661:$D663)","v":3.41},{"$f":"AB653/AB$1052","v":1.0241704805491996},{"$f":"AVERAGE($E661:$E663)","v":56.466666666666661},{"$f":"AVERAGE($F661:$F663)","v":42.833333333333336},{"$f":"AVERAGE($G661:$G663)","v":29.166666666666668},{"$f":"SUM(D650:D661)","v":18.490000000000002},{"$f":"AG653/AG$1052","v":1.3383195608902834},{"$f":"AVERAGE(E650:E661)","v":57.241666666666667},{"$f":"AVERAGE(F650:F661)","v":44.566666666666663},{"$f":"AVERAGE(G650:G661)","v":31.816666666666666},{"$f":"SUM(D650:D655)","v":11},{"$f":"AL653/AL$1052","v":1.1240904205648639},{"$f":"AVERAGE(E650:E655)","v":40.516666666666673},{"$f":"AVERAGE(F650:F655)","v":30.650000000000002},{"$f":"AVERAGE(G650:G655)","v":20.716666666666669}]
["'459376'",1978,2,1.49,37.299999999999997,29.2,21.1,null,null,null,null,"1978-02-01"]
["'459376'",1978,3,0.91,50.5,38.5,26.4,null,null,null,null,"1978-03-01"]
["'459376'",1978,4,1.23,58.7,46,33.200000000000003,null,null,null,null,"1978-04-01"]
["'459376'",1978,5,0.19,67.5,52.3,37,null,null,null,null,"1978-05-01"]
["'459376'",1978,6,1.2,81,63.2,45.4,null,null,null,null,"1978-06-01"]
["'459376'",1978,7,1.3,86.7,69,51.2,null,null,null,null,"1978-07-01"]
["'459376'",1978,8,1.08,81.599999999999994,65.099999999999994,48.5,null,null,null,null,"1978-08-01"]
["'459376'",1978,9,2.4900000000000002,68.3,55.3,42.2,null,null,null,null,"1978-09-01"]
["'459376'",1978,10,0.06,64.400000000000006,45.6,26.8,null,null,null,null,"1978-10-01"]
["'459376'",1978,11,0.86,36.700000000000003,27.6,18.5,null,null,null,null,"1978-11-01"]
["'459376'",1978,12,0.71,26.3,15.4,4.5,null,null,null,null,"1978-12-01"]
["'459376'",1979,1,0.65,20.7,9.3000000000000007,-2.2000000000000002,null,null,null,null,"1979-01-01",{"$f":"SUM($D664:$D666)","v":2.87},{"$f":"M665/M$1052","v":0.49648866280865767},{"$f":"AVERAGE($E664:$E666)","v":27.466666666666669},{"$f":"AVERAGE($F664:$F666)","v":16.400000000000002},{"$f":"AVERAGE($G664:$G666)","v":5.2666666666666666},{"$f":"SUM($D667:$D669)","v":0.74},{"$f":"R665/R$1052","v":0.29723138717544118},{"$f":"AVERAGE($E667:$E669)","v":62.033333333333339},{"$f":"AVERAGE($F667:$F669)","v":45.70000000000001},{"$f":"AVERAGE($G667:$G669)","v":29.333333333333332},{"$f":"SUM($D670:$D672)","v":2.4500000000000002},{"$f":"W665/W$1052","v":1.1046105952444845},{"$f":"AVERAGE($E670:$E672)","v":84.933333333333337},{"$f":"AVERAGE($F670:$F672)","v":66.666666666666671},{"$f":"AVERAGE($G670:$G672)","v":48.366666666666674},{"$f":"SUM($D673:$D675)","v":3.15},{"$f":"AB665/AB$1052","v":0.94608123569794078},{"$f":"AVERAGE($E673:$E675)","v":60.466666666666669},{"$f":"AVERAGE($F673:$F675)","v":45.733333333333341},{"$f":"AVERAGE($G673:$G675)","v":30.966666666666669},{"$f":"SUM(D662:D673)","v":7.5699999999999994},{"$f":"AG665/AG$1052","v":0.54792207008866645},{"$f":"AVERAGE(E662:E673)","v":58.550000000000004},{"$f":"AVERAGE(F662:F673)","v":43.216666666666669},{"$f":"AVERAGE(G662:G673)","v":27.841666666666665},{"$f":"SUM(D662:D667)","v":3.91},{"$f":"AL665/AL$1052","v":0.39956304949169252},{"$f":"AVERAGE(E662:E667)","v":39.35},{"$f":"AVERAGE(F662:F667)","v":26.683333333333337},{"$f":"AVERAGE(G662:G667)","v":13.983333333333333}]
["'459376'",1979,2,1.51,35.4,24.5,13.5,null,null,null,null,"1979-02-01"]
["'459376'",1979,3,0.12,52.6,37.700000000000003,22.8,null,null,null,null,"1979-03-01"]
["'459376'",1979,4,0.42,60.6,44.2,27.7,null,null,null,null,"1979-04-01"]
["'459376'",1979,5,0.2,72.900000000000006,55.2,37.5,null,null,null,null,"1979-05-01"]
["'459376'",1979,6,0.47,81.099999999999994,62.6,44.1,null,null,null,null,"1979-06-01"]
["'459376'",1979,7,0.76,88.4,69.3,50.2,null,null,null,null,"1979-07-01"]
["'459376'",1979,8,1.22,85.3,68.099999999999994,50.8,null,null,null,null,"1979-08-01"]
["'459376'",1979,9,0.59,78.2,59.1,39.9,null,null,null,null,"1979-09-01"]
["'459376'",1979,10,1.72,65.7,49.3,32.9,null,null,null,null,"1979-10-01"]
["'459376'",1979,11,0.84,37.5,28.8,20.100000000000001,null,null,null,null,"1979-11-01"]
["'459376'",1979,12,4.5999999999999996,34.4,28.1,21.8,null,null,null,null,"1979-12-01"]
["'459376'",1980,1,1.96,21.5,12.1,2.6,null,null,null,null,"1980-01-01",{"$f":"SUM($D676:$D678)","v":8.8699999999999992},{"$f":"M677/M$1052","v":1.5344440554399976},{"$f":"AVERAGE($E676:$E678)","v":30.433333333333334},{"$f":"AVERAGE($F676:$F678)","v":22.866666666666664},{"$f":"AVERAGE($G676:$G678)","v":15.233333333333334},{"$f":"SUM($D679:$D681)","v":3.2199999999999998},{"$f":"R677/R$1052","v":1.2933581982498925},{"$f":"AVERAGE($E679:$E681)","v":60.06666666666667},{"$f":"AVERAGE($F679:$F681)","v":46.599999999999994},{"$f":"AVERAGE($G679:$G681)","v":33.06666666666667},{"$f":"SUM($D682:$D684)","v":1.06},{"$f":"W677/W$1052","v":0.47791315549353203},{"$f":"AVERAGE($E682:$E684)","v":79.8},{"$f":"AVERAGE($F682:$F684)","v":62.5},{"$f":"AVERAGE($G682:$G684)","v":45.1},{"$f":"SUM($D685:$D687)","v":2.74},{"$f":"AB677/AB$1052","v":0.82294050343249459},{"$f":"AVERAGE($E685:$E687)","v":60.033333333333331},{"$f":"AVERAGE($F685:$F687)","v":45.633333333333333},{"$f":"AVERAGE($G685:$G687)","v":31.166666666666668},{"$f":"SUM(D674:D685)","v":16.829999999999998},{"$f":"AG677/AG$1052","v":1.2181675613728211},{"$f":"AVERAGE(E674:E685)","v":57.400000000000006},{"$f":"AVERAGE(F674:F685)","v":44.258333333333326},{"$f":"AVERAGE(G674:G685)","v":31.058333333333326},{"$f":"SUM(D674:D679)","v":11.620000000000001},{"$f":"AL677/AL$1052","v":1.187448244269429},{"$f":"AVERAGE(E674:E679)","v":40.366666666666667},{"$f":"AVERAGE(F674:F679)","v":30.5},{"$f":"AVERAGE(G674:G679)","v":20.583333333333332}]
["'459376'",1980,2,2.31,35.4,28.4,21.3,null,null,null,null,"1980-02-01"]
["'459376'",1980,3,0.19,47.7,36.299999999999997,24.8,null,null,null,null,"1980-03-01"]
["'459376'",1980,4,1.0900000000000001,63.6,48.4,33.200000000000003,null,null,null,null,"1980-04-01"]
["'459376'",1980,5,1.94,68.900000000000006,55.1,41.2,null,null,null,null,"1980-05-01"]
["'459376'",1980,6,0.52,72.5,57.9,43.2,null,null,null,null,"1980-06-01"]
["'459376'",1980,7,0.17,85.3,65.900000000000006,46.4,null,null,null,null,"1980-07-01"]
["'459376'",1980,8,0.37,81.599999999999994,63.7,45.7,null,null,null,null,"1980-08-01"]
["'459376'",1980,9,1.1200000000000001,74.7,57.1,39.5,null,null,null,null,"1980-09-01"]
["'459376'",1980,10,0.24,64.3,46.6,28.8,null,null,null,null,"1980-10-01"]
["'459376'",1980,11,1.38,41.1,33.200000000000003,25.2,null,null,null,null,"1980-11-01"]
["'459376'",1980,12,3.28,30.6,24.5,18.3,null,null,null,null,"1980-12-01"]
["'459376'",1981,1,1.0900000000000001,35.799999999999997,30,24.2,null,null,null,null,"1981-01-01",{"$f":"SUM($D688:$D690)","v":6.78},{"$f":"M689/M$1052","v":1.1728895936734143},{"$f":"AVERAGE($E688:$E690)","v":35.1},{"$f":"AVERAGE($F688:$F690)","v":28},{"$f":"AVERAGE($G688:$G690)","v":20.833333333333332},{"$f":"SUM($D691:$D693)","v":2.68},{"$f":"R689/R$1052","v":1.0764596184191655},{"$f":"AVERAGE($E691:$E693)","v":61.533333333333331},{"$f":"AVERAGE($F691:$F693)","v":46.5},{"$f":"AVERAGE($G691:$G693)","v":31.433333333333334},{"$f":"SUM($D694:$D696)","v":1.8199999999999998},{"$f":"W689/W$1052","v":0.82056787075304538},{"$f":"AVERAGE($E694:$E696)","v":81.266666666666666},{"$f":"AVERAGE($F694:$F696)","v":63.333333333333336},{"$f":"AVERAGE($G694:$G696)","v":45.366666666666674},{"$f":"SUM($D697:$D699)","v":4.91},{"$f":"AB689/AB$1052","v":1.4746853546910761},{"$f":"AVERAGE($E697:$E699)","v":59.666666666666664},{"$f":"AVERAGE($F697:$F699)","v":45.766666666666673},{"$f":"AVERAGE($G697:$G699)","v":31.8},{"$f":"SUM(D686:D697)","v":13.68},{"$f":"AG689/AG$1052","v":0.99016828518004729},{"$f":"AVERAGE(E686:E697)","v":59.650000000000006},{"$f":"AVERAGE(F686:F697)","v":45.916666666666679},{"$f":"AVERAGE(G686:G697)","v":32.125},{"$f":"SUM(D686:D691)","v":8.7799999999999994},{"$f":"AL689/AL$1052","v":0.8972285356872276},{"$f":"AVERAGE(E686:E691)","v":44.483333333333341},{"$f":"AVERAGE(F686:F691)","v":34.233333333333334},{"$f":"AVERAGE(G686:G691)","v":23.916666666666668}]
["'459376'",1981,2,2.41,38.9,29.5,20,null,null,null,null,"1981-02-01"]
["'459376'",1981,3,0.38,56.2,41.6,27,null,null,null,null,"1981-03-01"]
["'459376'",1981,4,0.16,60.9,44.9,28.8,null,null,null,null,"1981-04-01"]
["'459376'",1981,5,2.14,67.5,53,38.5,null,null,null,null,"1981-05-01"]
["'459376'",1981,6,0.5,71.400000000000006,56.3,41.2,null,null,null,null,"1981-06-01"]
["'459376'",1981,7,1.18,82.3,64.8,47.2,null,null,null,null,"1981-07-01"]
["'459376'",1981,8,0.14000000000000001,90.1,68.900000000000006,47.7,null,null,null,null,"1981-08-01"]
["'459376'",1981,9,0.78,76.7,57.7,38.6,null,null,null,null,"1981-09-01"]
["'459376'",1981,10,1.75,59.2,44.4,29.6,null,null,null,null,"1981-10-01"]
["'459376'",1981,11,2.38,43.1,35.200000000000003,27.2,null,null,null,null,"1981-11-01"]
["'459376'",1981,12,3.48,27.9,19.5,11,null,null,null,null,"1981-12-01"]
["'459376'",1982,1,2.29,26.8,18.8,10.8,null,null,null,null,"1982-01-01",{"$f":"SUM($D700:$D702)","v":7.1899999999999995},{"$f":"M701/M$1052","v":1.2438165455032224},{"$f":"AVERAGE($E700:$E702)","v":30.166666666666668},{"$f":"AVERAGE($F700:$F702)","v":21.099999999999998},{"$f":"AVERAGE($G700:$G702)","v":11.966666666666667},{"$f":"SUM($D703:$D705)","v":3.07},{"$f":"R701/R$1052","v":1.2331085927413572},{"$f":"AVERAGE($E703:$E705)","v":58.266666666666673},{"$f":"AVERAGE($F703:$F705)","v":43.56666666666667},{"$f":"AVERAGE($G703:$G705)","v":28.8},{"$f":"SUM($D706:$D708)","v":2.2600000000000002},{"$f":"W701/W$1052","v":1.0189469164296061},{"$f":"AVERAGE($E706:$E708)","v":81.733333333333334},{"$f":"AVERAGE($F706:$F708)","v":64.600000000000009},{"$f":"AVERAGE($G706:$G708)","v":47.366666666666667},{"$f":"SUM($D709:$D711)","v":3.17},{"$f":"AB701/AB$1052","v":0.95208810068649918},{"$f":"AVERAGE($E709:$E711)","v":56.566666666666663},{"$f":"AVERAGE($F709:$F711)","v":43.1},{"$f":"AVERAGE($G709:$G711)","v":29.599999999999998},{"$f":"SUM(D698:D709)","v":17.439999999999998},{"$f":"AG701/AG$1052","v":1.2623198021593582},{"$f":"AVERAGE(E698:E709)","v":57.258333333333333},{"$f":"AVERAGE(F698:F709)","v":43.68333333333333},{"$f":"AVERAGE(G698:G709)","v":30.033333333333331},{"$f":"SUM(D698:D703)","v":13.129999999999999},{"$f":"AL701/AL$1052","v":1.3417552020015147},{"$f":"AVERAGE(E698:E703)","v":40.366666666666667},{"$f":"AVERAGE(F698:F703)","v":29.916666666666661},{"$f":"AVERAGE(G698:G703)","v":19.399999999999999}]
["'459376'",1982,2,1.42,35.799999999999997,25,14.1,null,null,null,null,"1982-02-01"]
["'459376'",1982,3,1.81,49.4,36.6,23.7,null,null,null,null,"1982-03-01"]
["'459376'",1982,4,0.32,56.6,41.7,26.8,null,null,null,null,"1982-04-01"]
["'459376'",1982,5,0.94,68.8,52.4,35.9,null,null,null,null,"1982-05-01"]
["'459376'",1982,6,0.52,80.8,64.3,47.7,null,null,null,null,"1982-06-01"]
["'459376'",1982,7,1.29,81.3,64.7,48,null,null,null,null,"1982-07-01"]
["'459376'",1982,8,0.45,83.1,64.8,46.4,null,null,null,null,"1982-08-01"]
["'459376'",1982,9,0.79,74.3,56.8,39.200000000000003,null,null,null,null,"1982-09-01"]
["'459376'",1982,10,1.1499999999999999,58.9,44.6,30.3,null,null,null,null,"1982-10-01"]
["'459376'",1982,11,1.23,36.5,27.9,19.3,null,null,null,null,"1982-11-01"]
["'459376'",1982,12,2.64,26.9,19.7,12.4,null,null,null,null,"1982-12-01"]
["'459376'",1983,1,4.32,33.1,27,20.8,null,null,null,null,"1983-01-01",{"$f":"SUM($D712:$D714)","v":9.2200000000000006},{"$f":"M713/M$1052","v":1.5949914533434928},{"$f":"AVERAGE($E712:$E714)","v":32.733333333333334},{"$f":"AVERAGE($F712:$F714)","v":25.8},{"$f":"AVERAGE($G712:$G714)","v":18.766666666666669},{"$f":"SUM($D715:$D717)","v":4},{"$f":"R713/R$1052","v":1.6066561468942766},{"$f":"AVERAGE($E715:$E717)","v":61.966666666666669},{"$f":"AVERAGE($F715:$F717)","v":47.166666666666664},{"$f":"AVERAGE($G715:$G717)","v":32.333333333333336},{"$f":"SUM($D718:$D720)","v":2.7},{"$f":"W713/W$1052","v":1.2173259621061665},{"$f":"AVERAGE($E718:$E720)","v":79.86666666666666},{"$f":"AVERAGE($F718:$F720)","v":63.033333333333339},{"$f":"AVERAGE($G718:$G720)","v":46.166666666666664},{"$f":"SUM($D721:$D723)","v":6.71},{"$f":"AB713/AB$1052","v":2.0153032036613281},{"$f":"AVERAGE($E721:$E723)","v":57.533333333333339},{"$f":"AVERAGE($F721:$F723)","v":44.6},{"$f":"AVERAGE($G721:$G723)","v":31.633333333333336},{"$f":"SUM(D710:D721)","v":19.55},{"$f":"AG713/AG$1052","v":1.4150431268472168},{"$f":"AVERAGE(E710:E721)","v":57.5},{"$f":"AVERAGE(F710:F721)","v":44.516666666666673},{"$f":"AVERAGE(G710:G721)","v":31.483333333333331},{"$f":"SUM(D710:D715)","v":14.39},{"$f":"AL713/AL$1052","v":1.4705146501753084},{"$f":"AVERAGE(E710:E715)","v":40.766666666666673},{"$f":"AVERAGE(F710:F715)","v":31.683333333333337},{"$f":"AVERAGE(G710:G715)","v":22.55}]
["'459376'",1983,2,2.2599999999999998,38.200000000000003,30.7,23.1,null,null,null,null,"1983-02-01"]
["'459376'",1983,3,2.79,51,40.200000000000003,29.4,null,null,null,null,"1983-03-01"]
["'459376'",1983,4,0.91,61.2,45.9,30.5,null,null,null,null,"1983-04-01"]
["'459376'",1983,5,0.3,73.7,55.4,37.1,null,null,null,null,"1983-05-01"]
["'459376'",1983,6,0.79,75.599999999999994,60.1,44.5,null,null,null,null,"1983-06-01"]
["'459376'",1983,7,0.71,79.099999999999994,62.2,45.3,null,null,null,null,"1983-07-01"]
["'459376'",1983,8,1.2,84.9,66.8,48.7,null,null,null,null,"1983-08-01"]
["'459376'",1983,9,1.25,70.900000000000006,53.7,36.4,null,null,null,null,"1983-09-01"]
["'459376'",1983,10,0.17,61.2,45.3,29.4,null,null,null,null,"1983-10-01"]
["'459376'",1983,11,5.29,40.5,34.799999999999997,29.1,null,null,null,null,"1983-11-01"]
["'459376'",1983,12,1.49,18.7,10.1,1.5,null,null,null,null,"1983-12-01"]
["'459376'",1984,1,0.95,30,20.8,11.5,null,null,null,null,"1984-01-01",{"$f":"SUM($D724:$D726)","v":3.36},{"$f":"M725/M$1052","v":0.58125501987355044},{"$f":"AVERAGE($E724:$E726)","v":28.7},{"$f":"AVERAGE($F724:$F726)","v":19.833333333333332},{"$f":"AVERAGE($G724:$G726)","v":10.933333333333332},{"$f":"SUM($D727:$D729)","v":3.19},{"$f":"R725/R$1052","v":1.2813082771481856},{"$f":"AVERAGE($E727:$E729)","v":57.533333333333331},{"$f":"AVERAGE($F727:$F729)","v":44.466666666666669},{"$f":"AVERAGE($G727:$G729)","v":31.333333333333332},{"$f":"SUM($D730:$D732)","v":1.79},{"$f":"W725/W$1052","v":0.80704202672964365},{"$f":"AVERAGE($E730:$E732)","v":81.7},{"$f":"AVERAGE($F730:$F732)","v":64.3},{"$f":"AVERAGE($G730:$G732)","v":46.833333333333336},{"$f":"SUM($D733:$D735)","v":3.9800000000000004},{"$f":"AB725/AB$1052","v":1.1953661327231127},{"$f":"AVERAGE($E733:$E735)","v":54.733333333333327},{"$f":"AVERAGE($F733:$F735)","v":41.466666666666669},{"$f":"AVERAGE($G733:$G735)","v":28.133333333333329},{"$f":"SUM(D722:D733)","v":13.930000000000001},{"$f":"AG725/AG$1052","v":1.0082634658302676},{"$f":"AVERAGE(E722:E733)","v":56.358333333333327},{"$f":"AVERAGE(F722:F733)","v":43.208333333333336},{"$f":"AVERAGE(G722:G733)","v":30.008333333333336},{"$f":"SUM(D722:D727)","v":10.67},{"$f":"AL725/AL$1052","v":1.0903677079479179},{"$f":"AVERAGE(E722:E727)","v":39.933333333333337},{"$f":"AVERAGE(F722:F727)","v":29.933333333333334},{"$f":"AVERAGE(G722:G727)","v":19.900000000000002}]
["'459376'",1984,2,0.92,37.4,28.6,19.8,null,null,null,null,"1984-02-01"]
["'459376'",1984,3,1.85,51.8,40,28.1,null,null,null,null,"1984-03-01"]
["'459376'",1984,4,0.65,56.7,43.3,29.8,null,null,null,null,"1984-04-01"]
["'459376'",1984,5,0.69,64.099999999999994,50.1,36.1,null,null,null,null,"1984-05-01"]
["'459376'",1984,6,1.29,73.2,58.8,44.4,null,null,null,null,"1984-06-01"]
["'459376'",1984,7,0.02,86.7,67.3,47.8,null,null,null,null,"1984-07-01"]
["'459376'",1984,8,0.48,85.2,66.8,48.3,null,null,null,null,"1984-08-01"]
["'459376'",1984,9,0.13,70.8,52.6,34.299999999999997,null,null,null,null,"1984-09-01"]
["'459376'",1984,10,0.88,56.6,42.2,27.8,null,null,null,null,"1984-10-01"]
["'459376'",1984,11,2.97,36.799999999999997,29.6,22.3,null,null,null,null,"1984-11-01"]
["'459376'",1984,12,0.98,20.9,11.4,1.9,null,null,null,null,"1984-12-01"]
["'459376'",1985,1,0.39,25.6,18.3,11,null,null,null,null,"1985-01-01",{"$f":"SUM($D736:$D738)","v":2.37},{"$f":"M737/M$1052","v":0.40999238008937933},{"$f":"AVERAGE($E736:$E738)","v":26.400000000000002},{"$f":"AVERAGE($F736:$F738)","v":16.133333333333336},{"$f":"AVERAGE($G736:$G738)","v":5.833333333333333},{"$f":"SUM($D739:$D741)","v":1.5},{"$f":"R737/R$1052","v":0.60249605508535375},{"$f":"AVERAGE($E739:$E741)","v":61.266666666666673},{"$f":"AVERAGE($F739:$F741)","v":45.5},{"$f":"AVERAGE($G739:$G741)","v":29.633333333333336},{"$f":"SUM($D742:$D744)","v":0.88000000000000012},{"$f":"W737/W$1052","v":0.39675809135312096},{"$f":"AVERAGE($E742:$E744)","v":85.1},{"$f":"AVERAGE($F742:$F744)","v":65.599999999999994},{"$f":"AVERAGE($G742:$G744)","v":46.099999999999994},{"$f":"SUM($D745:$D747)","v":3.67},{"$f":"AB737/AB$1052","v":1.102259725400458},{"$f":"AVERAGE($E745:$E747)","v":51.066666666666663},{"$f":"AVERAGE($F745:$F747)","v":38.966666666666669},{"$f":"AVERAGE($G745:$G747)","v":26.8},{"$f":"SUM(D734:D745)","v":9.879999999999999},{"$f":"AG737/AG$1052","v":0.71512153929670075},{"$f":"AVERAGE(E734:E745)","v":56.641666666666673},{"$f":"AVERAGE(F734:F745)","v":42.216666666666669},{"$f":"AVERAGE(G734:G745)","v":27.75},{"$f":"SUM(D734:D739)","v":6.8599999999999994},{"$f":"AL737/AL$1052","v":0.70102366227954227},{"$f":"AVERAGE(E734:E739)","v":36.866666666666667},{"$f":"AVERAGE(F734:F739)","v":25.8},{"$f":"AVERAGE(G734:G739)","v":14.683333333333332}]
["'459376'",1985,2,1,32.700000000000003,18.7,4.5999999999999996,null,null,null,null,"1985-02-01"]
["'459376'",1985,3,0.64,48.6,34.6,20.5,null,null,null,null,"1985-03-01"]
["'459376'",1985,4,0.1,62.5,46.1,29.6,null,null,null,null,"1985-04-01"]
["'459376'",1985,5,0.76,72.7,55.8,38.799999999999997,null,null,null,null,"1985-05-01"]
["'459376'",1985,6,0.66,78.599999999999994,61,43.4,null,null,null,null,"1985-06-01"]
["'459376'",1985,7,0.05,93.6,71.2,48.8,null,null,null,null,"1985-07-01"]
["'459376'",1985,8,0.17,83.1,64.599999999999994,46.1,null,null,null,null,"1985-08-01"]
["'459376'",1985,9,1.28,68,53.1,38.200000000000003,null,null,null,null,"1985-09-01"]
["'459376'",1985,10,1.65,56.3,44.2,32,null,null,null,null,"1985-10-01"]
["'459376'",1985,11,0.74,28.9,19.600000000000001,10.199999999999999,null,null,null,null,"1985-11-01"]
["'459376'",1985,12,0.64,23.5,15.7,7.8,null,null,null,null,"1985-12-01"]
["'459376'",1986,1,2.39,31.6,24.1,16.600000000000001,null,null,null,null,"1986-01-01",{"$f":"SUM($D748:$D750)","v":5.07},{"$f":"M749/M$1052","v":0.87707230677348247},{"$f":"AVERAGE($E748:$E750)","v":30.600000000000005},{"$f":"AVERAGE($F748:$F750)","v":22.099999999999998},{"$f":"AVERAGE($G748:$G750)","v":13.566666666666668},{"$f":"SUM($D751:$D753)","v":1.58},{"$f":"R749/R$1052","v":0.63462917802323926},{"$f":"AVERAGE($E751:$E753)","v":60.933333333333337},{"$f":"AVERAGE($F751:$F753)","v":47.066666666666663},{"$f":"AVERAGE($G751:$G753)","v":33.1},{"$f":"SUM($D754:$D756)","v":1.41},{"$f":"W749/W$1052","v":0.63571466909988683},{"$f":"AVERAGE($E754:$E756)","v":84.7},{"$f":"AVERAGE($F754:$F756)","v":66.800000000000011},{"$f":"AVERAGE($G754:$G756)","v":48.833333333333336},{"$f":"SUM($D757:$D759)","v":3.32},{"$f":"AB749/AB$1052","v":0.99713958810068681},{"$f":"AVERAGE($E757:$E759)","v":59.066666666666663},{"$f":"AVERAGE($F757:$F759)","v":45.70000000000001},{"$f":"AVERAGE($G757:$G759)","v":32.266666666666666},{"$f":"SUM(D746:D757)","v":11.829999999999998},{"$f":"AG749/AG$1052","v":0.8562639483684179},{"$f":"AVERAGE(E746:E757)","v":56.908333333333331},{"$f":"AVERAGE(F746:F757)","v":43.891666666666673},{"$f":"AVERAGE(G746:G757)","v":30.799999999999997},{"$f":"SUM(D746:D751)","v":8.06},{"$f":"AL749/AL$1052","v":0.82365170815934574},{"$f":"AVERAGE(E746:E751)","v":38.35},{"$f":"AVERAGE(F746:F751)","v":28.45},{"$f":"AVERAGE(G746:G751)","v":18.483333333333331}]
["'459376'",1986,2,2.04,36.700000000000003,26.5,16.3,null,null,null,null,"1986-02-01"]
["'459376'",1986,3,0.6,53.1,40.6,28,null,null,null,null,"1986-03-01"]
["'459376'",1986,4,0.79,58.7,45.5,32.200000000000003,null,null,null,null,"1986-04-01"]
["'459376'",1986,5,0.19,71,55.1,39.1,null,null,null,null,"1986-05-01"]
["'459376'",1986,6,0.95,83.2,65.400000000000006,47.5,null,null,null,null,"1986-06-01"]
["'459376'",1986,7,0.17,80,64.2,48.3,null,null,null,null,"1986-07-01"]
["'459376'",1986,8,0.28999999999999998,90.9,70.8,50.7,null,null,null,null,"1986-08-01"]
["'459376'",1986,9,1.38,69,55,40.9,null,null,null,null,"1986-09-01"]
["'459376'",1986,10,0.42,66.599999999999994,48.4,30.2,null,null,null,null,"1986-10-01"]
["'459376'",1986,11,1.52,41.6,33.700000000000003,25.7,null,null,null,null,"1986-11-01"]
["'459376'",1986,12,1.18,29.2,23,16.7,null,null,null,null,"1986-12-01"]
["'459376'",1987,1,2.13,28.4,20.399999999999999,12.3,null,null,null,null,"1987-01-01",{"$f":"SUM($D760:$D762)","v":4.88},{"$f":"M761/M$1052","v":0.84420371934015659},{"$f":"AVERAGE($E760:$E762)","v":32.766666666666666},{"$f":"AVERAGE($F760:$F762)","v":24.933333333333334},{"$f":"AVERAGE($G760:$G762)","v":17},{"$f":"SUM($D763:$D765)","v":2.4900000000000002},{"$f":"R761/R$1052","v":1.0001434514416874},{"$f":"AVERAGE($E763:$E765)","v":63.766666666666673},{"$f":"AVERAGE($F763:$F765)","v":48.900000000000006},{"$f":"AVERAGE($G763:$G765)","v":33.966666666666669},{"$f":"SUM($D766:$D768)","v":2.46},{"$f":"W761/W$1052","v":1.1091192099189515},{"$f":"AVERAGE($E766:$E768)","v":83.266666666666666},{"$f":"AVERAGE($F766:$F768)","v":65.833333333333329},{"$f":"AVERAGE($G766:$G768)","v":48.300000000000004},{"$f":"SUM($D769:$D771)","v":0.45},{"$f":"AB761/AB$1052","v":0.13515446224256297},{"$f":"AVERAGE($E769:$E771)","v":66.233333333333334},{"$f":"AVERAGE($F769:$F771)","v":49},{"$f":"AVERAGE($G769:$G771)","v":31.733333333333334},{"$f":"SUM(D758:D769)","v":11.8},{"$f":"AG761/AG$1052","v":0.85409252669039171},{"$f":"AVERAGE(E758:E769)","v":60.925000000000004},{"$f":"AVERAGE(F758:F769)","v":46.900000000000006},{"$f":"AVERAGE(G758:G769)","v":32.79999999999999},{"$f":"SUM(D758:D763)","v":7.91},{"$f":"AL761/AL$1052","v":0.80832320242437028},{"$f":"AVERAGE(E758:E763)","v":43.050000000000004},{"$f":"AVERAGE(F758:F763)","v":32.766666666666673},{"$f":"AVERAGE(G758:G763)","v":22.399999999999995}]
["'459376'",1987,2,1.57,40.700000000000003,31.4,22,null,null,null,null,"1987-02-01"]
["'459376'",1987,3,1.0900000000000001,51.8,39.700000000000003,27.5,null,null,null,null,"1987-03-01"]
["'459376'",1987,4,0.23,67,50.6,34.200000000000003,null,null,null,null,"1987-04-01"]
["'459376'",1987,5,1.17,72.5,56.4,40.200000000000003,null,null,null,null,"1987-05-01"]
["'459376'",1987,6,1.04,81.8,64.3,46.7,null,null,null,null,"1987-06-01"]
["'459376'",1987,7,1.27,83.1,67,50.8,null,null,null,null,"1987-07-01"]
["'459376'",1987,8,0.15,84.9,66.2,47.4,null,null,null,null,"1987-08-01"]
["'459376'",1987,9,0.03,83.5,61.7,39.9,null,null,null,null,"1987-09-01"]
["'459376'",1987,10,0.04,69.2,49.2,29.1,null,null,null,null,"1987-10-01"]
["'459376'",1987,11,0.38,46,36.1,26.2,null,null,null,null,"1987-11-01"]
["'459376'",1987,12,5.38,26.6,19.7,12.7,null,null,null,null,"1987-12-01"]
["'459376'",1988,1,0.91,26.5,17.2,7.9,null,null,null,null,"1988-01-01",{"$f":"SUM($D772:$D774)","v":6.48},{"$f":"M773/M$1052","v":1.1209918240418473},{"$f":"AVERAGE($E772:$E774)","v":30.733333333333334},{"$f":"AVERAGE($F772:$F774)","v":21.233333333333334},{"$f":"AVERAGE($G772:$G774)","v":11.700000000000001},{"$f":"SUM($D775:$D777)","v":2.4099999999999997},{"$f":"R773/R$1052","v":0.96801032850380153},{"$f":"AVERAGE($E775:$E777)","v":62.033333333333339},{"$f":"AVERAGE($F775:$F777)","v":47.5},{"$f":"AVERAGE($G775:$G777)","v":32.9},{"$f":"SUM($D778:$D780)","v":2.36},{"$f":"W773/W$1052","v":1.0640330631742787},{"$f":"AVERAGE($E778:$E780)","v":82.266666666666666},{"$f":"AVERAGE($F778:$F780)","v":64.600000000000009},{"$f":"AVERAGE($G778:$G780)","v":46.866666666666667},{"$f":"SUM($D781:$D783)","v":3.05},{"$f":"AB773/AB$1052","v":0.91604691075514899},{"$f":"AVERAGE($E781:$E783)","v":61.9},{"$f":"AVERAGE($F781:$F783)","v":47.1},{"$f":"AVERAGE($G781:$G783)","v":32.233333333333334},{"$f":"SUM(D770:D781)","v":11.93},{"$f":"AG773/AG$1052","v":0.86350202062850612},{"$f":"AVERAGE(E770:E781)","v":59.81666666666667},{"$f":"AVERAGE(F770:F781)","v":45.308333333333337},{"$f":"AVERAGE(G770:G781)","v":30.74166666666666},{"$f":"SUM(D770:D775)","v":7.5},{"$f":"AL773/AL$1052","v":0.76642528674877075},{"$f":"AVERAGE(E770:E775)","v":43.266666666666673},{"$f":"AVERAGE(F770:F775)","v":31.366666666666674},{"$f":"AVERAGE(G770:G775)","v":19.416666666666668}]
["'459376'",1988,2,0.19,39.1,26.8,14.5,null,null,null,null,"1988-02-01"]
["'459376'",1988,3,0.6,52.2,39.200000000000003,26.1,null,null,null,null,"1988-03-01"]
["'459376'",1988,4,1.2,64.2,49,33.700000000000003,null,null,null,null,"1988-04-01"]
["'459376'",1988,5,0.61,69.7,54.3,38.9,null,null,null,null,"1988-05-01"]
["'459376'",1988,6,1.89,75.599999999999994,60.5,45.3,null,null,null,null,"1988-06-01"]
["'459376'",1988,7,0.22,85.2,67.099999999999994,48.9,null,null,null,null,"1988-07-01"]
["'459376'",1988,8,0.25,86,66.2,46.4,null,null,null,null,"1988-08-01"]
["'459376'",1988,9,0.26,77.5,58.4,39.200000000000003,null,null,null,null,"1988-09-01"]
["'459376'",1988,10,0.16,68.2,50.4,32.5,null,null,null,null,"1988-10-01"]
["'459376'",1988,11,2.63,40,32.5,25,null,null,null,null,"1988-11-01"]
["'459376'",1988,12,1.5,30.2,22.5,14.8,null,null,null,null,"1988-12-01"]
["'459376'",1989,1,0.63,30.7,21.4,12.1,null,null,null,null,"1989-01-01",{"$f":"SUM($D784:$D786)","v":3.8},{"$f":"M785/M$1052","v":0.65737174866651538},{"$f":"AVERAGE($E784:$E786)","v":30.533333333333331},{"$f":"AVERAGE($F784:$F786)","v":21.400000000000002},{"$f":"AVERAGE($G784:$G786)","v":12.266666666666666},{"$f":"SUM($D787:$D789)","v":5.01},{"$f":"R785/R$1052","v":2.0123368239850814},{"$f":"AVERAGE($E787:$E789)","v":59.566666666666663},{"$f":"AVERAGE($F787:$F789)","v":45.466666666666669},{"$f":"AVERAGE($G787:$G789)","v":31.266666666666669},{"$f":"SUM($D790:$D792)","v":1.5},{"$f":"W785/W$1052","v":0.67629220117009248},{"$f":"AVERAGE($E790:$E792)","v":81.733333333333334},{"$f":"AVERAGE($F790:$F792)","v":64.733333333333334},{"$f":"AVERAGE($G790:$G792)","v":47.70000000000001},{"$f":"SUM($D793:$D795)","v":2.67},{"$f":"AB785/AB$1052","v":0.80191647597254023},{"$f":"AVERAGE($E793:$E795)","v":61.766666666666673},{"$f":"AVERAGE($F793:$F795)","v":46.966666666666669},{"$f":"AVERAGE($G793:$G795)","v":32.133333333333333},{"$f":"SUM(D782:D793)","v":13.120000000000001},{"$f":"AG785/AG$1052","v":0.94963508052355416},{"$f":"AVERAGE(E782:E793)","v":58.574999999999996},{"$f":"AVERAGE(F782:F793)","v":44.699999999999996},{"$f":"AVERAGE(G782:G793)","v":30.783333333333331},{"$f":"SUM(D782:D787)","v":8.48},{"$f":"AL785/AL$1052","v":0.8665715242172769},{"$f":"AVERAGE(E782:E787)","v":40.733333333333327},{"$f":"AVERAGE(F782:F787)","v":30.200000000000003},{"$f":"AVERAGE(G782:G787)","v":19.633333333333333}]
["'459376'",1989,2,1.67,30.7,20.3,9.9,null,null,null,null,"1989-02-01"]
["'459376'",1989,3,1.89,44.6,34.1,23.5,null,null,null,null,"1989-03-01"]
["'459376'",1989,4,1.24,65.099999999999994,48.9,32.6,null,null,null,null,"1989-04-01"]
["'459376'",1989,5,1.88,69,53.4,37.700000000000003,null,null,null,null,"1989-05-01"]
["'459376'",1989,6,0.34,79.900000000000006,63.9,47.9,null,null,null,null,"1989-06-01"]
["'459376'",1989,7,0.72,84.9,66.5,48,null,null,null,null,"1989-07-01"]
["'459376'",1989,8,0.44,80.400000000000006,63.8,47.2,null,null,null,null,"1989-08-01"]
["'459376'",1989,9,0.02,79.2,58.7,38.200000000000003,null,null,null,null,"1989-09-01"]
["'459376'",1989,10,1.93,61.8,46.2,30.6,null,null,null,null,"1989-10-01"]
["'459376'",1989,11,0.72,44.3,36,27.6,null,null,null,null,"1989-11-01"]
["'459376'",1989,12,0.67,32.4,27,21.5,null,null,null,null,"1989-12-01"]
["'459376'",1990,1,3.41,32.9,25,17.100000000000001,null,null,null,null,"1990-01-01",{"$f":"SUM($D796:$D798)","v":4.62},{"$f":"M797/M$1052","v":0.79922565232613185},{"$f":"AVERAGE($E796:$E798)","v":33.566666666666663},{"$f":"AVERAGE($F796:$F798)","v":25.099999999999998},{"$f":"AVERAGE($G796:$G798)","v":16.599999999999998},{"$f":"SUM($D799:$D801)","v":4.34},{"$f":"R797/R$1052","v":1.74322191938029},{"$f":"AVERAGE($E799:$E801)","v":61.733333333333327},{"$f":"AVERAGE($F799:$F801)","v":47.6},{"$f":"AVERAGE($G799:$G801)","v":33.466666666666669},{"$f":"SUM($D802:$D804)","v":4.53},{"$f":"W797/W$1052","v":2.0424024475336791},{"$f":"AVERAGE($E802:$E804)","v":82.13333333333334},{"$f":"AVERAGE($F802:$F804)","v":65.7},{"$f":"AVERAGE($G802:$G804)","v":49.20000000000001},{"$f":"SUM($D805:$D807)","v":4.17},{"$f":"AB797/AB$1052","v":1.2524313501144169},{"$f":"AVERAGE($E805:$E807)","v":61.300000000000004},{"$f":"AVERAGE($F805:$F807)","v":46.566666666666663},{"$f":"AVERAGE($G805:$G807)","v":31.8},{"$f":"SUM(D794:D805)","v":16.150000000000002},{"$f":"AG797/AG$1052","v":1.1689486700042226},{"$f":"AVERAGE(E794:E805)","v":60.091666666666669},{"$f":"AVERAGE(F794:F805)","v":46.608333333333327},{"$f":"AVERAGE(G794:G805)","v":33.091666666666669},{"$f":"SUM(D794:D799)","v":7.73},{"$f":"AL797/AL$1052","v":0.78992899554239981},{"$f":"AVERAGE(E794:E799)","v":43.366666666666667},{"$f":"AVERAGE(F794:F799)","v":32.85},{"$f":"AVERAGE(G794:G799)","v":22.3}]
["'459376'",1990,2,0.54,35.4,23.3,11.2,null,null,null,null,"1990-02-01"]
["'459376'",1990,3,0.46,53.4,39.6,25.8,null,null,null,null,"1990-03-01"]
["'459376'",1990,4,0.67,65.7,50.3,34.9,null,null,null,null,"1990-04-01"]
["'459376'",1990,5,3.21,66.099999999999994,52.9,39.700000000000003,null,null,null,null,"1990-05-01"]
["'459376'",1990,6,1.84,73.599999999999994,59.6,45.5,null,null,null,null,"1990-06-01"]
["'459376'",1990,7,0.72,87.9,69.900000000000006,51.9,null,null,null,null,"1990-07-01"]
["'459376'",1990,8,1.97,84.9,67.599999999999994,50.2,null,null,null,null,"1990-08-01"]
["'459376'",1990,9,0.01,82.7,61.9,41.1,null,null,null,null,"1990-09-01"]
["'459376'",1990,10,0.92,56.7,43,29.3,null,null,null,null,"1990-10-01"]
["'459376'",1990,11,3.24,44.5,34.799999999999997,25,null,null,null,null,"1990-11-01"]
["'459376'",1990,12,1.37,22.6,15.9,9.1999999999999993,null,null,null,null,"1990-12-01"]
["'459376'",1991,1,0.9,28.2,19.600000000000001,10.9,null,null,null,null,"1991-01-01",{"$f":"SUM($D808:$D810)","v":2.69},{"$f":"M809/M$1052","v":0.46535000102971746},{"$f":"AVERAGE($E808:$E810)","v":32.800000000000004},{"$f":"AVERAGE($F808:$F810)","v":24.099999999999998},{"$f":"AVERAGE($G808:$G810)","v":15.366666666666667},{"$f":"SUM($D811:$D813)","v":3.17},{"$f":"R809/R$1052","v":1.2732749964137142},{"$f":"AVERAGE($E811:$E813)","v":59.56666666666667},{"$f":"AVERAGE($F811:$F813)","v":45.733333333333327},{"$f":"AVERAGE($G811:$G813)","v":31.833333333333332},{"$f":"SUM($D814:$D816)","v":2.6500000000000004},{"$f":"W809/W$1052","v":1.1947828887338301},{"$f":"AVERAGE($E814:$E816)","v":80.666666666666657},{"$f":"AVERAGE($F814:$F816)","v":64.333333333333329},{"$f":"AVERAGE($G814:$G816)","v":47.9},{"$f":"SUM($D817:$D819)","v":2.95},{"$f":"AB809/AB$1052","v":0.88601258581235731},{"$f":"AVERAGE($E817:$E819)","v":60.333333333333336},{"$f":"AVERAGE($F817:$F819)","v":45.833333333333336},{"$f":"AVERAGE($G817:$G819)","v":31.299999999999997},{"$f":"SUM(D806:D817)","v":12.700000000000001},{"$f":"AG809/AG$1052","v":0.91923517703118429},{"$f":"AVERAGE(E806:E817)","v":58.466666666666669},{"$f":"AVERAGE(F806:F817)","v":45.116666666666667},{"$f":"AVERAGE(G806:G817)","v":31.708333333333332},{"$f":"SUM(D806:D811)","v":7.8400000000000007},{"$f":"AL809/AL$1052","v":0.80116989974804853},{"$f":"AVERAGE(E806:E811)","v":41.633333333333333},{"$f":"AVERAGE(F806:F811)","v":31.266666666666669},{"$f":"AVERAGE(G806:G811)","v":20.85}]
["'459376'",1991,2,0.42,47.6,36.799999999999997,26,null,null,null,null,"1991-02-01"]
["'459376'",1991,3,0.99,50.2,37.5,24.7,null,null,null,null,"1991-03-01"]
["'459376'",1991,4,0.71,61.1,46,30.9,null,null,null,null,"1991-04-01"]
["'459376'",1991,5,1.47,67.400000000000006,53.7,39.9,null,null,null,null,"1991-05-01"]
["'459376'",1991,6,1.31,72.3,57.7,43,null,null,null,null,"1991-06-01"]
["'459376'",1991,7,0.68,84.6,66.900000000000006,49.1,null,null,null,null,"1991-07-01"]
["'459376'",1991,8,0.66,85.1,68.400000000000006,51.6,null,null,null,null,"1991-08-01"]
["'459376'",1991,9,0.03,81.3,61.1,40.9,null,null,null,null,"1991-09-01"]
["'459376'",1991,10,0.47,62.2,45,27.7,null,null,null,null,"1991-10-01"]
["'459376'",1991,11,2.4500000000000002,37.5,31.4,25.3,null,null,null,null,"1991-11-01"]
["'459376'",1991,12,1.39,31.9,25.4,18.8,null,null,null,null,"1991-12-01"]
["'459376'",1992,1,1.45,30.9,24.9,18.899999999999999,null,null,null,null,"1992-01-01",{"$f":"SUM($D820:$D822)","v":4.5},{"$f":"M821/M$1052","v":0.77846654447350505},{"$f":"AVERAGE($E820:$E822)","v":34.966666666666669},{"$f":"AVERAGE($F820:$F822)","v":28.366666666666664},{"$f":"AVERAGE($G820:$G822)","v":21.7},{"$f":"SUM($D823:$D825)","v":0.91999999999999993},{"$f":"R821/R$1052","v":0.36953091378568359},{"$f":"AVERAGE($E823:$E825)","v":66.333333333333329},{"$f":"AVERAGE($F823:$F825)","v":49.9},{"$f":"AVERAGE($G823:$G825)","v":33.4},{"$f":"SUM($D826:$D828)","v":6.3199999999999994},{"$f":"W821/W$1052","v":2.8494444742633225},{"$f":"AVERAGE($E826:$E828)","v":83.13333333333334},{"$f":"AVERAGE($F826:$F828)","v":66.7},{"$f":"AVERAGE($G826:$G828)","v":50.199999999999996},{"$f":"SUM($D829:$D831)","v":2.2000000000000002},{"$f":"AB821/AB$1052","v":0.66075514874141905},{"$f":"AVERAGE($E829:$E831)","v":58.133333333333347},{"$f":"AVERAGE($F829:$F831)","v":45.466666666666669},{"$f":"AVERAGE($G829:$G831)","v":32.733333333333334},{"$f":"SUM(D818:D829)","v":14.68},{"$f":"AG821/AG$1052","v":1.0625490077809279},{"$f":"AVERAGE(E818:E829)","v":60.408333333333331},{"$f":"AVERAGE(F818:F829)","v":47.208333333333336},{"$f":"AVERAGE(G818:G829)","v":33.950000000000003},{"$f":"SUM(D818:D823)","v":8},{"$f":"AL821/AL$1052","v":0.81752030586535551},{"$f":"AVERAGE(E818:E823)","v":44.183333333333337},{"$f":"AVERAGE(F818:F823)","v":34.35},{"$f":"AVERAGE(G818:G823)","v":24.45}]
["'459376'",1992,2,1.66,42.1,34.799999999999997,27.4,null,null,null,null,"1992-02-01"]
["'459376'",1992,3,0.57999999999999996,60.5,44.6,28.6,null,null,null,null,"1992-03-01"]
["'459376'",1992,4,0.34,62.9,47.6,32.299999999999997,null,null,null,null,"1992-04-01"]
["'459376'",1992,5,0,75.599999999999994,57.5,39.299999999999997,null,null,null,null,"1992-05-01"]
["'459376'",1992,6,3.33,83.2,67,50.7,null,null,null,null,"1992-06-01"]
["'459376'",1992,7,2.11,81.400000000000006,66.400000000000006,51.3,null,null,null,null,"1992-07-01"]
["'459376'",1992,8,0.88,84.8,66.7,48.6,null,null,null,null,"1992-08-01"]
["'459376'",1992,9,0.02,71.900000000000006,55.2,38.5,null,null,null,null,"1992-09-01"]
["'459376'",1992,10,0.62,62.2,47.5,32.700000000000003,null,null,null,null,"1992-10-01"]
["'459376'",1992,11,1.56,40.299999999999997,33.700000000000003,27,null,null,null,null,"1992-11-01"]
["'459376'",1992,12,2.25,24.8,16.5,8.1,null,null,null,null,"1992-12-01"]
["'459376'",1993,1,1.22,22.2,15.2,8.1,null,null,null,null,"1993-01-01",{"$f":"SUM($D832:$D834)","v":3.92},{"$f":"M833/M$1052","v":0.67813085651914218},{"$f":"AVERAGE($E832:$E834)","v":27.166666666666668},{"$f":"AVERAGE($F832:$F834)","v":18.933333333333334},{"$f":"AVERAGE($G832:$G834)","v":10.633333333333333},{"$f":"SUM($D835:$D837)","v":3.49},{"$f":"R833/R$1052","v":1.4018074881652565},{"$f":"AVERAGE($E835:$E837)","v":60.1},{"$f":"AVERAGE($F835:$F837)","v":46.699999999999996},{"$f":"AVERAGE($G835:$G837)","v":33.266666666666673},{"$f":"SUM($D838:$D840)","v":7},{"$f":"W833/W$1052","v":3.1560302721270981},{"$f":"AVERAGE($E838:$E840)","v":75.8},{"$f":"AVERAGE($F838:$F840)","v":61.6},{"$f":"AVERAGE($G838:$G840)","v":47.300000000000004},{"$f":"SUM($D841:$D843)","v":0.83000000000000007},{"$f":"AB833/AB$1052","v":0.24928489702517173},{"$f":"AVERAGE($E841:$E843)","v":61.566666666666663},{"$f":"AVERAGE($F841:$F843)","v":45.06666666666667},{"$f":"AVERAGE($G841:$G843)","v":28.566666666666663},{"$f":"SUM(D830:D841)","v":17.149999999999999},{"$f":"AG833/AG$1052","v":1.241329392605103},{"$f":"AVERAGE(E830:E841)","v":55.85},{"$f":"AVERAGE(F830:F841)","v":43.466666666666669},{"$f":"AVERAGE(G830:G841)","v":31.016666666666662},{"$f":"SUM(D830:D835)","v":6.3},{"$f":"AL833/AL$1052","v":0.6437972408689675},{"$f":"AVERAGE(E830:E835)","v":38.5},{"$f":"AVERAGE(F830:F835)","v":28.933333333333334},{"$f":"AVERAGE(G830:G835)","v":19.3}]
["'459376'",1993,2,0.45,34.5,25.1,15.7,null,null,null,null,"1993-02-01"]
["'459376'",1993,3,0.2,47,35.6,24.2,null,null,null,null,"1993-03-01"]
["'459376'",1993,4,2.34,57.1,44.9,32.700000000000003,null,null,null,null,"1993-04-01"]
["'459376'",1993,5,0.95,76.2,59.6,42.9,null,null,null,null,"1993-05-01"]
["'459376'",1993,6,2.78,73.2,59.4,45.5,null,null,null,null,"1993-06-01"]
["'459376'",1993,7,3.52,74.599999999999994,61.6,48.5,null,null,null,null,"1993-07-01"]
["'459376'",1993,8,0.7,79.599999999999994,63.8,47.9,null,null,null,null,"1993-08-01"]
["'459376'",1993,9,0.56000000000000005,78.5,58.7,38.9,null,null,null,null,"1993-09-01"]
["'459376'",1993,10,0.15,66.099999999999994,49.2,32.299999999999997,null,null,null,null,"1993-10-01"]
["'459376'",1993,11,0.12,40.1,27.3,14.5,null,null,null,null,"1993-11-01"]
["'459376'",1993,12,2.83,29,23.3,17.5,null,null,null,null,"1993-12-01"]
["'459376'",1994,1,1.07,33.200000000000003,25.7,18.100000000000001,null,null,null,null,"1994-01-01",{"$f":"SUM($D844:$D846)","v":5.5500000000000007},{"$f":"M845/M$1052","v":0.96010873818398967},{"$f":"AVERAGE($E844:$E846)","v":32.033333333333331},{"$f":"AVERAGE($F844:$F846)","v":25},{"$f":"AVERAGE($G844:$G846)","v":17.866666666666667},{"$f":"SUM($D847:$D849)","v":2.79},{"$f":"R845/R$1052","v":1.120642662458758},{"$f":"AVERAGE($E847:$E849)","v":63.766666666666673},{"$f":"AVERAGE($F847:$F849)","v":48.866666666666667},{"$f":"AVERAGE($G847:$G849)","v":33.93333333333333},{"$f":"SUM($D850:$D852)","v":1.6},{"$f":"W845/W$1052","v":0.72137834791476529},{"$f":"AVERAGE($E850:$E852)","v":82.533333333333331},{"$f":"AVERAGE($F850:$F852)","v":65.400000000000006},{"$f":"AVERAGE($G850:$G852)","v":48.166666666666664},{"$f":"SUM($D853:$D855)","v":6.15},{"$f":"AB845/AB$1052","v":1.8471109839816942},{"$f":"AVERAGE($E853:$E855)","v":58.033333333333339},{"$f":"AVERAGE($F853:$F855)","v":43.933333333333337},{"$f":"AVERAGE($G853:$G855)","v":29.799999999999997},{"$f":"SUM(D842:D853)","v":10.479999999999999},{"$f":"AG845/AG$1052","v":0.75854997285722914},{"$f":"AVERAGE(E842:E853)","v":60.175000000000004},{"$f":"AVERAGE(F842:F853)","v":46.316666666666663},{"$f":"AVERAGE(G842:G853)","v":32.391666666666673},{"$f":"SUM(D842:D847)","v":5.98},{"$f":"AL845/AL$1052","v":0.61109642863435332},{"$f":"AVERAGE(E842:E847)","v":42.916666666666664},{"$f":"AVERAGE(F842:F847)","v":31.933333333333334},{"$f":"AVERAGE(G842:G847)","v":20.883333333333336}]
["'459376'",1994,2,1.65,33.9,26,18,null,null,null,null,"1994-02-01"]
["'459376'",1994,3,0.16,55.2,40.1,24.9,null,null,null,null,"1994-03-01"]
["'459376'",1994,4,1.59,64.8,50.6,36.4,null,null,null,null,"1994-04-01"]
["'459376'",1994,5,1.04,71.3,55.9,40.5,null,null,null,null,"1994-05-01"]
["'459376'",1994,6,0.75,74.5,59.3,44,null,null,null,null,"1994-06-01"]
["'459376'",1994,7,0.2,88.2,70,51.7,null,null,null,null,"1994-07-01"]
["'459376'",1994,8,0.65,84.9,66.900000000000006,48.8,null,null,null,null,"1994-08-01"]
["'459376'",1994,9,0.27,80.900000000000006,61.5,42,null,null,null,null,"1994-09-01"]
["'459376'",1994,10,2.71,61.4,46.5,31.6,null,null,null,null,"1994-10-01"]
["'459376'",1994,11,3.17,31.8,23.8,15.8,null,null,null,null,"1994-11-01"]
["'459376'",1994,12,2.27,28.5,21.6,14.7,null,null,null,null,"1994-12-01"]
["'459376'",1995,1,4.43,28.6,21.3,13.9,null,null,null,null,"1995-01-01",{"$f":"SUM($D856:$D858)","v":8.17},{"$f":"M857/M$1052","v":1.4133492596330082},{"$f":"AVERAGE($E856:$E858)","v":32.300000000000004},{"$f":"AVERAGE($F856:$F858)","v":24.166666666666668},{"$f":"AVERAGE($G856:$G858)","v":16},{"$f":"SUM($D859:$D861)","v":5.05},{"$f":"R857/R$1052","v":2.0284033854540242},{"$f":"AVERAGE($E859:$E861)","v":59.79999999999999},{"$f":"AVERAGE($F859:$F861)","v":45.9},{"$f":"AVERAGE($G859:$G861)","v":31.933333333333334},{"$f":"SUM($D862:$D864)","v":1.66},{"$f":"W857/W$1052","v":0.74843003596156887},{"$f":"AVERAGE($E862:$E864)","v":78.866666666666674},{"$f":"AVERAGE($F862:$F864)","v":63.033333333333331},{"$f":"AVERAGE($G862:$G864)","v":47.166666666666664},{"$f":"SUM($D865:$D867)","v":5.42},{"$f":"AB857/AB$1052","v":1.6278604118993141},{"$f":"AVERAGE($E865:$E867)","v":58.933333333333337},{"$f":"AVERAGE($F865:$F867)","v":45.766666666666673},{"$f":"AVERAGE($G865:$G867)","v":32.533333333333331},{"$f":"SUM(D854:D865)","v":20.900000000000002},{"$f":"AG857/AG$1052","v":1.5127571023584057},{"$f":"AVERAGE(E854:E865)","v":57.125},{"$f":"AVERAGE(F854:F865)","v":44.208333333333336},{"$f":"AVERAGE(G854:G865)","v":31.258333333333329},{"$f":"SUM(D854:D859)","v":17.53},{"$f":"AL857/AL$1052","v":1.7913913702274604},{"$f":"AVERAGE(E854:E859)","v":39.516666666666673},{"$f":"AVERAGE(F854:F859)","v":29.650000000000002},{"$f":"AVERAGE(G854:G859)","v":19.766666666666669}]
["'459376'",1995,2,1.47,39.799999999999997,29.6,19.399999999999999,null,null,null,null,"1995-02-01"]
["'459376'",1995,3,3.48,47,35.1,23.2,null,null,null,null,"1995-03-01"]
["'459376'",1995,4,0.64,59.1,45.5,31.8,null,null,null,null,"1995-04-01"]
["'459376'",1995,5,0.93,73.3,57.1,40.799999999999997,null,null,null,null,"1995-05-01"]
["'459376'",1995,6,1.07,75.3,60.5,45.7,null,null,null,null,"1995-06-01"]
["'459376'",1995,7,0.15,83.5,67.5,51.5,null,null,null,null,"1995-07-01"]
["'459376'",1995,8,0.44,77.8,61.1,44.3,null,null,null,null,"1995-08-01"]
["'459376'",1995,9,0.14000000000000001,79.400000000000006,60.9,42.4,null,null,null,null,"1995-09-01"]
["'459376'",1995,10,0.89,57.7,44.2,30.6,null,null,null,null,"1995-10-01"]
["'459376'",1995,11,4.3899999999999997,39.700000000000003,32.200000000000003,24.6,null,null,null,null,"1995-11-01"]
["'459376'",1995,12,2.66,29.2,23.5,17.7,null,null,null,null,"1995-12-01"]
["'459376'",1996,1,1.98,25.1,18.3,11.5,null,null,null,null,"1996-01-01",{"$f":"SUM($D868:$D870)","v":7.6300000000000008},{"$f":"M869/M$1052","v":1.3199332742961876},{"$f":"AVERAGE($E868:$E870)","v":29.333333333333332},{"$f":"AVERAGE($F868:$F870)","v":21.766666666666666},{"$f":"AVERAGE($G868:$G870)","v":14.166666666666666},{"$f":"SUM($D871:$D873)","v":2.4500000000000002},{"$f":"R869/R$1052","v":0.98407688997274456},{"$f":"AVERAGE($E871:$E873)","v":57.400000000000006},{"$f":"AVERAGE($F871:$F873)","v":44.5},{"$f":"AVERAGE($G871:$G873)","v":31.566666666666666},{"$f":"SUM($D874:$D876)","v":1.1500000000000001},{"$f":"W869/W$1052","v":0.51849068756373762},{"$f":"AVERAGE($E874:$E876)","v":81.933333333333337},{"$f":"AVERAGE($F874:$F876)","v":64.399999999999991},{"$f":"AVERAGE($G874:$G876)","v":46.866666666666674},{"$f":"SUM($D877:$D879)","v":4.1899999999999995},{"$f":"AB869/AB$1052","v":1.2584382151029752},{"$f":"AVERAGE($E877:$E879)","v":55.6},{"$f":"AVERAGE($F877:$F879)","v":43.433333333333337},{"$f":"AVERAGE($G877:$G879)","v":31.2},{"$f":"SUM(D866:D877)","v":17.380000000000003},{"$f":"AG869/AG$1052","v":1.2579769588033058},{"$f":"AVERAGE(E866:E877)","v":56.31666666666667},{"$f":"AVERAGE(F866:F877)","v":43.708333333333336},{"$f":"AVERAGE(G866:G877)","v":31.058333333333334},{"$f":"SUM(D866:D871)","v":13.22},{"$f":"AL869/AL$1052","v":1.3509523054425001},{"$f":"AVERAGE(E866:E871)","v":39.000000000000007},{"$f":"AVERAGE(F866:F871)","v":29.716666666666665},{"$f":"AVERAGE(G866:G871)","v":20.383333333333336}]
["'459376'",1996,2,2.99,33.700000000000003,23.5,13.3,null,null,null,null,"1996-02-01"]
["'459376'",1996,3,0.31,48.6,36.6,24.6,null,null,null,null,"1996-03-01"]
["'459376'",1996,4,0.81,59.7,46.4,33.1,null,null,null,null,"1996-04-01"]
["'459376'",1996,5,1.33,63.9,50.5,37,null,null,null,null,"1996-05-01"]
["'459376'",1996,6,0.61,74.900000000000006,59.3,43.7,null,null,null,null,"1996-06-01"]
["'459376'",1996,7,0.51,86.2,67.7,49.2,null,null,null,null,"1996-07-01"]
["'459376'",1996,8,0.03,84.7,66.2,47.7,null,null,null,null,"1996-08-01"]
["'459376'",1996,9,0.87,72.400000000000006,56.1,39.700000000000003,null,null,null,null,"1996-09-01"]
["'459376'",1996,10,1.42,57.4,44.2,30.9,null,null,null,null,"1996-10-01"]
["'459376'",1996,11,1.9,37,30,23,null,null,null,null,"1996-11-01"]
["'459376'",1996,12,7.17,22.6,15.6,8.5,null,null,null,null,"1996-12-01"]
["'459376'",1997,1,2.3199999999999998,28.1,19.8,11.5,null,null,null,null,"1997-01-01",{"$f":"SUM($D880:$D882)","v":10.24},{"$f":"M881/M$1052","v":1.7714438700908204},{"$f":"AVERAGE($E880:$E882)","v":29.033333333333331},{"$f":"AVERAGE($F880:$F882)","v":20.2},{"$f":"AVERAGE($G880:$G882)","v":11.299999999999999},{"$f":"SUM($D883:$D885)","v":3.45},{"$f":"R881/R$1052","v":1.3857409266963137},{"$f":"AVERAGE($E883:$E885)","v":57.533333333333331},{"$f":"AVERAGE($F883:$F885)","v":44.9},{"$f":"AVERAGE($G883:$G885)","v":32.199999999999996},{"$f":"SUM($D886:$D888)","v":4.4099999999999993},{"$f":"W881/W$1052","v":1.9882990714400715},{"$f":"AVERAGE($E886:$E888)","v":79},{"$f":"AVERAGE($F886:$F888)","v":63.333333333333336},{"$f":"AVERAGE($G886:$G888)","v":47.566666666666663},{"$f":"SUM($D889:$D891)","v":4.45},{"$f":"AB881/AB$1052","v":1.3365274599542338},{"$f":"AVERAGE($E889:$E891)","v":58.9},{"$f":"AVERAGE($F889:$F891)","v":46.43333333333333},{"$f":"AVERAGE($G889:$G891)","v":33.966666666666669},{"$f":"SUM(D878:D889)","v":22.34},{"$f":"AG881/AG$1052","v":1.6169853429036736},{"$f":"AVERAGE(E878:E889)","v":55.558333333333337},{"$f":"AVERAGE(F878:F889)","v":43.241666666666667},{"$f":"AVERAGE(G878:G889)","v":30.858333333333334},{"$f":"SUM(D878:D883)","v":14.68},{"$f":"AL881/AL$1052","v":1.5001497612629273},{"$f":"AVERAGE(E878:E883)","v":37.75},{"$f":"AVERAGE(F878:F883)","v":28.283333333333331},{"$f":"AVERAGE(G878:G883)","v":18.750000000000004}]
["'459376'",1997,2,0.75,36.4,25.2,13.9,null,null,null,null,"1997-02-01"]
["'459376'",1997,3,1.1200000000000001,45,34.9,24.7,null,null,null,null,"1997-03-01"]
["'459376'",1997,4,0.69,56.6,44,31.3,null,null,null,null,"1997-04-01"]
["'459376'",1997,5,1.64,71,55.8,40.6,null,null,null,null,"1997-05-01"]
["'459376'",1997,6,2.8,72.5,58.6,44.6,null,null,null,null,"1997-06-01"]
["'459376'",1997,7,1.23,80.400000000000006,64.400000000000006,48.3,null,null,null,null,"1997-07-01"]
["'459376'",1997,8,0.38,84.1,67,49.8,null,null,null,null,"1997-08-01"]
["'459376'",1997,9,0.92,75.599999999999994,59.4,43.2,null,null,null,null,"1997-09-01"]
["'459376'",1997,10,2.48,56.9,44.3,31.7,null,null,null,null,"1997-10-01"]
["'459376'",1997,11,1.05,44.2,35.6,27,null,null,null,null,"1997-11-01"]
["'459376'",1997,12,0.81,31.4,24.4,17.399999999999999,null,null,null,null,"1997-12-01"]
["'459376'",1998,1,4.1900000000000004,29.3,22.7,16.100000000000001,null,null,null,null,"1998-01-01",{"$f":"SUM($D892:$D894)","v":7.2},{"$f":"M893/M$1052","v":1.2455464711576081},{"$f":"AVERAGE($E892:$E894)","v":33.800000000000004},{"$f":"AVERAGE($F892:$F894)","v":27.133333333333329},{"$f":"AVERAGE($G892:$G894)","v":20.433333333333334},{"$f":"SUM($D895:$D897)","v":5.2899999999999991},{"$f":"R893/R$1052","v":2.1248027542676806},{"$f":"AVERAGE($E895:$E897)","v":60.933333333333337},{"$f":"AVERAGE($F895:$F897)","v":47.800000000000004},{"$f":"AVERAGE($G895:$G897)","v":34.633333333333333},{"$f":"SUM($D898:$D900)","v":2.6799999999999997},{"$f":"W893/W$1052","v":1.2083087327572317},{"$f":"AVERAGE($E898:$E900)","v":83.86666666666666},{"$f":"AVERAGE($F898:$F900)","v":67.266666666666666},{"$f":"AVERAGE($G898:$G900)","v":50.6},{"$f":"SUM($D901:$D903)","v":3.2},{"$f":"AB893/AB$1052","v":0.96109839816933673},{"$f":"AVERAGE($E901:$E903)","v":62.599999999999994},{"$f":"AVERAGE($F901:$F903)","v":48.466666666666669},{"$f":"AVERAGE($G901:$G903)","v":34.300000000000004},{"$f":"SUM(D890:D901)","v":18.829999999999998},{"$f":"AG893/AG$1052","v":1.3629290065745825},{"$f":"AVERAGE(E890:E901)","v":59.958333333333336},{"$f":"AVERAGE(F890:F901)","v":47.433333333333337},{"$f":"AVERAGE(G890:G901)","v":34.875},{"$f":"SUM(D890:D895)","v":11.96},{"$f":"AL893/AL$1052","v":1.2221928572687066},{"$f":"AVERAGE(E890:E895)","v":42.266666666666666},{"$f":"AVERAGE(F890:F895)","v":33.433333333333337},{"$f":"AVERAGE(G890:G895)","v":24.583333333333332}]
["'459376'",1998,2,2.2000000000000002,40.700000000000003,34.299999999999997,27.8,null,null,null,null,"1998-02-01"]
["'459376'",1998,3,1.23,51.1,39.299999999999997,27.5,null,null,null,null,"1998-03-01"]
["'459376'",1998,4,1.49,60.4,46.6,32.799999999999997,null,null,null,null,"1998-04-01"]
["'459376'",1998,5,2.57,71.3,57.5,43.6,null,null,null,null,"1998-05-01"]
["'459376'",1998,6,1.47,75.8,61.5,47.1,null,null,null,null,"1998-06-01"]
["'459376'",1998,7,1.1599999999999999,87.8,71,54.2,null,null,null,null,"1998-07-01"]
["'459376'",1998,8,0.05,88,69.3,50.5,null,null,null,null,"1998-08-01"]
["'459376'",1998,9,0.13,82.6,62.7,42.8,null,null,null,null,"1998-09-01"]
["'459376'",1998,10,0.35,61.8,46.2,30.6,null,null,null,null,"1998-10-01"]
["'459376'",1998,11,2.72,43.4,36.5,29.5,null,null,null,null,"1998-11-01"]
["'459376'",1998,12,2.77,28.6,21.7,14.7,null,null,null,null,"1998-12-01"]
["'459376'",1999,1,1.93,33.1,26.3,19.5,null,null,null,null,"1999-01-01",{"$f":"SUM($D904:$D906)","v":7.43},{"$f":"M905/M$1052","v":1.285334761208476},{"$f":"AVERAGE($E904:$E906)","v":33.133333333333333},{"$f":"AVERAGE($F904:$F906)","v":25.633333333333336},{"$f":"AVERAGE($G904:$G906)","v":18.066666666666666},{"$f":"SUM($D907:$D909)","v":2.2200000000000002},{"$f":"R905/R$1052","v":0.89169416152632364},{"$f":"AVERAGE($E907:$E909)","v":57.933333333333337},{"$f":"AVERAGE($F907:$F909)","v":43.933333333333337},{"$f":"AVERAGE($G907:$G909)","v":29.866666666666664},{"$f":"SUM($D910:$D912)","v":2.0099999999999998},{"$f":"W905/W$1052","v":0.90623154956792373},{"$f":"AVERAGE($E910:$E912)","v":79.86666666666666},{"$f":"AVERAGE($F910:$F912)","v":63.966666666666669},{"$f":"AVERAGE($G910:$G912)","v":48},{"$f":"SUM($D913:$D915)","v":3.41},{"$f":"AB905/AB$1052","v":1.0241704805491996},{"$f":"AVERAGE($E913:$E915)","v":59.866666666666674},{"$f":"AVERAGE($F913:$F915)","v":46.29999999999999},{"$f":"AVERAGE($G913:$G915)","v":32.699999999999996},{"$f":"SUM(D902:D913)","v":14.820000000000002},{"$f":"AG905/AG$1052","v":1.0726823089450515},{"$f":"AVERAGE(E902:E913)","v":57.783333333333324},{"$f":"AVERAGE(F902:F913)","v":44.975000000000001},{"$f":"AVERAGE(G902:G913)","v":32.1},{"$f":"SUM(D902:D907)","v":12.120000000000001},{"$f":"AL905/AL$1052","v":1.2385432633860136},{"$f":"AVERAGE(E902:E907)","v":41.93333333333333},{"$f":"AVERAGE(F902:F907)","v":32.500000000000007},{"$f":"AVERAGE(G902:G907)","v":23.016666666666666}]
["'459376'",1999,2,2.73,37.700000000000003,28.9,20,null,null,null,null,"1999-02-01"]
["'459376'",1999,3,1.62,47,35.4,23.8,null,null,null,null,"1999-03-01"]
["'459376'",1999,4,0.05,61.2,45.4,29.5,null,null,null,null,"1999-04-01"]
["'459376'",1999,5,0.55000000000000004,65.599999999999994,51,36.299999999999997,null,null,null,null,"1999-05-01"]
["'459376'",1999,6,0.44,72.7,58.8,44.8,null,null,null,null,"1999-06-01"]
["'459376'",1999,7,0.43,82,64.900000000000006,47.7,null,null,null,null,"1999-07-01"]
["'459376'",1999,8,1.1399999999999999,84.9,68.2,51.5,null,null,null,null,"1999-08-01"]
["'459376'",1999,9,0.09,75.400000000000006,56.4,37.299999999999997,null,null,null,null,"1999-09-01"]
["'459376'",1999,10,0.67,59.9,44.3,28.7,null,null,null,null,"1999-10-01"]
["'459376'",1999,11,2.65,44.3,38.200000000000003,32.1,null,null,null,null,"1999-11-01"]
["'459376'",1999,12,1.64,34.200000000000003,28.6,23,null,null,null,null,"1999-12-01"]
["'459376'",2000,1,1.82,28.3,21.3,14.3,null,null,null,null,"2000-01-01",{"$f":"SUM($D916:$D918)","v":5.42},{"$f":"M917/M$1052","v":0.93761970467697719},{"$f":"AVERAGE($E916:$E918)","v":33.266666666666666},{"$f":"AVERAGE($F916:$F918)","v":26.066666666666666},{"$f":"AVERAGE($G916:$G918)","v":18.866666666666664},{"$f":"SUM($D919:$D921)","v":1.88},{"$f":"R917/R$1052","v":0.75512838904030999},{"$f":"AVERAGE($E919:$E921)","v":60.6},{"$f":"AVERAGE($F919:$F921)","v":47.066666666666663},{"$f":"AVERAGE($G919:$G921)","v":33.43333333333333},{"$f":"SUM($D922:$D924)","v":2.3600000000000003},{"$f":"W917/W$1052","v":1.0640330631742789},{"$f":"AVERAGE($E922:$E924)","v":80.733333333333334},{"$f":"AVERAGE($F922:$F924)","v":63.966666666666661},{"$f":"AVERAGE($G922:$G924)","v":47.166666666666664},{"$f":"SUM($D925:$D927)","v":2.29},{"$f":"AB917/AB$1052","v":0.68778604118993159},{"$f":"AVERAGE($E925:$E927)","v":56.666666666666664},{"$f":"AVERAGE($F925:$F927)","v":43.666666666666664},{"$f":"AVERAGE($G925:$G927)","v":30.633333333333336},{"$f":"SUM(D914:D925)","v":13.049999999999997},{"$f":"AG917/AG$1052","v":0.94456842994149226},{"$f":"AVERAGE(E914:E925)","v":58.483333333333327},{"$f":"AVERAGE(F914:F925)","v":45.9},{"$f":"AVERAGE(G914:G925)","v":33.274999999999999},{"$f":"SUM(D914:D919)","v":9.42},{"$f":"AL917/AL$1052","v":0.96263016015645608},{"$f":"AVERAGE(E914:E919)","v":42.31666666666667},{"$f":"AVERAGE(F914:F919)","v":33.300000000000004},{"$f":"AVERAGE(G914:G919)","v":24.266666666666666}]
["'459376'",2000,2,1.96,37.299999999999997,28.3,19.3,null,null,null,null,"2000-02-01"]
["'459376'",2000,3,0.68,49.9,39.1,28.2,null,null,null,null,"2000-03-01"]
["'459376'",2000,4,0.37,64.900000000000006,48.8,32.6,null,null,null,null,"2000-04-01"]
["'459376'",2000,5,0.83,67,53.3,39.5,null,null,null,null,"2000-05-01"]
["'459376'",2000,6,0.45,75.8,60.9,46,null,null,null,null,"2000-06-01"]
["'459376'",2000,7,1.87,82.4,65.2,47.9,null,null,null,null,"2000-07-01"]
["'459376'",2000,8,0.04,84,65.8,47.6,null,null,null,null,"2000-08-01"]
["'459376'",2000,9,7.0000000000000007E-2,73.8,57,40.1,null,null,null,null,"2000-09-01"]
["'459376'",2000,10,1.04,60.5,45.6,30.7,null,null,null,null,"2000-10-01"]
["'459376'",2000,11,1.18,35.700000000000003,28.4,21.1,null,null,null,null,"2000-11-01"]
["'459376'",2000,12,1.23,27.6,21.2,14.8,null,null,null,null,"2000-12-01"]
["'459376'",2001,1,0.49,31.6,25.1,18.5,null,null,null,null,"2001-01-01",{"$f":"SUM($D928:$D930)","v":2.4299999999999997},{"$f":"M929/M$1052","v":0.42037193401569267},{"$f":"AVERAGE($E928:$E930)","v":32},{"$f":"AVERAGE($F928:$F930)","v":24.133333333333336},{"$f":"AVERAGE($G928:$G930)","v":16.2},{"$f":"SUM($D931:$D933)","v":1.4700000000000002},{"$f":"R929/R$1052","v":0.59044613398364676},{"$f":"AVERAGE($E931:$E933)","v":61.533333333333331},{"$f":"AVERAGE($F931:$F933)","v":46.833333333333336},{"$f":"AVERAGE($G931:$G933)","v":32.06666666666667},{"$f":"SUM($D934:$D936)","v":1.6900000000000002},{"$f":"W929/W$1052","v":0.76195587998497083},{"$f":"AVERAGE($E934:$E936)","v":80.899999999999991},{"$f":"AVERAGE($F934:$F936)","v":64.833333333333329},{"$f":"AVERAGE($G934:$G936)","v":48.766666666666673},{"$f":"SUM($D937:$D939)","v":3.55},{"$f":"AB929/AB$1052","v":1.0662185354691078},{"$f":"AVERAGE($E937:$E939)","v":59.766666666666673},{"$f":"AVERAGE($F937:$F939)","v":46.866666666666674},{"$f":"AVERAGE($G937:$G939)","v":33.9},{"$f":"SUM(D926:D937)","v":8.3199999999999985},{"$f":"AG929/AG$1052","v":0.60220761203932693},{"$f":"AVERAGE(E926:E937)","v":58.108333333333327},{"$f":"AVERAGE(F926:F937)","v":45.15},{"$f":"AVERAGE(G926:G937)","v":32.15},{"$f":"SUM(D926:D931)","v":5.67},{"$f":"AL929/AL$1052","v":0.57941751678207076},{"$f":"AVERAGE(E926:E931)","v":40.949999999999996},{"$f":"AVERAGE(F926:F931)","v":31.083333333333332},{"$f":"AVERAGE(G926:G931)","v":21.166666666666668}]
["'459376'",2001,2,0.71,36.799999999999997,26.1,15.3,null,null,null,null,"2001-02-01"]
["'459376'",2001,3,1.02,53.5,40.1,26.6,null,null,null,null,"2001-03-01"]
["'459376'",2001,4,0.39,59,45.2,31.3,null,null,null,null,"2001-04-01"]
["'459376'",2001,5,0.06,72.099999999999994,55.2,38.299999999999997,null,null,null,null,"2001-05-01"]
["'459376'",2001,6,0.8,72.8,58.6,44.4,null,null,null,null,"2001-06-01"]
["'459376'",2001,7,0.55000000000000004,84.4,67.8,51.2,null,null,null,null,"2001-07-01"]
["'459376'",2001,8,0.34,85.5,68.099999999999994,50.7,null,null,null,null,"2001-08-01"]
["'459376'",2001,9,0.51,77.8,60.4,42.9,null,null,null,null,"2001-09-01"]
["'459376'",2001,10,0.62,57.3,44,30.6,null,null,null,null,"2001-10-01"]
["'459376'",2001,11,2.42,44.2,36.200000000000003,28.2,null,null,null,null,"2001-11-01"]
["'459376'",2001,12,2.39,29.4,23.6,17.8,null,null,null,null,"2001-12-01"]
["'459376'",2002,1,1.24,31.6,24.6,17.5,null,null,null,null,"2002-01-01",{"$f":"SUM($D940:$D942)","v":4.46},{"$f":"M941/M$1052","v":0.77154684185596278},{"$f":"AVERAGE($E940:$E942)","v":33.1},{"$f":"AVERAGE($F940:$F942)","v":25.333333333333332},{"$f":"AVERAGE($G940:$G942)","v":17.533333333333331},{"$f":"SUM($D943:$D945)","v":1.57},{"$f":"R941/R$1052","v":0.63061253765600356},{"$f":"AVERAGE($E943:$E945)","v":56.933333333333337},{"$f":"AVERAGE($F943:$F945)","v":43.866666666666667},{"$f":"AVERAGE($G943:$G945)","v":30.766666666666666},{"$f":"SUM($D946:$D948)","v":0.77},{"$f":"W941/W$1052","v":0.3471633299339808},{"$f":"AVERAGE($E946:$E948)","v":82.933333333333337},{"$f":"AVERAGE($F946:$F948)","v":65.63333333333334},{"$f":"AVERAGE($G946:$G948)","v":48.333333333333336},{"$f":"SUM($D949:$D951)","v":1.05},{"$f":"AB941/AB$1052","v":0.31536041189931363},{"$f":"AVERAGE($E949:$E951)","v":61.29999999999999},{"$f":"AVERAGE($F949:$F951)","v":46.133333333333326},{"$f":"AVERAGE($G949:$G951)","v":30.900000000000002},{"$f":"SUM(D938:D949)","v":9.8599999999999977},{"$f":"AG941/AG$1052","v":0.71367392484468306},{"$f":"AVERAGE(E938:E949)","v":57.958333333333336},{"$f":"AVERAGE(F938:F949)","v":45.20000000000001},{"$f":"AVERAGE(G938:G949)","v":32.416666666666664},{"$f":"SUM(D938:D943)","v":8.2899999999999991},{"$f":"AL941/AL$1052","v":0.84715541695297458},{"$f":"AVERAGE(E938:E943)","v":40.833333333333336},{"$f":"AVERAGE(F938:F943)","v":31.566666666666674},{"$f":"AVERAGE(G938:G943)","v":22.266666666666666}]
["'459376'",2002,2,0.83,38.299999999999997,27.8,17.3,null,null,null,null,"2002-02-01"]
["'459376'",2002,3,0.79,44.2,33.200000000000003,22.2,null,null,null,null,"2002-03-01"]
["'459376'",2002,4,0.12,60.7,46.5,32.299999999999997,null,null,null,null,"2002-04-01"]
["'459376'",2002,5,0.66,65.900000000000006,51.9,37.799999999999997,null,null,null,null,"2002-05-01"]
["'459376'",2002,6,0.16,79,62.5,46,null,null,null,null,"2002-06-01"]
["'459376'",2002,7,0.42,86,68.5,51,null,null,null,null,"2002-07-01"]
["'459376'",2002,8,0.19,83.8,65.900000000000006,48,null,null,null,null,"2002-08-01"]
["'459376'",2002,9,0.02,75.099999999999994,57.7,40.299999999999997,null,null,null,null,"2002-09-01"]
["'459376'",2002,10,0.15,64,45.4,26.7,null,null,null,null,"2002-10-01"]
["'459376'",2002,11,0.88,44.8,35.299999999999997,25.7,null,null,null,null,"2002-11-01"]
["'459376'",2002,12,4.3099999999999996,33,29.4,25.8,null,null,null,null,"2002-12-01"]
["'459376'",2003,1,2.85,31.9,25.7,19.399999999999999,null,null,null,null,"2003-01-01",{"$f":"SUM($D952:$D954)","v":7.67},{"$f":"M953/M$1052","v":1.3268529769137298},{"$f":"AVERAGE($E952:$E954)","v":35},{"$f":"AVERAGE($F952:$F954)","v":27.766666666666666},{"$f":"AVERAGE($G952:$G954)","v":20.466666666666669},{"$f":"SUM($D955:$D957)","v":3.67},{"$f":"R953/R$1052","v":1.4741070147754989},{"$f":"AVERAGE($E955:$E957)","v":58.9},{"$f":"AVERAGE($F955:$F957)","v":46.166666666666664},{"$f":"AVERAGE($G955:$G957)","v":33.366666666666667},{"$f":"SUM($D958:$D960)","v":0.11},{"$f":"W953/W$1052","v":4.9594761419140113E-2},{"$f":"AVERAGE($E958:$E960)","v":85.100000000000009},{"$f":"AVERAGE($F958:$F960)","v":67.333333333333329},{"$f":"AVERAGE($G958:$G960)","v":49.566666666666663},{"$f":"SUM($D961:$D963)","v":5.7200000000000006},{"$f":"AB953/AB$1052","v":1.7179633867276896},{"$f":"AVERAGE($E961:$E963)","v":59.9},{"$f":"AVERAGE($F961:$F963)","v":46.166666666666664},{"$f":"AVERAGE($G961:$G963)","v":32.366666666666667},{"$f":"SUM(D950:D961)","v":12.579999999999998},{"$f":"AG953/AG$1052","v":0.91054949031907839},{"$f":"AVERAGE(E950:E961)","v":60.341666666666669},{"$f":"AVERAGE(F950:F961)","v":47.058333333333337},{"$f":"AVERAGE(G950:G961)","v":33.716666666666669},{"$f":"SUM(D950:D955)","v":9.7299999999999986},{"$f":"AL953/AL$1052","v":0.99430907200873853},{"$f":"AVERAGE(E950:E955)","v":44.116666666666667},{"$f":"AVERAGE(F950:F955)","v":33.816666666666663},{"$f":"AVERAGE(G950:G955)","v":23.433333333333334}]
["'459376'",2003,2,0.51,40.1,28.2,16.2,null,null,null,null,"2003-02-01"]
["'459376'",2003,3,1.03,50.9,38.9,26.8,null,null,null,null,"2003-03-01"]
["'459376'",2003,4,2.56,58.6,46.5,34.4,null,null,null,null,"2003-04-01"]
["'459376'",2003,5,0.08,67.2,53.1,38.9,null,null,null,null,"2003-05-01"]
["'459376'",2003,6,0.01,79.7,63.4,47.1,null,null,null,null,"2003-06-01"]
["'459376'",2003,7,0,88.4,70.099999999999994,51.8,null,null,null,null,"2003-07-01"]
["'459376'",2003,8,0.1,87.2,68.5,49.8,null,null,null,null,"2003-08-01"]
["'459376'",2003,9,0.1,78.3,60.2,42,null,null,null,null,"2003-09-01"]
["'459376'",2003,10,3.13,64.099999999999994,49.7,35.299999999999997,null,null,null,null,"2003-10-01"]
["'459376'",2003,11,2.4900000000000002,37.299999999999997,28.6,19.8,null,null,null,null,"2003-11-01"]
["'459376'",2003,12,2.31,26.7,19.5,12.3,null,null,null,null,"2003-12-01"]
["'459376'",2004,1,0.72,28.3,22.4,16.5,null,null,null,null,"2004-01-01",{"$f":"SUM($D964:$D966)","v":4.1100000000000003},{"$f":"M965/M$1052","v":0.71099944395246806},{"$f":"AVERAGE($E964:$E966)","v":30.733333333333334},{"$f":"AVERAGE($F964:$F966)","v":23.433333333333334},{"$f":"AVERAGE($G964:$G966)","v":16.099999999999998},{"$f":"SUM($D967:$D969)","v":2.86},{"$f":"R965/R$1052","v":1.1487591450294077},{"$f":"AVERAGE($E967:$E969)","v":63.5},{"$f":"AVERAGE($F967:$F969)","v":48.4},{"$f":"AVERAGE($G967:$G969)","v":33.233333333333334},{"$f":"SUM($D970:$D972)","v":3.4699999999999998},{"$f":"W965/W$1052","v":1.564489292040147},{"$f":"AVERAGE($E970:$E972)","v":84.366666666666674},{"$f":"AVERAGE($F970:$F972)","v":67.5},{"$f":"AVERAGE($G970:$G972)","v":50.633333333333333},{"$f":"SUM($D973:$D975)","v":2.11},{"$f":"AB965/AB$1052","v":0.6337242562929063},{"$f":"AVERAGE($E973:$E975)","v":59.833333333333336},{"$f":"AVERAGE($F973:$F975)","v":45.933333333333337},{"$f":"AVERAGE($G973:$G975)","v":31.966666666666669},{"$f":"SUM(D962:D973)","v":16.18},{"$f":"AG965/AG$1052","v":1.1711200916822488},{"$f":"AVERAGE(E962:E973)","v":59.158333333333339},{"$f":"AVERAGE(F962:F973)","v":46.058333333333337},{"$f":"AVERAGE(G962:G973)","v":32.916666666666664},{"$f":"SUM(D962:D967)","v":10.82},{"$f":"AL965/AL$1052","v":1.1056962136828934},{"$f":"AVERAGE(E962:E967)","v":41.466666666666669},{"$f":"AVERAGE(F962:F967)","v":31.683333333333337},{"$f":"AVERAGE(G962:G967)","v":21.866666666666664}]
["'459376'",2004,2,1.08,37.200000000000003,28.4,19.5,null,null,null,null,"2004-02-01"]
["'459376'",2004,3,1.0900000000000001,55.2,41.5,27.8,null,null,null,null,"2004-03-01"]
["'459376'",2004,4,0.62,66.599999999999994,49.7,32.700000000000003,null,null,null,null,"2004-04-01"]
["'459376'",2004,5,1.1499999999999999,68.7,54,39.200000000000003,null,null,null,null,"2004-05-01"]
["'459376'",2004,6,1.48,79.7,63.2,46.7,null,null,null,null,"2004-06-01"]
["'459376'",2004,7,0.18,87.2,70,52.8,null,null,null,null,"2004-07-01"]
["'459376'",2004,8,1.81,86.2,69.3,52.4,null,null,null,null,"2004-08-01"]
["'459376'",2004,9,0.12,72.7,56.4,40,null,null,null,null,"2004-09-01"]
["'459376'",2004,10,1.57,63,47.4,31.7,null,null,null,null,"2004-10-01"]
["'459376'",2004,11,0.42,43.8,34,24.2,null,null,null,null,"2004-11-01"]
["'459376'",2004,12,2.15,33.700000000000003,27.4,21.1,null,null,null,null,"2004-12-01"]
["'459376'",2005,1,1.66,26.5,21.3,16.100000000000001,null,null,null,null,"2005-01-01",{"$f":"SUM($D976:$D978)","v":3.8199999999999994},{"$f":"M977/M$1052","v":0.6608315999752864},{"$f":"AVERAGE($E976:$E978)","v":35},{"$f":"AVERAGE($F976:$F978)","v":26.333333333333332},{"$f":"AVERAGE($G976:$G978)","v":17.633333333333336},{"$f":"SUM($D979:$D981)","v":2.4500000000000002},{"$f":"R977/R$1052","v":0.98407688997274456},{"$f":"AVERAGE($E979:$E981)","v":63.166666666666664},{"$f":"AVERAGE($F979:$F981)","v":48.866666666666674},{"$f":"AVERAGE($G979:$G981)","v":34.533333333333331},{"$f":"SUM($D982:$D984)","v":2.0299999999999998},{"$f":"W977/W$1052","v":0.9152487789168583},{"$f":"AVERAGE($E982:$E984)","v":82.13333333333334},{"$f":"AVERAGE($F982:$F984)","v":64.933333333333337},{"$f":"AVERAGE($G982:$G984)","v":47.70000000000001},{"$f":"SUM($D985:$D987)","v":3.2800000000000002},{"$f":"AB977/AB$1052","v":0.98512585812357023},{"$f":"AVERAGE($E985:$E987)","v":56.43333333333333},{"$f":"AVERAGE($F985:$F987)","v":44.400000000000006},{"$f":"AVERAGE($G985:$G987)","v":32.366666666666667},{"$f":"SUM(D974:D985)","v":10.6},{"$f":"AG977/AG$1052","v":0.76723565956933482},{"$f":"AVERAGE(E974:E985)","v":60.124999999999993},{"$f":"AVERAGE(F974:F985)","v":46.533333333333339},{"$f":"AVERAGE(G974:G985)","v":32.908333333333331},{"$f":"SUM(D974:D979)","v":6.59},{"$f":"AL977/AL$1052","v":0.67343235195658657},{"$f":"AVERAGE(E974:E979)","v":44.516666666666673},{"$f":"AVERAGE(F974:F979)","v":33.70000000000001},{"$f":"AVERAGE(G974:G979)","v":22.849999999999998}]
["'459376'",2005,2,0.01,44.8,30.3,15.7,null,null,null,null,"2005-02-01"]
["'459376'",2005,3,0.78,55.3,41.8,28.3,null,null,null,null,"2005-03-01"]
["'459376'",2005,4,0.52,62,47.6,33.200000000000003,null,null,null,null,"2005-04-01"]
["'459376'",2005,5,1.1499999999999999,72.2,57.2,42.1,null,null,null,null,"2005-05-01"]
["'459376'",2005,6,1.53,74.7,60.2,45.7,null,null,null,null,"2005-06-01"]
["'459376'",2005,7,0.19,84.4,66.8,49.2,null,null,null,null,"2005-07-01"]
["'459376'",2005,8,0.31,87.3,67.8,48.2,null,null,null,null,"2005-08-01"]
["'459376'",2005,9,0.31,73.8,56.6,39.4,null,null,null,null,"2005-09-01"]
["'459376'",2005,10,1.43,59.9,47.8,35.700000000000003,null,null,null,null,"2005-10-01"]
["'459376'",2005,11,1.54,35.6,28.8,22,null,null,null,null,"2005-11-01"]
["'459376'",2005,12,2.25,26.8,20.2,13.6,null,null,null,null,"2005-12-01"]
["'459376'",2006,1,3.98,33.4,27.4,21.4,null,null,null,null,"2006-01-01",{"$f":"SUM($D988:$D990)","v":8.15},{"$f":"M989/M$1052","v":1.409889408324237},{"$f":"AVERAGE($E988:$E990)","v":32.4},{"$f":"AVERAGE($F988:$F990)","v":24.366666666666664},{"$f":"AVERAGE($G988:$G990)","v":16.333333333333332},{"$f":"SUM($D991:$D993)","v":3.58},{"$f":"R989/R$1052","v":1.4379572514703776},{"$f":"AVERAGE($E991:$E993)","v":59.766666666666673},{"$f":"AVERAGE($F991:$F993)","v":46.199999999999996},{"$f":"AVERAGE($G991:$G993)","v":32.6},{"$f":"SUM($D994:$D996)","v":2.74},{"$f":"W989/W$1052","v":1.2353604208040356},{"$f":"AVERAGE($E994:$E996)","v":83.3},{"$f":"AVERAGE($F994:$F996)","v":66.36666666666666},{"$f":"AVERAGE($G994:$G996)","v":49.4},{"$f":"SUM($D997:$D999)","v":5.2600000000000007},{"$f":"AB989/AB$1052","v":1.5798054919908473},{"$f":"AVERAGE($E997:$E999)","v":59.066666666666663},{"$f":"AVERAGE($F997:$F999)","v":45.433333333333337},{"$f":"AVERAGE($G997:$G999)","v":31.733333333333331},{"$f":"SUM(D986:D997)","v":17.79},{"$f":"AG989/AG$1052","v":1.2876530550696668},{"$f":"AVERAGE(E986:E997)","v":58.291666666666664},{"$f":"AVERAGE(F986:F997)","v":45.574999999999996},{"$f":"AVERAGE(G986:G997)","v":32.833333333333336},{"$f":"SUM(D986:D991)","v":12.45},{"$f":"AL989/AL$1052","v":1.2722659760029595},{"$f":"AVERAGE(E986:E991)","v":40.1},{"$f":"AVERAGE(F986:F991)","v":31.083333333333332},{"$f":"AVERAGE(G986:G991)","v":22.049999999999997}]
["'459376'",2006,2,1.92,37,25.5,14,null,null,null,null,"2006-02-01"]
["'459376'",2006,3,1.33,47.9,36.799999999999997,25.6,null,null,null,null,"2006-03-01"]
["'459376'",2006,4,1.1399999999999999,60.7,47.3,33.9,null,null,null,null,"2006-04-01"]
["'459376'",2006,5,1.1100000000000001,70.7,54.5,38.299999999999997,null,null,null,null,"2006-05-01"]
["'459376'",2006,6,1.99,76.900000000000006,62.3,47.7,null,null,null,null,"2006-06-01"]
["'459376'",2006,7,0.75,88.8,70.900000000000006,53,null,null,null,null,"2006-07-01"]
["'459376'",2006,8,0,84.2,65.900000000000006,47.5,null,null,null,null,"2006-08-01"]
["'459376'",2006,9,0.35,77.599999999999994,59.5,41.3,null,null,null,null,"2006-09-01"]
["'459376'",2006,10,0.22,63.5,47.5,31.5,null,null,null,null,"2006-10-01"]
["'459376'",2006,11,4.6900000000000004,36.1,29.3,22.4,null,null,null,null,"2006-11-01"]
["'459376'",2006,12,3.85,27.5,20.8,14.1,null,null,null,null,"2006-12-01"]
["'459376'",2007,1,1.21,26.6,16.3,6,null,null,null,null,"2007-01-01",{"$f":"SUM($D1000:$D1002)","v":6.1400000000000006},{"$f":"M1001/M$1052","v":1.0621743517927382},{"$f":"AVERAGE($E1000:$E1002)","v":30.566666666666666},{"$f":"AVERAGE($F1000:$F1002)","v":22.333333333333332},{"$f":"AVERAGE($G1000:$G1002)","v":14.1},{"$f":"SUM($D1003:$D1005)","v":0.89999999999999991},{"$f":"R1001/R$1052","v":0.36149763305121219},{"$f":"AVERAGE($E1003:$E1005)","v":60.833333333333336},{"$f":"AVERAGE($F1003:$F1005)","v":46.666666666666664},{"$f":"AVERAGE($G1003:$G1005)","v":32.433333333333337},{"$f":"SUM($D1006:$D1008)","v":1.2100000000000002},{"$f":"W1001/W$1052","v":0.54554237561054131},{"$f":"AVERAGE($E1006:$E1008)","v":82.63333333333334},{"$f":"AVERAGE($F1006:$F1008)","v":65.833333333333329},{"$f":"AVERAGE($G1006:$G1008)","v":49.033333333333331},{"$f":"SUM($D1009:$D1011)","v":2.71},{"$f":"AB1001/AB$1052","v":0.81393020594965704},{"$f":"AVERAGE($E1009:$E1011)","v":57.866666666666674},{"$f":"AVERAGE($F1009:$F1011)","v":44.566666666666663},{"$f":"AVERAGE($G1009:$G1011)","v":31.2},{"$f":"SUM(D998:D1009)","v":13.649999999999999},{"$f":"AG1001/AG$1052","v":0.98799686350202076},{"$f":"AVERAGE(E998:E1009)","v":58.141666666666659},{"$f":"AVERAGE(F998:F1009)","v":44.983333333333327},{"$f":"AVERAGE(G998:G1009)","v":31.791666666666668},{"$f":"SUM(D998:D1003)","v":11.409999999999998},{"$f":"AL1001/AL$1052","v":1.1659883362404631},{"$f":"AVERAGE(E998:E1003)","v":40.216666666666661},{"$f":"AVERAGE(F998:F1003)","v":30.416666666666668},{"$f":"AVERAGE(G998:G1003)","v":20.599999999999998}]
["'459376'",2007,2,1.08,37.6,29.9,22.2,null,null,null,null,"2007-02-01"]
["'459376'",2007,3,0.36,50,38.700000000000003,27.4,null,null,null,null,"2007-03-01"]
["'459376'",2007,4,0.1,60.1,46,31.8,null,null,null,null,"2007-04-01"]
["'459376'",2007,5,0.44,72.400000000000006,55.3,38.1,null,null,null,null,"2007-05-01"]
["'459376'",2007,6,0.64,75.5,60.5,45.5,null,null,null,null,"2007-06-01"]
["'459376'",2007,7,0.48,89.3,71.7,54.1,null,null,null,null,"2007-07-01"]
["'459376'",2007,8,0.09,83.1,65.3,47.5,null,null,null,null,"2007-08-01"]
["'459376'",2007,9,0.49,76,58.5,40.9,null,null,null,null,"2007-09-01"]
["'459376'",2007,10,1.1499999999999999,57.9,44.5,31.1,null,null,null,null,"2007-10-01"]
["'459376'",2007,11,1.07,39.700000000000003,30.7,21.6,null,null,null,null,"2007-11-01"]
["'459376'",2007,12,3.96,26.4,18.5,10.5,null,null,null,null,"2007-12-01"]
["'459376'",2008,1,2.65,24.5,15,5.4,null,null,null,null,"2008-01-01",{"$f":"SUM($D1012:$D1014)","v":7.3599999999999994},{"$f":"M1013/M$1052","v":1.2732252816277772},{"$f":"AVERAGE($E1012:$E1014)","v":29.866666666666664},{"$f":"AVERAGE($F1012:$F1014)","v":20.366666666666667},{"$f":"AVERAGE($G1012:$G1014)","v":10.799999999999999},{"$f":"SUM($D1015:$D1017)","v":1.1499999999999999},{"$f":"R1013/R$1052","v":0.46191364223210452},{"$f":"AVERAGE($E1015:$E1017)","v":58.533333333333339},{"$f":"AVERAGE($F1015:$F1017)","v":45.366666666666674},{"$f":"AVERAGE($G1015:$G1017)","v":32.133333333333333},{"$f":"SUM($D1018:$D1020)","v":1.53},{"$f":"W1013/W$1052","v":0.68981804519349432},{"$f":"AVERAGE($E1018:$E1020)","v":81.399999999999991},{"$f":"AVERAGE($F1018:$F1020)","v":64.766666666666666},{"$f":"AVERAGE($G1018:$G1020)","v":48.1},{"$f":"SUM($D1021:$D1023)","v":3.87},{"$f":"AB1013/AB$1052","v":1.1623283752860416},{"$f":"AVERAGE($E1021:$E1023)","v":60.599999999999994},{"$f":"AVERAGE($F1021:$F1023)","v":46.6},{"$f":"AVERAGE($G1021:$G1023)","v":32.56666666666667},{"$f":"SUM(D1010:D1021)","v":12.34},{"$f":"AG1013/AG$1052","v":0.89317811689486715},{"$f":"AVERAGE(E1010:E1021)","v":56.925000000000004},{"$f":"AVERAGE(F1010:F1021)","v":43.641666666666673},{"$f":"AVERAGE(G1010:G1021)","v":30.308333333333334},{"$f":"SUM(D1010:D1015)","v":10},{"$f":"AL1013/AL$1052","v":1.0219003823316943},{"$f":"AVERAGE(E1010:E1015)","v":39.083333333333336},{"$f":"AVERAGE(F1010:F1015)","v":28.716666666666669},{"$f":"AVERAGE(G1010:G1015)","v":18.283333333333335}]
["'459376'",2008,2,0.75,38.700000000000003,27.6,16.5,null,null,null,null,"2008-02-01"]
["'459376'",2008,3,0.42,47.3,36,24.6,null,null,null,null,"2008-03-01"]
["'459376'",2008,4,0.2,55.6,42.4,29.2,null,null,null,null,"2008-04-01"]
["'459376'",2008,5,0.53,72.7,57.7,42.6,null,null,null,null,"2008-05-01"]
["'459376'",2008,6,0.97,75.2,60.2,45.2,null,null,null,null,"2008-06-01"]
["'459376'",2008,7,0.13,85.2,67.8,50.3,null,null,null,null,"2008-07-01"]
["'459376'",2008,8,0.43,83.8,66.3,48.8,null,null,null,null,"2008-08-01"]
["'459376'",2008,9,0.08,76.099999999999994,57,37.9,null,null,null,null,"2008-09-01"]
["'459376'",2008,10,1.24,61.3,46.4,31.5,null,null,null,null,"2008-10-01"]
["'459376'",2008,11,2.5499999999999998,44.4,36.4,28.3,null,null,null,null,"2008-11-01"]
["'459376'",2008,12,1.52,25.2,17.8,10.3,null,null,null,null,"2008-12-01"]
["'459376'",2009,1,2.08,26.3,17.899999999999999,9.4,null,null,null,null,"2009-01-01",{"$f":"SUM($D1024:$D1026)","v":4.03},{"$f":"M1025/M$1052","v":0.69716003871738341},{"$f":"AVERAGE($E1024:$E1026)","v":29.466666666666669},{"$f":"AVERAGE($F1024:$F1026)","v":20.666666666666668},{"$f":"AVERAGE($G1024:$G1026)","v":11.800000000000002},{"$f":"SUM($D1027:$D1029)","v":2.31},{"$f":"R1025/R$1052","v":0.92784392483144473},{"$f":"AVERAGE($E1027:$E1029)","v":58.933333333333337},{"$f":"AVERAGE($F1027:$F1029)","v":44.5},{"$f":"AVERAGE($G1027:$G1029)","v":30.033333333333331},{"$f":"SUM($D1030:$D1032)","v":1.65},{"$f":"W1025/W$1052","v":0.74392142128710159},{"$f":"AVERAGE($E1030:$E1032)","v":84.399999999999991},{"$f":"AVERAGE($F1030:$F1032)","v":66.966666666666654},{"$f":"AVERAGE($G1030:$G1032)","v":49.5},{"$f":"SUM($D1033:$D1035)","v":3.61},{"$f":"AB1025/AB$1052","v":1.0842391304347829},{"$f":"AVERAGE($E1033:$E1035)","v":59.233333333333327},{"$f":"AVERAGE($F1033:$F1035)","v":46.366666666666667},{"$f":"AVERAGE($G1033:$G1035)","v":33.466666666666669},{"$f":"SUM(D1022:D1033)","v":12.54},{"$f":"AG1025/AG$1052","v":0.90765426141504324},{"$f":"AVERAGE(E1022:E1033)","v":58.641666666666673},{"$f":"AVERAGE(F1022:F1033)","v":45.058333333333337},{"$f":"AVERAGE(G1022:G1033)","v":31.424999999999997},{"$f":"SUM(D1022:D1027)","v":8.9700000000000006},{"$f":"AL1025/AL$1052","v":0.91664464295152992},{"$f":"AVERAGE(E1022:E1027)","v":39.85},{"$f":"AVERAGE(F1022:F1027)","v":29.716666666666669},{"$f":"AVERAGE(G1022:G1027)","v":19.516666666666666}]
["'459376'",2009,2,0.43,36.9,26.3,15.7,null,null,null,null,"2009-02-01"]
["'459376'",2009,3,1.1499999999999999,45,33.5,21.9,null,null,null,null,"2009-03-01"]
["'459376'",2009,4,0.35,60.7,45.7,30.7,null,null,null,null,"2009-04-01"]
["'459376'",2009,5,0.81,71.099999999999994,54.3,37.5,null,null,null,null,"2009-05-01"]
["'459376'",2009,6,0.76,79.099999999999994,62.8,46.4,null,null,null,null,"2009-06-01"]
["'459376'",2009,7,0.69,88,69.599999999999994,51.2,null,null,null,null,"2009-07-01"]
["'459376'",2009,8,0.2,86.1,68.5,50.9,null,null,null,null,"2009-08-01"]
["'459376'",2009,9,0.76,79.599999999999994,61.5,43.3,null,null,null,null,"2009-09-01"]
["'459376'",2009,10,2.17,56.1,43.6,31.1,null,null,null,null,"2009-10-01"]
["'459376'",2009,11,0.68,42,34,26,null,null,null,null,"2009-11-01"]
["'459376'",2009,12,0.87,28,20,12,null,null,null,null,"2009-12-01"]
["'459376'",2010,1,3.06,34,28.7,23.3,null,null,null,null,"2010-01-01",{"$f":"SUM($D1036:$D1038)","v":5.73},{"$f":"M1037/M$1052","v":0.99124739996292988},{"$f":"AVERAGE($E1036:$E1038)","v":35.366666666666667},{"$f":"AVERAGE($F1036:$F1038)","v":27.933333333333337},{"$f":"AVERAGE($G1036:$G1038)","v":20.433333333333334},{"$f":"SUM($D1039:$D1041)","v":5.46},{"$f":"R1037/R$1052","v":2.1930856405106876},{"$f":"AVERAGE($E1039:$E1041)","v":58.733333333333327},{"$f":"AVERAGE($F1039:$F1041)","v":45.666666666666664},{"$f":"AVERAGE($G1039:$G1041)","v":32.5},{"$f":"SUM($D1042:$D1044)","v":3.19},{"$f":"W1037/W$1052","v":1.4382480811550633},{"$f":"AVERAGE($E1042:$E1044)","v":80.600000000000009},{"$f":"AVERAGE($F1042:$F1044)","v":63.866666666666674},{"$f":"AVERAGE($G1042:$G1044)","v":47.133333333333333},{"$f":"SUM($D1045:$D1047)","v":3.84},{"$f":"AB1037/AB$1052","v":1.1533180778032039},{"$f":"AVERAGE($E1045:$E1047)","v":58.266666666666673},{"$f":"AVERAGE($F1045:$F1047)","v":45.533333333333331},{"$f":"AVERAGE($G1045:$G1047)","v":32.766666666666666},{"$f":"SUM(D1034:D1045)","v":18.41},{"$f":"AG1037/AG$1052","v":1.3325291030822128},{"$f":"AVERAGE(E1034:E1045)","v":57.816666666666663},{"$f":"AVERAGE(F1034:F1045)","v":45.591666666666669},{"$f":"AVERAGE(G1034:G1045)","v":33.316666666666663},{"$f":"SUM(D1034:D1039)","v":9},{"$f":"AL1037/AL$1052","v":0.91971034409852492},{"$f":"AVERAGE(E1034:E1039)","v":42.93333333333333},{"$f":"AVERAGE(F1034:F1039)","v":33.633333333333333},{"$f":"AVERAGE(G1034:G1039)","v":24.283333333333331}]
["'459376'",2010,2,1.8,44.1,35.1,26,null,null,null,null,"2010-02-01"]
["'459376'",2010,3,0.42,53.4,40.4,27.3,null,null,null,null,"2010-03-01"]
["'459376'",2010,4,1.38,58.9,46.1,33.200000000000003,null,null,null,null,"2010-04-01"]
["'459376'",2010,5,3.66,63.9,50.5,37,null,null,null,null,"2010-05-01"]
["'459376'",2010,6,1.32,73.400000000000006,59.2,45,null,null,null,null,"2010-06-01"]
["'459376'",2010,7,0.18,85.5,67,48.5,null,null,null,null,"2010-07-01"]
["'459376'",2010,8,1.69,82.9,65.400000000000006,47.9,null,null,null,null,"2010-08-01"]
["'459376'",2010,9,1.18,71.599999999999994,57.1,42.5,null,null,null,null,"2010-09-01"]
["'459376'",2010,10,0.68,63.7,49.1,34.5,null,null,null,null,"2010-10-01"]
["'459376'",2010,11,1.98,39.5,30.4,21.3,null,null,null,null,"2010-11-01"]
["'459376'",2010,12,3.25,30.6,24.5,18.3,null,null,null,null,"2010-12-01"]
[]
[]
[]
[null,null,null,null,null,null,null,null,null,null,null,"averages",{"$f":"AVERAGE(M17:M1013)","v":5.7805952380952403},null,null,null,null,{"$f":"AVERAGE(R17:R1013)","v":2.4896428571428566},null,null,null,null,{"$f":"AVERAGE(W17:W1013)","v":2.2179761904761919},null,null,null,null,{"$f":"AVERAGE(AB17:AB1013)","v":3.3295238095238084},null,null,null,null,{"$f":"AVERAGE(AG17:AG1013)","v":13.81583333333333},null,null,null,null,{"$f":"AVERAGE(AL341:AL1025)","v":9.7856896551724173}]

{"sheet":"chart_titles","index":1,"n_rows":25,"n_cols":29,"rows_kept":25,"cut":false,"hidden":false,"merged":[]}
["Chart titles"]
["Mean and Distribution of Recent Monthly Precipitation 1981-2010 \n",{"$f":"A2&data!G1","v":"Mean and Distribution of Recent Monthly Precipitation 1981-2010 \nUSHCN STATION: WINTHROP 1 WSW, WA (459376)"},null,null,null,null,null,null,null,null,null,null,null,null,"Change in WY Pcp from 1981-2010  ",{"$f":"O2&data!BM$2&$V$2","v":"Change in WY Pcp from 1981-2010  -1.8%"},null,null,null,null,null,"%",null,"1981-2010 Mean Annual Total Pcp  ",null,null,{"$f":"ROUND(AVERAGE(data!BM61:BM90),1)","v":14.5}," in",{"$f":"X2&AA2&AB2","v":"1981-2010 Mean Annual Total Pcp  14.5 in"}]
["Mean and Distribution of Recent Monthly Temperatures 1981-2010\n",{"$f":"A3&data!G1","v":"Mean and Distribution of Recent Monthly Temperatures 1981-2010\nUSHCN STATION: WINTHROP 1 WSW, WA (459376)"},null,null,null,null,null,null,null,null,null,null,null,null,"Change in WY Max T from 1981-2010 \n ",{"$f":"O3&data!BO$2&$V$3","v":"Change in WY Max T from 1981-2010 \n 0.28˚F"},null,null,null,null,null,"˚F",null,"1981-2010 Mean Annual Temp  ",null,null,{"$f":"ROUND(AVERAGE(data!BP60:BP90),1)","v":45.1},"˚F",{"$f":"X3&AA3&AB3","v":"1981-2010 Mean Annual Temp  45.1˚F"}]
["Water Year Total Precipitation 1925-2010 \n",{"$f":"A4&data!G1","v":"Water Year Total Precipitation 1925-2010 \nUSHCN STATION: WINTHROP 1 WSW, WA (459376)"},null,null,null,null,null,null,null,null,null,null,null,null,"Change in WY Avg T from 1981-2010 \n ",{"$f":"O4&data!BP$2&$V$3","v":"Change in WY Avg T from 1981-2010 \n 1.14˚F"}]
["Water Year Temperature 1925-2010  \n",{"$f":"A5&data!G1","v":"Water Year Temperature 1925-2010  \nUSHCN STATION: WINTHROP 1 WSW, WA (459376)"},null,null,null,null,null,null,null,null,null,null,null,null,"Change in WY Min T from 1981-2010 \n ",{"$f":"O5&data!BQ$2&$V$3","v":"Change in WY Min T from 1981-2010 \n 2.03˚F"}]
["Oct-Mar Cool Season Precipitation 1925-2010 ",{"$f":"A6&data!G1","v":"Oct-Mar Cool Season Precipitation 1925-2010 USHCN STATION: WINTHROP 1 WSW, WA (459376)"},null,null,null,null,null,null,null,null,null,null,null,null,"Change in Oct-Mar Pcp from 1981-2010  ",{"$f":"O6&data!BR$2&$V$2","v":"Change in Oct-Mar Pcp from 1981-2010  2.9%"}]
["Oct-Mar Cool Season Temperature 1925-2010  \n",{"$f":"A7&data!G1","v":"Oct-Mar Cool Season Temperature 1925-2010  \nUSHCN STATION: WINTHROP 1 WSW, WA (459376)"},null,null,null,null,null,null,null,null,null,null,null,null,"Change in Oct-Mar Max T from 1981-2010 \n ",{"$f":"O7&data!BT$2&$V$3","v":"Change in Oct-Mar Max T from 1981-2010 \n 0.3˚F"}]
["Oct-Mar Total Precipitation v Southern Oscillation Index 1952-2010\n",{"$f":"A8&data!G1","v":"Oct-Mar Total Precipitation v Southern Oscillation Index 1952-2010\nUSHCN STATION: WINTHROP 1 WSW, WA (459376)"},null,null,null,null,null,null,null,null,null,null,null,null,"Change in Oct-Mar Avg T from 1981-2010 \n ",{"$f":"O8&data!BU$2&$V$3","v":"Change in Oct-Mar Avg T from 1981-2010 \n 1.06˚F"}]
["Oct-Mar Average Temperature v Southern Oscillation Index 1952-2010\n",{"$f":"A9&data!G1","v":"Oct-Mar Average Temperature v Southern Oscillation Index 1952-2010\nUSHCN STATION: WINTHROP 1 WSW, WA (459376)"},null,null,null,null,null,null,null,null,null,null,null,null,"Change in Oct-Mar Min T from 1981-2010 \n ",{"$f":"O9&data!BV$2&$V$3","v":"Change in Oct-Mar Min T from 1981-2010 \n 1.84˚F"}]
["Oct-Mar Total Precipitation v Pacific Decadal Oscillation 1952-2010\n",{"$f":"A10&data!G1","v":"Oct-Mar Total Precipitation v Pacific Decadal Oscillation 1952-2010\nUSHCN STATION: WINTHROP 1 WSW, WA (459376)"},null,null,null,null,null,null,null,null,null,null,null,null,"Change in Winter Pcp from 1981-2010  ",{"$f":"O10&data!AS$2&$V$2","v":"Change in Winter Pcp from 1981-2010  7.7%"}]
["Oct-Mar Average Temperature v Pacific Decadal Oscillation 1952-2010\n",{"$f":"A11&data!G1","v":"Oct-Mar Average Temperature v Pacific Decadal Oscillation 1952-2010\nUSHCN STATION: WINTHROP 1 WSW, WA (459376)"},null,null,null,null,null,null,null,null,null,null,null,null,"Change in Winter Max T 1981-2010 \n",{"$f":"O11&data!AU$2&$V$3","v":"Change in Winter Max T 1981-2010 \n1.52˚F"}]
["Winter (Dec-Feb) Total Precipitation 1925-2010 \n",{"$f":"A12&data!G1","v":"Winter (Dec-Feb) Total Precipitation 1925-2010 \nUSHCN STATION: WINTHROP 1 WSW, WA (459376)"},null,null,null,null,null,null,null,null,null,null,null,null,"Change in Winter Avg T 1981-2010 \n",{"$f":"O12&data!AV$2&$V$3","v":"Change in Winter Avg T 1981-2010 \n1.98˚F"}]
["Winter (Dec-Feb) Temperature 1925-2010  \n",{"$f":"A13&data!G1","v":"Winter (Dec-Feb) Temperature 1925-2010  \nUSHCN STATION: WINTHROP 1 WSW, WA (459376)"},null,null,null,null,null,null,null,null,null,null,null,null,"Change in Winter Min T 1981-2010 \n",{"$f":"O13&data!AW$2&$V$3","v":"Change in Winter Min T 1981-2010 \n2.46˚F"}]
["Spring (Mar-May) Total Precipitation 1925-2010 \n",{"$f":"A14&data!G1","v":"Spring (Mar-May) Total Precipitation 1925-2010 \nUSHCN STATION: WINTHROP 1 WSW, WA (459376)"},null,null,null,null,null,null,null,null,null,null,null,null,"Change in Spring Pcp from 1981-2010  ",{"$f":"O14&data!AX$2&$V$2","v":"Change in Spring Pcp from 1981-2010  -10.7%"}]
["Spring (Mar-May) Temperature 1925-2010  \n",{"$f":"A15&data!G1","v":"Spring (Mar-May) Temperature 1925-2010  \nUSHCN STATION: WINTHROP 1 WSW, WA (459376)"},null,null,null,null,null,null,null,null,null,null,null,null,"Change in Spring Max T 1981-2010 \n",{"$f":"O15&data!AZ$2&$V$3","v":"Change in Spring Max T 1981-2010 \n-1.44˚F"}]
["Summer (Jun-Aug) Total Precipitation 1925-2010 \n",{"$f":"A16&data!G1","v":"Summer (Jun-Aug) Total Precipitation 1925-2010 \nUSHCN STATION: WINTHROP 1 WSW, WA (459376)"},null,null,null,null,null,null,null,null,null,null,null,null,"Change in Spring Avg T 1981-2010 \n",{"$f":"O16&data!BA$2&$V$3","v":"Change in Spring Avg T 1981-2010 \n-0.27˚F"}]
["Summer (Jun-Aug) Temperature 1925-2010  \n",{"$f":"A17&data!G1","v":"Summer (Jun-Aug) Temperature 1925-2010  \nUSHCN STATION: WINTHROP 1 WSW, WA (459376)"},null,null,null,null,null,null,null,null,null,null,null,null,"Change in Spring Min T 1981-2010 \n",{"$f":"O17&data!BB$2&$V$3","v":"Change in Spring Min T 1981-2010 \n0.92˚F"}]
["Fall (Sep-Nov) Total Precipitation 1925-2010 \n",{"$f":"A18&data!G1","v":"Fall (Sep-Nov) Total Precipitation 1925-2010 \nUSHCN STATION: WINTHROP 1 WSW, WA (459376)"},null,null,null,null,null,null,null,null,null,null,null,null,"Change in Summer Pcp from 1981-2010  ",{"$f":"O18&data!BC$2&$V$2","v":"Change in Summer Pcp from 1981-2010  -18.3%"}]
["Fall (Sep-Nov) Temperature 1925-2010  \n",{"$f":"A19&data!G1","v":"Fall (Sep-Nov) Temperature 1925-2010  \nUSHCN STATION: WINTHROP 1 WSW, WA (459376)"},null,null,null,null,null,null,null,null,null,null,null,null,"Change in Summer Max T 1981-2010 \n",{"$f":"O19&data!BE$2&$V$3","v":"Change in Summer Max T 1981-2010 \n0.66˚F"}]
[null,null,null,null,null,null,null,null,null,null,null,null,null,null,"Change in Summer Avg T 1981-2010 \n",{"$f":"O20&data!BF$2&$V$3","v":"Change in Summer Avg T 1981-2010 \n1.41˚F"}]
[null,null,null,null,null,null,null,null,null,null,null,null,null,null,"Change in Summer Min T 1981-2010 \n",{"$f":"O21&data!BG$2&$V$3","v":"Change in Summer Min T 1981-2010 \n2.21˚F"}]
[null,null,null,null,null,null,null,null,null,null,null,null,null,null,"Change in Fall Pcp from 1981-2010  ",{"$f":"O22&data!BH$2&$V$2","v":"Change in Fall Pcp from 1981-2010  -7%"}]
[null,null,null,null,null,null,null,null,null,null,null,null,null,null,"Change in Fall Max T 1981-2010 \n",{"$f":"O23&data!BJ$2&$V$3","v":"Change in Fall Max T 1981-2010 \n0.8˚F"}]
[null,null,null,null,null,null,null,null,null,null,null,null,null,null,"Change in Fall Avg T 1981-2010 \n",{"$f":"O24&data!BK$2&$V$3","v":"Change in Fall Avg T 1981-2010 \n1.66˚F"}]
[null,null,null,null,null,null,null,null,null,null,null,null,null,null,"Change in Fall Min T 1981-2010 \n",{"$f":"O25&data!BL$2&$V$3","v":"Change in Fall Min T 1981-2010 \n2.52˚F"}]